BEGIN:VCALENDAR
VERSION:2.0
PRODID:-//Canad Inns - ECPv6.15.17.1//NONSGML v1.0//EN
CALSCALE:GREGORIAN
METHOD:PUBLISH
X-WR-CALNAME:Canad Inns
X-ORIGINAL-URL:https://www.canadinns.com
X-WR-CALDESC:Events for Canad Inns
REFRESH-INTERVAL;VALUE=DURATION:PT1H
X-Robots-Tag:noindex
X-PUBLISHED-TTL:PT1H
BEGIN:VTIMEZONE
TZID:America/Winnipeg
BEGIN:DAYLIGHT
TZOFFSETFROM:-0600
TZOFFSETTO:-0500
TZNAME:CDT
DTSTART:20240310T080000
END:DAYLIGHT
BEGIN:STANDARD
TZOFFSETFROM:-0500
TZOFFSETTO:-0600
TZNAME:CST
DTSTART:20241103T070000
END:STANDARD
BEGIN:DAYLIGHT
TZOFFSETFROM:-0600
TZOFFSETTO:-0500
TZNAME:CDT
DTSTART:20250309T080000
END:DAYLIGHT
BEGIN:STANDARD
TZOFFSETFROM:-0500
TZOFFSETTO:-0600
TZNAME:CST
DTSTART:20251102T070000
END:STANDARD
BEGIN:DAYLIGHT
TZOFFSETFROM:-0600
TZOFFSETTO:-0500
TZNAME:CDT
DTSTART:20260308T080000
END:DAYLIGHT
BEGIN:STANDARD
TZOFFSETFROM:-0500
TZOFFSETTO:-0600
TZNAME:CST
DTSTART:20261101T070000
END:STANDARD
END:VTIMEZONE
BEGIN:VEVENT
DTSTART;TZID=America/Winnipeg:20250518T080000
DTEND;TZID=America/Winnipeg:20250518T170000
DTSTAMP:20260425T080558
CREATED:20250131T165453Z
LAST-MODIFIED:20250501T162451Z
UID:10048152-1747555200-1747587600@www.canadinns.com
SUMMARY:🔴 Canad Inns Destination Centre - Canadvantage Members Only Room Promo
DESCRIPTION:Canadvantage Members Only Promo \nGet up to 25% off the best available rate. \nAvailable for stays booked from March 27th – May 31st 2025 at all Canad Inns Destination Centres\, excluding Canad Inns Destination Centre Health Science Centre. \nBook direct at canadinns.com to enjoy this special package!
URL:https://www.canadinns.com/event/%f0%9f%94%b4-canad-inns-destination-centre-canadvantage-members-only-room-promo/2025-05-18/
LOCATION:Canad Inns Destination Centres 🔴
ATTACH;FMTTYPE=image/jpeg:https://www.canadinns.com/wp-content/uploads/20607-CI-WebAds-Room-Promos-x6851x315p-Mar2025-2-004_Page_1-scaled.jpg
END:VEVENT
BEGIN:VEVENT
DTSTART;TZID=America/Winnipeg:20250517T080000
DTEND;TZID=America/Winnipeg:20250517T170000
DTSTAMP:20260425T080558
CREATED:20250501T160936Z
LAST-MODIFIED:20250501T161359Z
UID:10048021-1747468800-1747501200@www.canadinns.com
SUMMARY:🔴 Canad Inns Destination Centre - Stay & Dine Package ($40 Restaurant Credit) Room Promo
DESCRIPTION:Need a little break? Stay\, Dine & Unwind at Canad Inns! \nBook our Stay & Dine package between March 27th – May 31st\, 2025\, and enjoy a $40 Restaurant Credit. \nBook direct now at canadinns.com.
URL:https://www.canadinns.com/event/canad-inns-stay-dine-package-40-restaurant-credit-roompromo/2025-05-17/
LOCATION:Canad Inns Destination Centres 🔴
ATTACH;FMTTYPE=image/jpeg:https://www.canadinns.com/wp-content/uploads/2025-03-14-CI-RoomPromos-851x315p-FNL1-StayDine40-20671.jpg
END:VEVENT
BEGIN:VEVENT
DTSTART;TZID=America/Winnipeg:20250517T080000
DTEND;TZID=America/Winnipeg:20250517T170000
DTSTAMP:20260425T080558
CREATED:20250501T144144Z
LAST-MODIFIED:20250501T145535Z
UID:10047863-1747468800-1747501200@www.canadinns.com
SUMMARY:🔴 Canad Inns Destination Centre - Flash Sale Room Promo
DESCRIPTION:Flash Sale Alert!  \nSave up to 30% off our Best Available Rate at all Canad Inns Destination Centres (excluding Canad Inns Destination Centre Health Sciences Centre and Radisson Hotel Winnipeg Downtown) from May 1 – 31\, 2025. \nBook direct today at canadinns.com
URL:https://www.canadinns.com/event/canad-inns-flash-sale-room-promo/2025-05-17/
LOCATION:Canad Inns Destination Centres 🔴
ATTACH;FMTTYPE=image/jpeg:https://www.canadinns.com/wp-content/uploads/2025-04-30_CI-Room-Promo_Flash-Sale-Web-851x31520813-1.jpg
END:VEVENT
BEGIN:VEVENT
DTSTART;TZID=America/Winnipeg:20250517T080000
DTEND;TZID=America/Winnipeg:20250517T170000
DTSTAMP:20260425T080558
CREATED:20250131T171203Z
LAST-MODIFIED:20250501T163737Z
UID:10047959-1747468800-1747501200@www.canadinns.com
SUMMARY:🔴 Canad Inns Destination Centre - Plan Ahead and Save Big Room Promo
DESCRIPTION:✍️ Plan Ahead and Save Big at Canad Inns Promo💰 \nSave big and enjoy up to 25% OFF Best Available Rate with ADVANCE PURCHASE. \nAvailable for stays booked from March 27th – May 31th 2025 at all Canad Inns Destination Centres\, excluding Canad Inns Destination Centre Health Science Centre. \nBook direct at canadinns.com to enjoy this special package!
URL:https://www.canadinns.com/event/%f0%9f%94%b4-canad-inns-destination-centre-plan-ahead-and-save-big-room-promo/2025-05-17/
LOCATION:Canad Inns Destination Centres 🔴
ATTACH;FMTTYPE=image/jpeg:https://www.canadinns.com/wp-content/uploads/2025-03-14-CI-RoomPromos-851x315p-FNL1-SaveBig-20671.jpg
END:VEVENT
BEGIN:VEVENT
DTSTART;TZID=America/Winnipeg:20250517T080000
DTEND;TZID=America/Winnipeg:20250517T170000
DTSTAMP:20260425T080558
CREATED:20250131T170917Z
LAST-MODIFIED:20250501T161927Z
UID:10048086-1747468800-1747501200@www.canadinns.com
SUMMARY:🔴 Canad Inns Destination Centre - Exclusive Canadvantage Reward Members Room Promo
DESCRIPTION:Exclusive Canadvantage Reward Members Room Promo \nEnjoy 30% off Best Available Rate with ADVANCE purchase. \nAvailable for stays booked from March 27th – May 31st 2025 at all Canad Inns Destination Centres\, excluding Canad Inns Destination Centre Health Science Centre. \nBook direct at canadinns.com to enjoy this special package!
URL:https://www.canadinns.com/event/canad-inns-destination-centre-exclusive-canadvantage-reward-members-room-promo/2025-05-17/
LOCATION:Canad Inns Destination Centres 🔴
ATTACH;FMTTYPE=image/jpeg:https://www.canadinns.com/wp-content/uploads/20607-CI-WebAds-Room-Promos-x6851x315p-Mar2025-2-004_Page_2-scaled.jpg
END:VEVENT
BEGIN:VEVENT
DTSTART;TZID=America/Winnipeg:20250517T080000
DTEND;TZID=America/Winnipeg:20250517T170000
DTSTAMP:20260425T080558
CREATED:20250131T165453Z
LAST-MODIFIED:20250501T162451Z
UID:10048151-1747468800-1747501200@www.canadinns.com
SUMMARY:🔴 Canad Inns Destination Centre - Canadvantage Members Only Room Promo
DESCRIPTION:Canadvantage Members Only Promo \nGet up to 25% off the best available rate. \nAvailable for stays booked from March 27th – May 31st 2025 at all Canad Inns Destination Centres\, excluding Canad Inns Destination Centre Health Science Centre. \nBook direct at canadinns.com to enjoy this special package!
URL:https://www.canadinns.com/event/%f0%9f%94%b4-canad-inns-destination-centre-canadvantage-members-only-room-promo/2025-05-17/
LOCATION:Canad Inns Destination Centres 🔴
ATTACH;FMTTYPE=image/jpeg:https://www.canadinns.com/wp-content/uploads/20607-CI-WebAds-Room-Promos-x6851x315p-Mar2025-2-004_Page_1-scaled.jpg
END:VEVENT
BEGIN:VEVENT
DTSTART;TZID=America/Winnipeg:20250516T080000
DTEND;TZID=America/Winnipeg:20250516T170000
DTSTAMP:20260425T080558
CREATED:20250501T160936Z
LAST-MODIFIED:20250501T161359Z
UID:10048020-1747382400-1747414800@www.canadinns.com
SUMMARY:🔴 Canad Inns Destination Centre - Stay & Dine Package ($40 Restaurant Credit) Room Promo
DESCRIPTION:Need a little break? Stay\, Dine & Unwind at Canad Inns! \nBook our Stay & Dine package between March 27th – May 31st\, 2025\, and enjoy a $40 Restaurant Credit. \nBook direct now at canadinns.com.
URL:https://www.canadinns.com/event/canad-inns-stay-dine-package-40-restaurant-credit-roompromo/2025-05-16/
LOCATION:Canad Inns Destination Centres 🔴
ATTACH;FMTTYPE=image/jpeg:https://www.canadinns.com/wp-content/uploads/2025-03-14-CI-RoomPromos-851x315p-FNL1-StayDine40-20671.jpg
END:VEVENT
BEGIN:VEVENT
DTSTART;TZID=America/Winnipeg:20250516T080000
DTEND;TZID=America/Winnipeg:20250516T170000
DTSTAMP:20260425T080558
CREATED:20250501T144144Z
LAST-MODIFIED:20250501T145535Z
UID:10047862-1747382400-1747414800@www.canadinns.com
SUMMARY:🔴 Canad Inns Destination Centre - Flash Sale Room Promo
DESCRIPTION:Flash Sale Alert!  \nSave up to 30% off our Best Available Rate at all Canad Inns Destination Centres (excluding Canad Inns Destination Centre Health Sciences Centre and Radisson Hotel Winnipeg Downtown) from May 1 – 31\, 2025. \nBook direct today at canadinns.com
URL:https://www.canadinns.com/event/canad-inns-flash-sale-room-promo/2025-05-16/
LOCATION:Canad Inns Destination Centres 🔴
ATTACH;FMTTYPE=image/jpeg:https://www.canadinns.com/wp-content/uploads/2025-04-30_CI-Room-Promo_Flash-Sale-Web-851x31520813-1.jpg
END:VEVENT
BEGIN:VEVENT
DTSTART;TZID=America/Winnipeg:20250516T080000
DTEND;TZID=America/Winnipeg:20250516T170000
DTSTAMP:20260425T080558
CREATED:20250131T171203Z
LAST-MODIFIED:20250501T163737Z
UID:10047958-1747382400-1747414800@www.canadinns.com
SUMMARY:🔴 Canad Inns Destination Centre - Plan Ahead and Save Big Room Promo
DESCRIPTION:✍️ Plan Ahead and Save Big at Canad Inns Promo💰 \nSave big and enjoy up to 25% OFF Best Available Rate with ADVANCE PURCHASE. \nAvailable for stays booked from March 27th – May 31th 2025 at all Canad Inns Destination Centres\, excluding Canad Inns Destination Centre Health Science Centre. \nBook direct at canadinns.com to enjoy this special package!
URL:https://www.canadinns.com/event/%f0%9f%94%b4-canad-inns-destination-centre-plan-ahead-and-save-big-room-promo/2025-05-16/
LOCATION:Canad Inns Destination Centres 🔴
ATTACH;FMTTYPE=image/jpeg:https://www.canadinns.com/wp-content/uploads/2025-03-14-CI-RoomPromos-851x315p-FNL1-SaveBig-20671.jpg
END:VEVENT
BEGIN:VEVENT
DTSTART;TZID=America/Winnipeg:20250516T080000
DTEND;TZID=America/Winnipeg:20250516T170000
DTSTAMP:20260425T080558
CREATED:20250131T170917Z
LAST-MODIFIED:20250501T161927Z
UID:10048085-1747382400-1747414800@www.canadinns.com
SUMMARY:🔴 Canad Inns Destination Centre - Exclusive Canadvantage Reward Members Room Promo
DESCRIPTION:Exclusive Canadvantage Reward Members Room Promo \nEnjoy 30% off Best Available Rate with ADVANCE purchase. \nAvailable for stays booked from March 27th – May 31st 2025 at all Canad Inns Destination Centres\, excluding Canad Inns Destination Centre Health Science Centre. \nBook direct at canadinns.com to enjoy this special package!
URL:https://www.canadinns.com/event/canad-inns-destination-centre-exclusive-canadvantage-reward-members-room-promo/2025-05-16/
LOCATION:Canad Inns Destination Centres 🔴
ATTACH;FMTTYPE=image/jpeg:https://www.canadinns.com/wp-content/uploads/20607-CI-WebAds-Room-Promos-x6851x315p-Mar2025-2-004_Page_2-scaled.jpg
END:VEVENT
BEGIN:VEVENT
DTSTART;TZID=America/Winnipeg:20250516T080000
DTEND;TZID=America/Winnipeg:20250516T170000
DTSTAMP:20260425T080558
CREATED:20250131T165453Z
LAST-MODIFIED:20250501T162451Z
UID:10048150-1747382400-1747414800@www.canadinns.com
SUMMARY:🔴 Canad Inns Destination Centre - Canadvantage Members Only Room Promo
DESCRIPTION:Canadvantage Members Only Promo \nGet up to 25% off the best available rate. \nAvailable for stays booked from March 27th – May 31st 2025 at all Canad Inns Destination Centres\, excluding Canad Inns Destination Centre Health Science Centre. \nBook direct at canadinns.com to enjoy this special package!
URL:https://www.canadinns.com/event/%f0%9f%94%b4-canad-inns-destination-centre-canadvantage-members-only-room-promo/2025-05-16/
LOCATION:Canad Inns Destination Centres 🔴
ATTACH;FMTTYPE=image/jpeg:https://www.canadinns.com/wp-content/uploads/20607-CI-WebAds-Room-Promos-x6851x315p-Mar2025-2-004_Page_1-scaled.jpg
END:VEVENT
BEGIN:VEVENT
DTSTART;TZID=America/Winnipeg:20250515T080000
DTEND;TZID=America/Winnipeg:20250515T170000
DTSTAMP:20260425T080558
CREATED:20250501T160936Z
LAST-MODIFIED:20250501T161359Z
UID:10048019-1747296000-1747328400@www.canadinns.com
SUMMARY:🔴 Canad Inns Destination Centre - Stay & Dine Package ($40 Restaurant Credit) Room Promo
DESCRIPTION:Need a little break? Stay\, Dine & Unwind at Canad Inns! \nBook our Stay & Dine package between March 27th – May 31st\, 2025\, and enjoy a $40 Restaurant Credit. \nBook direct now at canadinns.com.
URL:https://www.canadinns.com/event/canad-inns-stay-dine-package-40-restaurant-credit-roompromo/2025-05-15/
LOCATION:Canad Inns Destination Centres 🔴
ATTACH;FMTTYPE=image/jpeg:https://www.canadinns.com/wp-content/uploads/2025-03-14-CI-RoomPromos-851x315p-FNL1-StayDine40-20671.jpg
END:VEVENT
BEGIN:VEVENT
DTSTART;TZID=America/Winnipeg:20250515T080000
DTEND;TZID=America/Winnipeg:20250515T170000
DTSTAMP:20260425T080558
CREATED:20250501T144144Z
LAST-MODIFIED:20250501T145535Z
UID:10047861-1747296000-1747328400@www.canadinns.com
SUMMARY:🔴 Canad Inns Destination Centre - Flash Sale Room Promo
DESCRIPTION:Flash Sale Alert!  \nSave up to 30% off our Best Available Rate at all Canad Inns Destination Centres (excluding Canad Inns Destination Centre Health Sciences Centre and Radisson Hotel Winnipeg Downtown) from May 1 – 31\, 2025. \nBook direct today at canadinns.com
URL:https://www.canadinns.com/event/canad-inns-flash-sale-room-promo/2025-05-15/
LOCATION:Canad Inns Destination Centres 🔴
ATTACH;FMTTYPE=image/jpeg:https://www.canadinns.com/wp-content/uploads/2025-04-30_CI-Room-Promo_Flash-Sale-Web-851x31520813-1.jpg
END:VEVENT
BEGIN:VEVENT
DTSTART;TZID=America/Winnipeg:20250515T080000
DTEND;TZID=America/Winnipeg:20250515T170000
DTSTAMP:20260425T080558
CREATED:20250131T171203Z
LAST-MODIFIED:20250501T163737Z
UID:10047957-1747296000-1747328400@www.canadinns.com
SUMMARY:🔴 Canad Inns Destination Centre - Plan Ahead and Save Big Room Promo
DESCRIPTION:✍️ Plan Ahead and Save Big at Canad Inns Promo💰 \nSave big and enjoy up to 25% OFF Best Available Rate with ADVANCE PURCHASE. \nAvailable for stays booked from March 27th – May 31th 2025 at all Canad Inns Destination Centres\, excluding Canad Inns Destination Centre Health Science Centre. \nBook direct at canadinns.com to enjoy this special package!
URL:https://www.canadinns.com/event/%f0%9f%94%b4-canad-inns-destination-centre-plan-ahead-and-save-big-room-promo/2025-05-15/
LOCATION:Canad Inns Destination Centres 🔴
ATTACH;FMTTYPE=image/jpeg:https://www.canadinns.com/wp-content/uploads/2025-03-14-CI-RoomPromos-851x315p-FNL1-SaveBig-20671.jpg
END:VEVENT
BEGIN:VEVENT
DTSTART;TZID=America/Winnipeg:20250515T080000
DTEND;TZID=America/Winnipeg:20250515T170000
DTSTAMP:20260425T080558
CREATED:20250131T170917Z
LAST-MODIFIED:20250501T161927Z
UID:10048084-1747296000-1747328400@www.canadinns.com
SUMMARY:🔴 Canad Inns Destination Centre - Exclusive Canadvantage Reward Members Room Promo
DESCRIPTION:Exclusive Canadvantage Reward Members Room Promo \nEnjoy 30% off Best Available Rate with ADVANCE purchase. \nAvailable for stays booked from March 27th – May 31st 2025 at all Canad Inns Destination Centres\, excluding Canad Inns Destination Centre Health Science Centre. \nBook direct at canadinns.com to enjoy this special package!
URL:https://www.canadinns.com/event/canad-inns-destination-centre-exclusive-canadvantage-reward-members-room-promo/2025-05-15/
LOCATION:Canad Inns Destination Centres 🔴
ATTACH;FMTTYPE=image/jpeg:https://www.canadinns.com/wp-content/uploads/20607-CI-WebAds-Room-Promos-x6851x315p-Mar2025-2-004_Page_2-scaled.jpg
END:VEVENT
BEGIN:VEVENT
DTSTART;TZID=America/Winnipeg:20250515T080000
DTEND;TZID=America/Winnipeg:20250515T170000
DTSTAMP:20260425T080558
CREATED:20250131T165453Z
LAST-MODIFIED:20250501T162451Z
UID:10048149-1747296000-1747328400@www.canadinns.com
SUMMARY:🔴 Canad Inns Destination Centre - Canadvantage Members Only Room Promo
DESCRIPTION:Canadvantage Members Only Promo \nGet up to 25% off the best available rate. \nAvailable for stays booked from March 27th – May 31st 2025 at all Canad Inns Destination Centres\, excluding Canad Inns Destination Centre Health Science Centre. \nBook direct at canadinns.com to enjoy this special package!
URL:https://www.canadinns.com/event/%f0%9f%94%b4-canad-inns-destination-centre-canadvantage-members-only-room-promo/2025-05-15/
LOCATION:Canad Inns Destination Centres 🔴
ATTACH;FMTTYPE=image/jpeg:https://www.canadinns.com/wp-content/uploads/20607-CI-WebAds-Room-Promos-x6851x315p-Mar2025-2-004_Page_1-scaled.jpg
END:VEVENT
BEGIN:VEVENT
DTSTART;TZID=America/Winnipeg:20250514T080000
DTEND;TZID=America/Winnipeg:20250514T170000
DTSTAMP:20260425T080558
CREATED:20250501T160936Z
LAST-MODIFIED:20250501T161359Z
UID:10048018-1747209600-1747242000@www.canadinns.com
SUMMARY:🔴 Canad Inns Destination Centre - Stay & Dine Package ($40 Restaurant Credit) Room Promo
DESCRIPTION:Need a little break? Stay\, Dine & Unwind at Canad Inns! \nBook our Stay & Dine package between March 27th – May 31st\, 2025\, and enjoy a $40 Restaurant Credit. \nBook direct now at canadinns.com.
URL:https://www.canadinns.com/event/canad-inns-stay-dine-package-40-restaurant-credit-roompromo/2025-05-14/
LOCATION:Canad Inns Destination Centres 🔴
ATTACH;FMTTYPE=image/jpeg:https://www.canadinns.com/wp-content/uploads/2025-03-14-CI-RoomPromos-851x315p-FNL1-StayDine40-20671.jpg
END:VEVENT
BEGIN:VEVENT
DTSTART;TZID=America/Winnipeg:20250514T080000
DTEND;TZID=America/Winnipeg:20250514T170000
DTSTAMP:20260425T080558
CREATED:20250501T144144Z
LAST-MODIFIED:20250501T145535Z
UID:10047860-1747209600-1747242000@www.canadinns.com
SUMMARY:🔴 Canad Inns Destination Centre - Flash Sale Room Promo
DESCRIPTION:Flash Sale Alert!  \nSave up to 30% off our Best Available Rate at all Canad Inns Destination Centres (excluding Canad Inns Destination Centre Health Sciences Centre and Radisson Hotel Winnipeg Downtown) from May 1 – 31\, 2025. \nBook direct today at canadinns.com
URL:https://www.canadinns.com/event/canad-inns-flash-sale-room-promo/2025-05-14/
LOCATION:Canad Inns Destination Centres 🔴
ATTACH;FMTTYPE=image/jpeg:https://www.canadinns.com/wp-content/uploads/2025-04-30_CI-Room-Promo_Flash-Sale-Web-851x31520813-1.jpg
END:VEVENT
BEGIN:VEVENT
DTSTART;TZID=America/Winnipeg:20250514T080000
DTEND;TZID=America/Winnipeg:20250514T170000
DTSTAMP:20260425T080558
CREATED:20250131T171203Z
LAST-MODIFIED:20250501T163737Z
UID:10047956-1747209600-1747242000@www.canadinns.com
SUMMARY:🔴 Canad Inns Destination Centre - Plan Ahead and Save Big Room Promo
DESCRIPTION:✍️ Plan Ahead and Save Big at Canad Inns Promo💰 \nSave big and enjoy up to 25% OFF Best Available Rate with ADVANCE PURCHASE. \nAvailable for stays booked from March 27th – May 31th 2025 at all Canad Inns Destination Centres\, excluding Canad Inns Destination Centre Health Science Centre. \nBook direct at canadinns.com to enjoy this special package!
URL:https://www.canadinns.com/event/%f0%9f%94%b4-canad-inns-destination-centre-plan-ahead-and-save-big-room-promo/2025-05-14/
LOCATION:Canad Inns Destination Centres 🔴
ATTACH;FMTTYPE=image/jpeg:https://www.canadinns.com/wp-content/uploads/2025-03-14-CI-RoomPromos-851x315p-FNL1-SaveBig-20671.jpg
END:VEVENT
BEGIN:VEVENT
DTSTART;TZID=America/Winnipeg:20250514T080000
DTEND;TZID=America/Winnipeg:20250514T170000
DTSTAMP:20260425T080558
CREATED:20250131T170917Z
LAST-MODIFIED:20250501T161927Z
UID:10048083-1747209600-1747242000@www.canadinns.com
SUMMARY:🔴 Canad Inns Destination Centre - Exclusive Canadvantage Reward Members Room Promo
DESCRIPTION:Exclusive Canadvantage Reward Members Room Promo \nEnjoy 30% off Best Available Rate with ADVANCE purchase. \nAvailable for stays booked from March 27th – May 31st 2025 at all Canad Inns Destination Centres\, excluding Canad Inns Destination Centre Health Science Centre. \nBook direct at canadinns.com to enjoy this special package!
URL:https://www.canadinns.com/event/canad-inns-destination-centre-exclusive-canadvantage-reward-members-room-promo/2025-05-14/
LOCATION:Canad Inns Destination Centres 🔴
ATTACH;FMTTYPE=image/jpeg:https://www.canadinns.com/wp-content/uploads/20607-CI-WebAds-Room-Promos-x6851x315p-Mar2025-2-004_Page_2-scaled.jpg
END:VEVENT
BEGIN:VEVENT
DTSTART;TZID=America/Winnipeg:20250514T080000
DTEND;TZID=America/Winnipeg:20250514T170000
DTSTAMP:20260425T080558
CREATED:20250131T165453Z
LAST-MODIFIED:20250501T162451Z
UID:10048148-1747209600-1747242000@www.canadinns.com
SUMMARY:🔴 Canad Inns Destination Centre - Canadvantage Members Only Room Promo
DESCRIPTION:Canadvantage Members Only Promo \nGet up to 25% off the best available rate. \nAvailable for stays booked from March 27th – May 31st 2025 at all Canad Inns Destination Centres\, excluding Canad Inns Destination Centre Health Science Centre. \nBook direct at canadinns.com to enjoy this special package!
URL:https://www.canadinns.com/event/%f0%9f%94%b4-canad-inns-destination-centre-canadvantage-members-only-room-promo/2025-05-14/
LOCATION:Canad Inns Destination Centres 🔴
ATTACH;FMTTYPE=image/jpeg:https://www.canadinns.com/wp-content/uploads/20607-CI-WebAds-Room-Promos-x6851x315p-Mar2025-2-004_Page_1-scaled.jpg
END:VEVENT
BEGIN:VEVENT
DTSTART;TZID=America/Winnipeg:20250513T080000
DTEND;TZID=America/Winnipeg:20250513T170000
DTSTAMP:20260425T080558
CREATED:20250501T160936Z
LAST-MODIFIED:20250501T161359Z
UID:10048017-1747123200-1747155600@www.canadinns.com
SUMMARY:🔴 Canad Inns Destination Centre - Stay & Dine Package ($40 Restaurant Credit) Room Promo
DESCRIPTION:Need a little break? Stay\, Dine & Unwind at Canad Inns! \nBook our Stay & Dine package between March 27th – May 31st\, 2025\, and enjoy a $40 Restaurant Credit. \nBook direct now at canadinns.com.
URL:https://www.canadinns.com/event/canad-inns-stay-dine-package-40-restaurant-credit-roompromo/2025-05-13/
LOCATION:Canad Inns Destination Centres 🔴
ATTACH;FMTTYPE=image/jpeg:https://www.canadinns.com/wp-content/uploads/2025-03-14-CI-RoomPromos-851x315p-FNL1-StayDine40-20671.jpg
END:VEVENT
BEGIN:VEVENT
DTSTART;TZID=America/Winnipeg:20250513T080000
DTEND;TZID=America/Winnipeg:20250513T170000
DTSTAMP:20260425T080558
CREATED:20250501T144144Z
LAST-MODIFIED:20250501T145535Z
UID:10047859-1747123200-1747155600@www.canadinns.com
SUMMARY:🔴 Canad Inns Destination Centre - Flash Sale Room Promo
DESCRIPTION:Flash Sale Alert!  \nSave up to 30% off our Best Available Rate at all Canad Inns Destination Centres (excluding Canad Inns Destination Centre Health Sciences Centre and Radisson Hotel Winnipeg Downtown) from May 1 – 31\, 2025. \nBook direct today at canadinns.com
URL:https://www.canadinns.com/event/canad-inns-flash-sale-room-promo/2025-05-13/
LOCATION:Canad Inns Destination Centres 🔴
ATTACH;FMTTYPE=image/jpeg:https://www.canadinns.com/wp-content/uploads/2025-04-30_CI-Room-Promo_Flash-Sale-Web-851x31520813-1.jpg
END:VEVENT
BEGIN:VEVENT
DTSTART;TZID=America/Winnipeg:20250513T080000
DTEND;TZID=America/Winnipeg:20250513T170000
DTSTAMP:20260425T080558
CREATED:20250131T171203Z
LAST-MODIFIED:20250501T163737Z
UID:10047955-1747123200-1747155600@www.canadinns.com
SUMMARY:🔴 Canad Inns Destination Centre - Plan Ahead and Save Big Room Promo
DESCRIPTION:✍️ Plan Ahead and Save Big at Canad Inns Promo💰 \nSave big and enjoy up to 25% OFF Best Available Rate with ADVANCE PURCHASE. \nAvailable for stays booked from March 27th – May 31th 2025 at all Canad Inns Destination Centres\, excluding Canad Inns Destination Centre Health Science Centre. \nBook direct at canadinns.com to enjoy this special package!
URL:https://www.canadinns.com/event/%f0%9f%94%b4-canad-inns-destination-centre-plan-ahead-and-save-big-room-promo/2025-05-13/
LOCATION:Canad Inns Destination Centres 🔴
ATTACH;FMTTYPE=image/jpeg:https://www.canadinns.com/wp-content/uploads/2025-03-14-CI-RoomPromos-851x315p-FNL1-SaveBig-20671.jpg
END:VEVENT
BEGIN:VEVENT
DTSTART;TZID=America/Winnipeg:20250513T080000
DTEND;TZID=America/Winnipeg:20250513T170000
DTSTAMP:20260425T080558
CREATED:20250131T170917Z
LAST-MODIFIED:20250501T161927Z
UID:10048082-1747123200-1747155600@www.canadinns.com
SUMMARY:🔴 Canad Inns Destination Centre - Exclusive Canadvantage Reward Members Room Promo
DESCRIPTION:Exclusive Canadvantage Reward Members Room Promo \nEnjoy 30% off Best Available Rate with ADVANCE purchase. \nAvailable for stays booked from March 27th – May 31st 2025 at all Canad Inns Destination Centres\, excluding Canad Inns Destination Centre Health Science Centre. \nBook direct at canadinns.com to enjoy this special package!
URL:https://www.canadinns.com/event/canad-inns-destination-centre-exclusive-canadvantage-reward-members-room-promo/2025-05-13/
LOCATION:Canad Inns Destination Centres 🔴
ATTACH;FMTTYPE=image/jpeg:https://www.canadinns.com/wp-content/uploads/20607-CI-WebAds-Room-Promos-x6851x315p-Mar2025-2-004_Page_2-scaled.jpg
END:VEVENT
BEGIN:VEVENT
DTSTART;TZID=America/Winnipeg:20250513T080000
DTEND;TZID=America/Winnipeg:20250513T170000
DTSTAMP:20260425T080558
CREATED:20250131T165453Z
LAST-MODIFIED:20250501T162451Z
UID:10048147-1747123200-1747155600@www.canadinns.com
SUMMARY:🔴 Canad Inns Destination Centre - Canadvantage Members Only Room Promo
DESCRIPTION:Canadvantage Members Only Promo \nGet up to 25% off the best available rate. \nAvailable for stays booked from March 27th – May 31st 2025 at all Canad Inns Destination Centres\, excluding Canad Inns Destination Centre Health Science Centre. \nBook direct at canadinns.com to enjoy this special package!
URL:https://www.canadinns.com/event/%f0%9f%94%b4-canad-inns-destination-centre-canadvantage-members-only-room-promo/2025-05-13/
LOCATION:Canad Inns Destination Centres 🔴
ATTACH;FMTTYPE=image/jpeg:https://www.canadinns.com/wp-content/uploads/20607-CI-WebAds-Room-Promos-x6851x315p-Mar2025-2-004_Page_1-scaled.jpg
END:VEVENT
BEGIN:VEVENT
DTSTART;TZID=America/Winnipeg:20250512T080000
DTEND;TZID=America/Winnipeg:20250512T170000
DTSTAMP:20260425T080558
CREATED:20250501T160936Z
LAST-MODIFIED:20250501T161359Z
UID:10048016-1747036800-1747069200@www.canadinns.com
SUMMARY:🔴 Canad Inns Destination Centre - Stay & Dine Package ($40 Restaurant Credit) Room Promo
DESCRIPTION:Need a little break? Stay\, Dine & Unwind at Canad Inns! \nBook our Stay & Dine package between March 27th – May 31st\, 2025\, and enjoy a $40 Restaurant Credit. \nBook direct now at canadinns.com.
URL:https://www.canadinns.com/event/canad-inns-stay-dine-package-40-restaurant-credit-roompromo/2025-05-12/
LOCATION:Canad Inns Destination Centres 🔴
ATTACH;FMTTYPE=image/jpeg:https://www.canadinns.com/wp-content/uploads/2025-03-14-CI-RoomPromos-851x315p-FNL1-StayDine40-20671.jpg
END:VEVENT
BEGIN:VEVENT
DTSTART;TZID=America/Winnipeg:20250512T080000
DTEND;TZID=America/Winnipeg:20250512T170000
DTSTAMP:20260425T080558
CREATED:20250501T144144Z
LAST-MODIFIED:20250501T145535Z
UID:10047858-1747036800-1747069200@www.canadinns.com
SUMMARY:🔴 Canad Inns Destination Centre - Flash Sale Room Promo
DESCRIPTION:Flash Sale Alert!  \nSave up to 30% off our Best Available Rate at all Canad Inns Destination Centres (excluding Canad Inns Destination Centre Health Sciences Centre and Radisson Hotel Winnipeg Downtown) from May 1 – 31\, 2025. \nBook direct today at canadinns.com
URL:https://www.canadinns.com/event/canad-inns-flash-sale-room-promo/2025-05-12/
LOCATION:Canad Inns Destination Centres 🔴
ATTACH;FMTTYPE=image/jpeg:https://www.canadinns.com/wp-content/uploads/2025-04-30_CI-Room-Promo_Flash-Sale-Web-851x31520813-1.jpg
END:VEVENT
BEGIN:VEVENT
DTSTART;TZID=America/Winnipeg:20250512T080000
DTEND;TZID=America/Winnipeg:20250512T170000
DTSTAMP:20260425T080558
CREATED:20250131T171203Z
LAST-MODIFIED:20250501T163737Z
UID:10047954-1747036800-1747069200@www.canadinns.com
SUMMARY:🔴 Canad Inns Destination Centre - Plan Ahead and Save Big Room Promo
DESCRIPTION:✍️ Plan Ahead and Save Big at Canad Inns Promo💰 \nSave big and enjoy up to 25% OFF Best Available Rate with ADVANCE PURCHASE. \nAvailable for stays booked from March 27th – May 31th 2025 at all Canad Inns Destination Centres\, excluding Canad Inns Destination Centre Health Science Centre. \nBook direct at canadinns.com to enjoy this special package!
URL:https://www.canadinns.com/event/%f0%9f%94%b4-canad-inns-destination-centre-plan-ahead-and-save-big-room-promo/2025-05-12/
LOCATION:Canad Inns Destination Centres 🔴
ATTACH;FMTTYPE=image/jpeg:https://www.canadinns.com/wp-content/uploads/2025-03-14-CI-RoomPromos-851x315p-FNL1-SaveBig-20671.jpg
END:VEVENT
BEGIN:VEVENT
DTSTART;TZID=America/Winnipeg:20250512T080000
DTEND;TZID=America/Winnipeg:20250512T170000
DTSTAMP:20260425T080558
CREATED:20250131T170917Z
LAST-MODIFIED:20250501T161927Z
UID:10048081-1747036800-1747069200@www.canadinns.com
SUMMARY:🔴 Canad Inns Destination Centre - Exclusive Canadvantage Reward Members Room Promo
DESCRIPTION:Exclusive Canadvantage Reward Members Room Promo \nEnjoy 30% off Best Available Rate with ADVANCE purchase. \nAvailable for stays booked from March 27th – May 31st 2025 at all Canad Inns Destination Centres\, excluding Canad Inns Destination Centre Health Science Centre. \nBook direct at canadinns.com to enjoy this special package!
URL:https://www.canadinns.com/event/canad-inns-destination-centre-exclusive-canadvantage-reward-members-room-promo/2025-05-12/
LOCATION:Canad Inns Destination Centres 🔴
ATTACH;FMTTYPE=image/jpeg:https://www.canadinns.com/wp-content/uploads/20607-CI-WebAds-Room-Promos-x6851x315p-Mar2025-2-004_Page_2-scaled.jpg
END:VEVENT
END:VCALENDAR