BEGIN:VCALENDAR
VERSION:2.0
PRODID:-//Canad Inns - ECPv6.15.17.1//NONSGML v1.0//EN
CALSCALE:GREGORIAN
METHOD:PUBLISH
X-ORIGINAL-URL:https://www.canadinns.com
X-WR-CALDESC:Events for Canad Inns
REFRESH-INTERVAL;VALUE=DURATION:PT1H
X-Robots-Tag:noindex
X-PUBLISHED-TTL:PT1H
BEGIN:VTIMEZONE
TZID:America/Winnipeg
BEGIN:DAYLIGHT
TZOFFSETFROM:-0600
TZOFFSETTO:-0500
TZNAME:CDT
DTSTART:20270314T080000
END:DAYLIGHT
BEGIN:STANDARD
TZOFFSETFROM:-0500
TZOFFSETTO:-0600
TZNAME:CST
DTSTART:20271107T070000
END:STANDARD
BEGIN:DAYLIGHT
TZOFFSETFROM:-0600
TZOFFSETTO:-0500
TZNAME:CDT
DTSTART:20280312T080000
END:DAYLIGHT
BEGIN:STANDARD
TZOFFSETFROM:-0500
TZOFFSETTO:-0600
TZNAME:CST
DTSTART:20281105T070000
END:STANDARD
BEGIN:DAYLIGHT
TZOFFSETFROM:-0600
TZOFFSETTO:-0500
TZNAME:CDT
DTSTART:20290311T080000
END:DAYLIGHT
BEGIN:STANDARD
TZOFFSETFROM:-0500
TZOFFSETTO:-0600
TZNAME:CST
DTSTART:20291104T070000
END:STANDARD
END:VTIMEZONE
BEGIN:VEVENT
DTSTART;TZID=America/Winnipeg:20280326T100000
DTEND;TZID=America/Winnipeg:20280326T140000
DTSTAMP:20260421T053318
CREATED:20250723T180825Z
LAST-MODIFIED:20250723T181457Z
UID:10049249-1837677600-1837692000@www.canadinns.com
SUMMARY:🟢 Aaltos Sunday Brunch Buffet
DESCRIPTION:Join us for a delightful Sunday Brunch Buffet. Featuring Chef-attended carvery\, made to order stations\, soup\, salad and so much more. \nVisit canadinns.com/aaltos for more information.
URL:https://www.canadinns.com/event/aaltos-sunday-brunch-buffet/2028-03-26/
LOCATION:Aaltos 🟢
ATTACH;FMTTYPE=image/jpeg:https://www.canadinns.com/wp-content/uploads/2025-04-09_CI-Aaltos-SundayBrunchPoster-20716-scaled-2.jpg
END:VEVENT
BEGIN:VEVENT
DTSTART;TZID=America/Winnipeg:20280326T100000
DTEND;TZID=America/Winnipeg:20280326T180000
DTSTAMP:20260421T053318
CREATED:20230327T120221Z
LAST-MODIFIED:20230327T120247Z
UID:10017537-1837677600-1837706400@www.canadinns.com
SUMMARY:🔵 Tavern United Daily Beverage Features - 2oz Canadian or Tequila Caesar
DESCRIPTION:
URL:https://www.canadinns.com/event/tavern-united-daily-beverage-features-2oz-canadian-or-tequila-caesar/2028-03-26/
LOCATION:Tavern United 🔵
CATEGORIES:TU Daily Deals
END:VEVENT
BEGIN:VEVENT
DTSTART;TZID=America/Winnipeg:20280326T100000
DTEND;TZID=America/Winnipeg:20280326T180000
DTSTAMP:20260421T053318
CREATED:20230327T122421Z
LAST-MODIFIED:20230327T122440Z
UID:10027973-1837677600-1837706400@www.canadinns.com
SUMMARY:🟠 Garbonzo’s Sports Pub Daily Beverage Features - Garbonzo’s Signature Caesar
DESCRIPTION:
URL:https://www.canadinns.com/event/garbonzos-sports-pub-daily-beverage-features-garbonzos-signature-caesar/2028-03-26/
LOCATION:Garbonzo’s 🟠
CATEGORIES:Garbonzo’s Daily Deals
END:VEVENT
BEGIN:VEVENT
DTSTART;TZID=America/Winnipeg:20280326T100000
DTEND;TZID=America/Winnipeg:20280326T180000
DTSTAMP:20260421T053318
CREATED:20240603T165315Z
LAST-MODIFIED:20240603T165315Z
UID:10032789-1837677600-1837706400@www.canadinns.com
SUMMARY:🟠 Garbonzo’s Sports Pub – Happier Hours Until 6pm
DESCRIPTION:
URL:https://www.canadinns.com/event/garbonzos-sports-pub-happier-hours-until-6pm/2028-03-26/
LOCATION:Garbonzo’s 🟠
CATEGORIES:Garbonzo’s Daily Deals
ATTACH;FMTTYPE=image/jpeg:https://www.canadinns.com/wp-content/uploads/2023-11-15_19087-CI-Garbonzos-Anti-Inflation-Happier-Hours-1080x1080-Nov2023-FNL.jpg
END:VEVENT
BEGIN:VEVENT
DTSTART;TZID=America/Winnipeg:20280326T100000
DTEND;TZID=America/Winnipeg:20280326T235900
DTSTAMP:20260421T053318
CREATED:20230327T121535Z
LAST-MODIFIED:20240603T153930Z
UID:10029854-1837677600-1837727940@www.canadinns.com
SUMMARY:🟠 Garbonzo’s Sports Pub – Saucy Sunday
DESCRIPTION:
URL:https://www.canadinns.com/event/garbonzos-sports-pub-saucy-sunday/2028-03-26/
LOCATION:Garbonzo’s 🟠
CATEGORIES:Garbonzo’s Daily Deals
ATTACH;FMTTYPE=image/jpeg:https://www.canadinns.com/wp-content/uploads/GSP_Meal-Deal_Sunday.jpg
END:VEVENT
BEGIN:VEVENT
DTSTART;TZID=America/Winnipeg:20280326T110000
DTEND;TZID=America/Winnipeg:20280326T110000
DTSTAMP:20260421T053318
CREATED:20240826T195528Z
LAST-MODIFIED:20240826T195910Z
UID:10040028-1837681200-1837681200@www.canadinns.com
SUMMARY:🟢 Aaltos Soup\, Salad and Dessert Bar
DESCRIPTION:Craving a fresh\, healthy and a delicious meal? Enjoy our Soup\, Salad and Dessert bar at Aaltos that includes three daily soups\, over 60-items salad bar and delicious desserts. It’s the perfect way to satisfy your cravings all for one meal!
URL:https://www.canadinns.com/event/%f0%9f%9f%a2-aaltos-soup-salad-and-dessert-bar/2028-03-26/
LOCATION:Aaltos 🟢
ATTACH;FMTTYPE=image/jpeg:https://www.canadinns.com/wp-content/uploads/2024-08-20-CI-Aaltos-Soup-Salad-and-Dessert-Buffet11x17-Sept3-2024-FNL2-19995-scaled.jpg
END:VEVENT
BEGIN:VEVENT
DTSTART;TZID=America/Winnipeg:20280326T170000
DTEND;TZID=America/Winnipeg:20280326T200000
DTSTAMP:20260421T053318
CREATED:20250723T181842Z
LAST-MODIFIED:20250723T182048Z
UID:10049510-1837702800-1837713600@www.canadinns.com
SUMMARY:🟢 Aaltos Classic Homestyle Sunday Dinner Buffet
DESCRIPTION:Dive into a world of comfort with Classic Homestyle Dinner Buffet. Includes our Soup\, Salad & Dessert Buffet! \nAvailable at:\nAaltos Fort Garry – 1824 Pembina Highway \nAaltos Polo Park – 1405 St. Matthews Avenue \nAaltos Club Regent Casino Hotel – 1415 Regent Avenue W. \n  \nVisit canadinns.com/aaltos for more information.
URL:https://www.canadinns.com/event/%f0%9f%9f%a2-aaltos-classic-homestyle-sunday-dinner-buffet/2028-03-26/
ATTACH;FMTTYPE=image/jpeg:https://www.canadinns.com/wp-content/uploads/2024-09-24-CI-Aaltos-Classic-Homestyle-Sunday11-x17-Sept2024-FNL-20105-scaled-2.jpg
END:VEVENT
BEGIN:VEVENT
DTSTART;TZID=America/Winnipeg:20280327T070000
DTEND;TZID=America/Winnipeg:20280327T103000
DTSTAMP:20260421T053318
CREATED:20260402T160402Z
LAST-MODIFIED:20260402T160402Z
UID:10051686-1837753200-1837765800@www.canadinns.com
SUMMARY:🟢 Aaltos - $5.99 Breakfast Special
DESCRIPTION:Aaltos $5.99 Breakfast Special\nKickstart your morning with Aaltos $5.99* Breakfast with a beverage purchase! Choose between a Classic Breakfast or Pancake Breakfast! \n📅 Weekdays until 10:30AM | Dine-in only Limited time offer. \n*Excludes holidays and not available at Aaltos Health Sciences Centre. \n\nVisit canadinns.com/aaltos for more info!
URL:https://www.canadinns.com/event/aaltos-5-99-breakfast-special/2028-03-27/
LOCATION:Aaltos 🟢
CATEGORIES:Aaltos Buffets
ATTACH;FMTTYPE=image/png:https://www.canadinns.com/wp-content/uploads/04-02-26-Aaltos-Breakfast-Special-IG-scaled.png
END:VEVENT
BEGIN:VEVENT
DTSTART;TZID=America/Winnipeg:20280327T100000
DTEND;TZID=America/Winnipeg:20280327T180000
DTSTAMP:20260421T053318
CREATED:20230327T115419Z
LAST-MODIFIED:20230327T115453Z
UID:10014399-1837764000-1837792800@www.canadinns.com
SUMMARY:🔵 Tavern United Daily Beverage Features - 14 oz Sangria
DESCRIPTION:
URL:https://www.canadinns.com/event/tavern-united-daily-beverage-features-14-oz-sangria/2028-03-27/
LOCATION:Tavern United 🔵
CATEGORIES:TU Daily Deals
END:VEVENT
BEGIN:VEVENT
DTSTART;TZID=America/Winnipeg:20280327T100000
DTEND;TZID=America/Winnipeg:20280327T180000
DTSTAMP:20260421T053318
CREATED:20230327T121909Z
LAST-MODIFIED:20230327T121952Z
UID:10024840-1837764000-1837792800@www.canadinns.com
SUMMARY:🟠 Garbonzo’s Sports Pub Daily Beverage Features - Royal Peach Tea
DESCRIPTION:
URL:https://www.canadinns.com/event/garbonzos-sports-pub-daily-beverage-features-royal-peach-tea/2028-03-27/
LOCATION:Garbonzo’s 🟠
CATEGORIES:Garbonzo’s Daily Deals
END:VEVENT
BEGIN:VEVENT
DTSTART;TZID=America/Winnipeg:20280327T100000
DTEND;TZID=America/Winnipeg:20280327T180000
DTSTAMP:20260421T053318
CREATED:20240603T165315Z
LAST-MODIFIED:20240603T165315Z
UID:10032790-1837764000-1837792800@www.canadinns.com
SUMMARY:🟠 Garbonzo’s Sports Pub – Happier Hours Until 6pm
DESCRIPTION:
URL:https://www.canadinns.com/event/garbonzos-sports-pub-happier-hours-until-6pm/2028-03-27/
LOCATION:Garbonzo’s 🟠
CATEGORIES:Garbonzo’s Daily Deals
ATTACH;FMTTYPE=image/jpeg:https://www.canadinns.com/wp-content/uploads/2023-11-15_19087-CI-Garbonzos-Anti-Inflation-Happier-Hours-1080x1080-Nov2023-FNL.jpg
END:VEVENT
BEGIN:VEVENT
DTSTART;TZID=America/Winnipeg:20280327T100000
DTEND;TZID=America/Winnipeg:20280327T235900
DTSTAMP:20260421T053318
CREATED:20230327T121014Z
LAST-MODIFIED:20240603T154122Z
UID:10030071-1837764000-1837814340@www.canadinns.com
SUMMARY:🟠 Garbonzo’s Sports Pub – Meal Deal Monday
DESCRIPTION:
URL:https://www.canadinns.com/event/garbonzos-sports-pub-meal-deal-monday/2028-03-27/
LOCATION:Garbonzo’s 🟠
CATEGORIES:Garbonzo’s Daily Deals
ATTACH;FMTTYPE=image/jpeg:https://www.canadinns.com/wp-content/uploads/GSP_Meal-Deal_Monday.jpg
END:VEVENT
BEGIN:VEVENT
DTSTART;TZID=America/Winnipeg:20280327T110000
DTEND;TZID=America/Winnipeg:20280327T110000
DTSTAMP:20260421T053318
CREATED:20240826T195528Z
LAST-MODIFIED:20240826T195910Z
UID:10040029-1837767600-1837767600@www.canadinns.com
SUMMARY:🟢 Aaltos Soup\, Salad and Dessert Bar
DESCRIPTION:Craving a fresh\, healthy and a delicious meal? Enjoy our Soup\, Salad and Dessert bar at Aaltos that includes three daily soups\, over 60-items salad bar and delicious desserts. It’s the perfect way to satisfy your cravings all for one meal!
URL:https://www.canadinns.com/event/%f0%9f%9f%a2-aaltos-soup-salad-and-dessert-bar/2028-03-27/
LOCATION:Aaltos 🟢
ATTACH;FMTTYPE=image/jpeg:https://www.canadinns.com/wp-content/uploads/2024-08-20-CI-Aaltos-Soup-Salad-and-Dessert-Buffet11x17-Sept3-2024-FNL2-19995-scaled.jpg
END:VEVENT
BEGIN:VEVENT
DTSTART;TZID=America/Winnipeg:20280328T070000
DTEND;TZID=America/Winnipeg:20280328T103000
DTSTAMP:20260421T053318
CREATED:20260402T160402Z
LAST-MODIFIED:20260402T160402Z
UID:10051687-1837839600-1837852200@www.canadinns.com
SUMMARY:🟢 Aaltos - $5.99 Breakfast Special
DESCRIPTION:Aaltos $5.99 Breakfast Special\nKickstart your morning with Aaltos $5.99* Breakfast with a beverage purchase! Choose between a Classic Breakfast or Pancake Breakfast! \n📅 Weekdays until 10:30AM | Dine-in only Limited time offer. \n*Excludes holidays and not available at Aaltos Health Sciences Centre. \n\nVisit canadinns.com/aaltos for more info!
URL:https://www.canadinns.com/event/aaltos-5-99-breakfast-special/2028-03-28/
LOCATION:Aaltos 🟢
CATEGORIES:Aaltos Buffets
ATTACH;FMTTYPE=image/png:https://www.canadinns.com/wp-content/uploads/04-02-26-Aaltos-Breakfast-Special-IG-scaled.png
END:VEVENT
BEGIN:VEVENT
DTSTART;TZID=America/Winnipeg:20280328T100000
DTEND;TZID=America/Winnipeg:20280328T180000
DTSTAMP:20260421T053318
CREATED:20240603T165315Z
LAST-MODIFIED:20240603T165315Z
UID:10032791-1837850400-1837879200@www.canadinns.com
SUMMARY:🟠 Garbonzo’s Sports Pub – Happier Hours Until 6pm
DESCRIPTION:
URL:https://www.canadinns.com/event/garbonzos-sports-pub-happier-hours-until-6pm/2028-03-28/
LOCATION:Garbonzo’s 🟠
CATEGORIES:Garbonzo’s Daily Deals
ATTACH;FMTTYPE=image/jpeg:https://www.canadinns.com/wp-content/uploads/2023-11-15_19087-CI-Garbonzos-Anti-Inflation-Happier-Hours-1080x1080-Nov2023-FNL.jpg
END:VEVENT
BEGIN:VEVENT
DTSTART;TZID=America/Winnipeg:20280328T100000
DTEND;TZID=America/Winnipeg:20280328T235900
DTSTAMP:20260421T053318
CREATED:20230327T121139Z
LAST-MODIFIED:20240603T154252Z
UID:10030287-1837850400-1837900740@www.canadinns.com
SUMMARY:🟠 Garbonzo’s Sports Pub – Two-Topping Tuesday
DESCRIPTION:
URL:https://www.canadinns.com/event/garbonzos-sports-pub-two-topping-tuesday/2028-03-28/
LOCATION:Garbonzo’s 🟠
CATEGORIES:Garbonzo’s Daily Deals
ATTACH;FMTTYPE=image/jpeg:https://www.canadinns.com/wp-content/uploads/GSP_Meal-Deal_Tuesday.jpg
END:VEVENT
BEGIN:VEVENT
DTSTART;TZID=America/Winnipeg:20280328T110000
DTEND;TZID=America/Winnipeg:20280328T110000
DTSTAMP:20260421T053318
CREATED:20240826T195528Z
LAST-MODIFIED:20240826T195910Z
UID:10040030-1837854000-1837854000@www.canadinns.com
SUMMARY:🟢 Aaltos Soup\, Salad and Dessert Bar
DESCRIPTION:Craving a fresh\, healthy and a delicious meal? Enjoy our Soup\, Salad and Dessert bar at Aaltos that includes three daily soups\, over 60-items salad bar and delicious desserts. It’s the perfect way to satisfy your cravings all for one meal!
URL:https://www.canadinns.com/event/%f0%9f%9f%a2-aaltos-soup-salad-and-dessert-bar/2028-03-28/
LOCATION:Aaltos 🟢
ATTACH;FMTTYPE=image/jpeg:https://www.canadinns.com/wp-content/uploads/2024-08-20-CI-Aaltos-Soup-Salad-and-Dessert-Buffet11x17-Sept3-2024-FNL2-19995-scaled.jpg
END:VEVENT
BEGIN:VEVENT
DTSTART;TZID=America/Winnipeg:20280329T070000
DTEND;TZID=America/Winnipeg:20280329T103000
DTSTAMP:20260421T053318
CREATED:20260402T160402Z
LAST-MODIFIED:20260402T160402Z
UID:10051688-1837926000-1837938600@www.canadinns.com
SUMMARY:🟢 Aaltos - $5.99 Breakfast Special
DESCRIPTION:Aaltos $5.99 Breakfast Special\nKickstart your morning with Aaltos $5.99* Breakfast with a beverage purchase! Choose between a Classic Breakfast or Pancake Breakfast! \n📅 Weekdays until 10:30AM | Dine-in only Limited time offer. \n*Excludes holidays and not available at Aaltos Health Sciences Centre. \n\nVisit canadinns.com/aaltos for more info!
URL:https://www.canadinns.com/event/aaltos-5-99-breakfast-special/2028-03-29/
LOCATION:Aaltos 🟢
CATEGORIES:Aaltos Buffets
ATTACH;FMTTYPE=image/png:https://www.canadinns.com/wp-content/uploads/04-02-26-Aaltos-Breakfast-Special-IG-scaled.png
END:VEVENT
BEGIN:VEVENT
DTSTART;TZID=America/Winnipeg:20280329T100000
DTEND;TZID=America/Winnipeg:20280329T180000
DTSTAMP:20260421T053318
CREATED:20230327T122135Z
LAST-MODIFIED:20240603T170150Z
UID:10033224-1837936800-1837965600@www.canadinns.com
SUMMARY:🟠 Garbonzo’s Sports Pub Daily Beverage Features - 14oz Glass Sangria
DESCRIPTION:
URL:https://www.canadinns.com/event/garbonzos-sports-pub-daily-beverage-features-14oz-glass-sangria/2028-03-29/
LOCATION:Garbonzo’s 🟠
CATEGORIES:Garbonzo’s Daily Deals
END:VEVENT
BEGIN:VEVENT
DTSTART;TZID=America/Winnipeg:20280329T100000
DTEND;TZID=America/Winnipeg:20280329T180000
DTSTAMP:20260421T053318
CREATED:20240603T165315Z
LAST-MODIFIED:20240603T165315Z
UID:10032792-1837936800-1837965600@www.canadinns.com
SUMMARY:🟠 Garbonzo’s Sports Pub – Happier Hours Until 6pm
DESCRIPTION:
URL:https://www.canadinns.com/event/garbonzos-sports-pub-happier-hours-until-6pm/2028-03-29/
LOCATION:Garbonzo’s 🟠
CATEGORIES:Garbonzo’s Daily Deals
ATTACH;FMTTYPE=image/jpeg:https://www.canadinns.com/wp-content/uploads/2023-11-15_19087-CI-Garbonzos-Anti-Inflation-Happier-Hours-1080x1080-Nov2023-FNL.jpg
END:VEVENT
BEGIN:VEVENT
DTSTART;TZID=America/Winnipeg:20280329T100000
DTEND;TZID=America/Winnipeg:20280329T235900
DTSTAMP:20260421T053318
CREATED:20240603T160207Z
LAST-MODIFIED:20240603T160207Z
UID:10030548-1837936800-1837987140@www.canadinns.com
SUMMARY:🟠 Garbonzo’s Sports Pub – BOGO Half Price Pasta
DESCRIPTION:
URL:https://www.canadinns.com/event/garbonzos-sports-pub-bogo-half-price-pasta/2028-03-29/
LOCATION:Garbonzo’s 🟠
CATEGORIES:Garbonzo’s Daily Deals
ATTACH;FMTTYPE=image/jpeg:https://www.canadinns.com/wp-content/uploads/GSP_Meal-Deal_Wednesday.jpg
END:VEVENT
BEGIN:VEVENT
DTSTART;TZID=America/Winnipeg:20280329T110000
DTEND;TZID=America/Winnipeg:20280329T110000
DTSTAMP:20260421T053318
CREATED:20240826T195528Z
LAST-MODIFIED:20240826T195910Z
UID:10040031-1837940400-1837940400@www.canadinns.com
SUMMARY:🟢 Aaltos Soup\, Salad and Dessert Bar
DESCRIPTION:Craving a fresh\, healthy and a delicious meal? Enjoy our Soup\, Salad and Dessert bar at Aaltos that includes three daily soups\, over 60-items salad bar and delicious desserts. It’s the perfect way to satisfy your cravings all for one meal!
URL:https://www.canadinns.com/event/%f0%9f%9f%a2-aaltos-soup-salad-and-dessert-bar/2028-03-29/
LOCATION:Aaltos 🟢
ATTACH;FMTTYPE=image/jpeg:https://www.canadinns.com/wp-content/uploads/2024-08-20-CI-Aaltos-Soup-Salad-and-Dessert-Buffet11x17-Sept3-2024-FNL2-19995-scaled.jpg
END:VEVENT
BEGIN:VEVENT
DTSTART;TZID=America/Winnipeg:20280330T070000
DTEND;TZID=America/Winnipeg:20280330T103000
DTSTAMP:20260421T053318
CREATED:20260402T160402Z
LAST-MODIFIED:20260402T160402Z
UID:10051689-1838012400-1838025000@www.canadinns.com
SUMMARY:🟢 Aaltos - $5.99 Breakfast Special
DESCRIPTION:Aaltos $5.99 Breakfast Special\nKickstart your morning with Aaltos $5.99* Breakfast with a beverage purchase! Choose between a Classic Breakfast or Pancake Breakfast! \n📅 Weekdays until 10:30AM | Dine-in only Limited time offer. \n*Excludes holidays and not available at Aaltos Health Sciences Centre. \n\nVisit canadinns.com/aaltos for more info!
URL:https://www.canadinns.com/event/aaltos-5-99-breakfast-special/2028-03-30/
LOCATION:Aaltos 🟢
CATEGORIES:Aaltos Buffets
ATTACH;FMTTYPE=image/png:https://www.canadinns.com/wp-content/uploads/04-02-26-Aaltos-Breakfast-Special-IG-scaled.png
END:VEVENT
BEGIN:VEVENT
DTSTART;TZID=America/Winnipeg:20280330T100000
DTEND;TZID=America/Winnipeg:20280330T180000
DTSTAMP:20260421T053318
CREATED:20240603T165315Z
LAST-MODIFIED:20240603T165315Z
UID:10032793-1838023200-1838052000@www.canadinns.com
SUMMARY:🟠 Garbonzo’s Sports Pub – Happier Hours Until 6pm
DESCRIPTION:
URL:https://www.canadinns.com/event/garbonzos-sports-pub-happier-hours-until-6pm/2028-03-30/
LOCATION:Garbonzo’s 🟠
CATEGORIES:Garbonzo’s Daily Deals
ATTACH;FMTTYPE=image/jpeg:https://www.canadinns.com/wp-content/uploads/2023-11-15_19087-CI-Garbonzos-Anti-Inflation-Happier-Hours-1080x1080-Nov2023-FNL.jpg
END:VEVENT
BEGIN:VEVENT
DTSTART;TZID=America/Winnipeg:20280330T100000
DTEND;TZID=America/Winnipeg:20280330T235900
DTSTAMP:20260421T053318
CREATED:20240603T164739Z
LAST-MODIFIED:20240603T164739Z
UID:10031334-1838023200-1838073540@www.canadinns.com
SUMMARY:🟠 Garbonzo’s Sports Pub – 2 for $25 Appys
DESCRIPTION:
URL:https://www.canadinns.com/event/garbonzos-sports-pub-2-for-25-appys/2028-03-30/
LOCATION:Garbonzo’s 🟠
CATEGORIES:Garbonzo’s Daily Deals
ATTACH;FMTTYPE=image/jpeg:https://www.canadinns.com/wp-content/uploads/GSP_Meal-Deal_Thursday.jpg
END:VEVENT
BEGIN:VEVENT
DTSTART;TZID=America/Winnipeg:20280330T110000
DTEND;TZID=America/Winnipeg:20280330T110000
DTSTAMP:20260421T053318
CREATED:20240826T195528Z
LAST-MODIFIED:20240826T195910Z
UID:10040032-1838026800-1838026800@www.canadinns.com
SUMMARY:🟢 Aaltos Soup\, Salad and Dessert Bar
DESCRIPTION:Craving a fresh\, healthy and a delicious meal? Enjoy our Soup\, Salad and Dessert bar at Aaltos that includes three daily soups\, over 60-items salad bar and delicious desserts. It’s the perfect way to satisfy your cravings all for one meal!
URL:https://www.canadinns.com/event/%f0%9f%9f%a2-aaltos-soup-salad-and-dessert-bar/2028-03-30/
LOCATION:Aaltos 🟢
ATTACH;FMTTYPE=image/jpeg:https://www.canadinns.com/wp-content/uploads/2024-08-20-CI-Aaltos-Soup-Salad-and-Dessert-Buffet11x17-Sept3-2024-FNL2-19995-scaled.jpg
END:VEVENT
BEGIN:VEVENT
DTSTART;TZID=America/Winnipeg:20280330T160000
DTEND;TZID=America/Winnipeg:20280330T210000
DTSTAMP:20260421T053318
CREATED:20240830T135832Z
LAST-MODIFIED:20240830T140245Z
UID:10042557-1838044800-1838062800@www.canadinns.com
SUMMARY:🟦Splasher's of The South Seas: Buy One Get One Free Thursdays
DESCRIPTION:🏊 Thursdays Just Got Better! 🏊 \nBring your family and friends and dive into our Buy One\, Get One Free deal every Thursday from 4pm-9pm! Buy one waterpark pass at regular price and get one at equal or lesser value free. \nEnjoy a full day of swimming\, splashing\, and unwinding at Splasher’s of The South Seas today.
URL:https://www.canadinns.com/event/%f0%9f%9f%a6splashers-of-the-south-seas-buy-one-get-one-thursdays/2028-03-30/
ATTACH;FMTTYPE=image/jpeg:https://www.canadinns.com/wp-content/uploads/2024-08-23-CI-GrandForksSplashersOfTheSouthSeasUpdates-IG1080x1080-Aug2024-FNL2-20023.jpg
END:VEVENT
BEGIN:VEVENT
DTSTART;TZID=America/Winnipeg:20280331T070000
DTEND;TZID=America/Winnipeg:20280331T103000
DTSTAMP:20260421T053318
CREATED:20260402T160402Z
LAST-MODIFIED:20260402T160402Z
UID:10051690-1838098800-1838111400@www.canadinns.com
SUMMARY:🟢 Aaltos - $5.99 Breakfast Special
DESCRIPTION:Aaltos $5.99 Breakfast Special\nKickstart your morning with Aaltos $5.99* Breakfast with a beverage purchase! Choose between a Classic Breakfast or Pancake Breakfast! \n📅 Weekdays until 10:30AM | Dine-in only Limited time offer. \n*Excludes holidays and not available at Aaltos Health Sciences Centre. \n\nVisit canadinns.com/aaltos for more info!
URL:https://www.canadinns.com/event/aaltos-5-99-breakfast-special/2028-03-31/
LOCATION:Aaltos 🟢
CATEGORIES:Aaltos Buffets
ATTACH;FMTTYPE=image/png:https://www.canadinns.com/wp-content/uploads/04-02-26-Aaltos-Breakfast-Special-IG-scaled.png
END:VEVENT
BEGIN:VEVENT
DTSTART;TZID=America/Winnipeg:20280331T100000
DTEND;TZID=America/Winnipeg:20280331T180000
DTSTAMP:20260421T053318
CREATED:20240603T165315Z
LAST-MODIFIED:20240603T165315Z
UID:10032794-1838109600-1838138400@www.canadinns.com
SUMMARY:🟠 Garbonzo’s Sports Pub – Happier Hours Until 6pm
DESCRIPTION:
URL:https://www.canadinns.com/event/garbonzos-sports-pub-happier-hours-until-6pm/2028-03-31/
LOCATION:Garbonzo’s 🟠
CATEGORIES:Garbonzo’s Daily Deals
ATTACH;FMTTYPE=image/jpeg:https://www.canadinns.com/wp-content/uploads/2023-11-15_19087-CI-Garbonzos-Anti-Inflation-Happier-Hours-1080x1080-Nov2023-FNL.jpg
END:VEVENT
BEGIN:VEVENT
DTSTART;TZID=America/Winnipeg:20280331T100000
DTEND;TZID=America/Winnipeg:20280331T235900
DTSTAMP:20260421T053318
CREATED:20240603T164350Z
LAST-MODIFIED:20240603T164350Z
UID:10031011-1838109600-1838159940@www.canadinns.com
SUMMARY:🟠 Garbonzo’s Sports Pub – Wings N' Things Weekend!
DESCRIPTION:
URL:https://www.canadinns.com/event/garbonzos-sports-pub-wings-n-things-weekend/2028-03-31/
LOCATION:Garbonzo’s 🟠
CATEGORIES:Garbonzo’s Daily Deals
ATTACH;FMTTYPE=image/jpeg:https://www.canadinns.com/wp-content/uploads/GSP_Meal-Deal_Weekend.jpg
END:VEVENT
END:VCALENDAR