BEGIN:VCALENDAR
VERSION:2.0
PRODID:-//Canad Inns - ECPv6.15.17.1//NONSGML v1.0//EN
CALSCALE:GREGORIAN
METHOD:PUBLISH
X-ORIGINAL-URL:https://www.canadinns.com
X-WR-CALDESC:Events for Canad Inns
REFRESH-INTERVAL;VALUE=DURATION:PT1H
X-Robots-Tag:noindex
X-PUBLISHED-TTL:PT1H
BEGIN:VTIMEZONE
TZID:America/Winnipeg
BEGIN:DAYLIGHT
TZOFFSETFROM:-0600
TZOFFSETTO:-0500
TZNAME:CDT
DTSTART:20250309T080000
END:DAYLIGHT
BEGIN:STANDARD
TZOFFSETFROM:-0500
TZOFFSETTO:-0600
TZNAME:CST
DTSTART:20251102T070000
END:STANDARD
BEGIN:DAYLIGHT
TZOFFSETFROM:-0600
TZOFFSETTO:-0500
TZNAME:CDT
DTSTART:20260308T080000
END:DAYLIGHT
BEGIN:STANDARD
TZOFFSETFROM:-0500
TZOFFSETTO:-0600
TZNAME:CST
DTSTART:20261101T070000
END:STANDARD
BEGIN:DAYLIGHT
TZOFFSETFROM:-0600
TZOFFSETTO:-0500
TZNAME:CDT
DTSTART:20270314T080000
END:DAYLIGHT
BEGIN:STANDARD
TZOFFSETFROM:-0500
TZOFFSETTO:-0600
TZNAME:CST
DTSTART:20271107T070000
END:STANDARD
END:VTIMEZONE
BEGIN:VEVENT
DTSTART;TZID=America/Winnipeg:20260528T100000
DTEND;TZID=America/Winnipeg:20260528T180000
DTSTAMP:20260421T204132
CREATED:20240603T165315Z
LAST-MODIFIED:20240603T165315Z
UID:10032121-1779962400-1779991200@www.canadinns.com
SUMMARY:🟠 Garbonzo’s Sports Pub – Happier Hours Until 6pm
DESCRIPTION:
URL:https://www.canadinns.com/event/garbonzos-sports-pub-happier-hours-until-6pm/2026-05-28/
LOCATION:Garbonzo’s 🟠
CATEGORIES:Garbonzo’s Daily Deals
ATTACH;FMTTYPE=image/jpeg:https://www.canadinns.com/wp-content/uploads/2023-11-15_19087-CI-Garbonzos-Anti-Inflation-Happier-Hours-1080x1080-Nov2023-FNL.jpg
END:VEVENT
BEGIN:VEVENT
DTSTART;TZID=America/Winnipeg:20260529T100000
DTEND;TZID=America/Winnipeg:20260529T180000
DTSTAMP:20260421T204132
CREATED:20240603T165315Z
LAST-MODIFIED:20240603T165315Z
UID:10032122-1780048800-1780077600@www.canadinns.com
SUMMARY:🟠 Garbonzo’s Sports Pub – Happier Hours Until 6pm
DESCRIPTION:
URL:https://www.canadinns.com/event/garbonzos-sports-pub-happier-hours-until-6pm/2026-05-29/
LOCATION:Garbonzo’s 🟠
CATEGORIES:Garbonzo’s Daily Deals
ATTACH;FMTTYPE=image/jpeg:https://www.canadinns.com/wp-content/uploads/2023-11-15_19087-CI-Garbonzos-Anti-Inflation-Happier-Hours-1080x1080-Nov2023-FNL.jpg
END:VEVENT
BEGIN:VEVENT
DTSTART;TZID=America/Winnipeg:20260530T100000
DTEND;TZID=America/Winnipeg:20260530T180000
DTSTAMP:20260421T204132
CREATED:20240603T165315Z
LAST-MODIFIED:20240603T165315Z
UID:10032123-1780135200-1780164000@www.canadinns.com
SUMMARY:🟠 Garbonzo’s Sports Pub – Happier Hours Until 6pm
DESCRIPTION:
URL:https://www.canadinns.com/event/garbonzos-sports-pub-happier-hours-until-6pm/2026-05-30/
LOCATION:Garbonzo’s 🟠
CATEGORIES:Garbonzo’s Daily Deals
ATTACH;FMTTYPE=image/jpeg:https://www.canadinns.com/wp-content/uploads/2023-11-15_19087-CI-Garbonzos-Anti-Inflation-Happier-Hours-1080x1080-Nov2023-FNL.jpg
END:VEVENT
BEGIN:VEVENT
DTSTART;TZID=America/Winnipeg:20260531T100000
DTEND;TZID=America/Winnipeg:20260531T180000
DTSTAMP:20260421T204132
CREATED:20240603T165315Z
LAST-MODIFIED:20240603T165315Z
UID:10032124-1780221600-1780250400@www.canadinns.com
SUMMARY:🟠 Garbonzo’s Sports Pub – Happier Hours Until 6pm
DESCRIPTION:
URL:https://www.canadinns.com/event/garbonzos-sports-pub-happier-hours-until-6pm/2026-05-31/
LOCATION:Garbonzo’s 🟠
CATEGORIES:Garbonzo’s Daily Deals
ATTACH;FMTTYPE=image/jpeg:https://www.canadinns.com/wp-content/uploads/2023-11-15_19087-CI-Garbonzos-Anti-Inflation-Happier-Hours-1080x1080-Nov2023-FNL.jpg
END:VEVENT
BEGIN:VEVENT
DTSTART;TZID=America/Winnipeg:20260601T100000
DTEND;TZID=America/Winnipeg:20260601T180000
DTSTAMP:20260421T204132
CREATED:20240603T165315Z
LAST-MODIFIED:20240603T165315Z
UID:10032125-1780308000-1780336800@www.canadinns.com
SUMMARY:🟠 Garbonzo’s Sports Pub – Happier Hours Until 6pm
DESCRIPTION:
URL:https://www.canadinns.com/event/garbonzos-sports-pub-happier-hours-until-6pm/2026-06-01/
LOCATION:Garbonzo’s 🟠
CATEGORIES:Garbonzo’s Daily Deals
ATTACH;FMTTYPE=image/jpeg:https://www.canadinns.com/wp-content/uploads/2023-11-15_19087-CI-Garbonzos-Anti-Inflation-Happier-Hours-1080x1080-Nov2023-FNL.jpg
END:VEVENT
BEGIN:VEVENT
DTSTART;TZID=America/Winnipeg:20260602T100000
DTEND;TZID=America/Winnipeg:20260602T180000
DTSTAMP:20260421T204132
CREATED:20240603T165315Z
LAST-MODIFIED:20240603T165315Z
UID:10032126-1780394400-1780423200@www.canadinns.com
SUMMARY:🟠 Garbonzo’s Sports Pub – Happier Hours Until 6pm
DESCRIPTION:
URL:https://www.canadinns.com/event/garbonzos-sports-pub-happier-hours-until-6pm/2026-06-02/
LOCATION:Garbonzo’s 🟠
CATEGORIES:Garbonzo’s Daily Deals
ATTACH;FMTTYPE=image/jpeg:https://www.canadinns.com/wp-content/uploads/2023-11-15_19087-CI-Garbonzos-Anti-Inflation-Happier-Hours-1080x1080-Nov2023-FNL.jpg
END:VEVENT
BEGIN:VEVENT
DTSTART;TZID=America/Winnipeg:20260603T100000
DTEND;TZID=America/Winnipeg:20260603T180000
DTSTAMP:20260421T204132
CREATED:20240603T165315Z
LAST-MODIFIED:20240603T165315Z
UID:10032127-1780480800-1780509600@www.canadinns.com
SUMMARY:🟠 Garbonzo’s Sports Pub – Happier Hours Until 6pm
DESCRIPTION:
URL:https://www.canadinns.com/event/garbonzos-sports-pub-happier-hours-until-6pm/2026-06-03/
LOCATION:Garbonzo’s 🟠
CATEGORIES:Garbonzo’s Daily Deals
ATTACH;FMTTYPE=image/jpeg:https://www.canadinns.com/wp-content/uploads/2023-11-15_19087-CI-Garbonzos-Anti-Inflation-Happier-Hours-1080x1080-Nov2023-FNL.jpg
END:VEVENT
BEGIN:VEVENT
DTSTART;TZID=America/Winnipeg:20260604T100000
DTEND;TZID=America/Winnipeg:20260604T180000
DTSTAMP:20260421T204132
CREATED:20240603T165315Z
LAST-MODIFIED:20240603T165315Z
UID:10032128-1780567200-1780596000@www.canadinns.com
SUMMARY:🟠 Garbonzo’s Sports Pub – Happier Hours Until 6pm
DESCRIPTION:
URL:https://www.canadinns.com/event/garbonzos-sports-pub-happier-hours-until-6pm/2026-06-04/
LOCATION:Garbonzo’s 🟠
CATEGORIES:Garbonzo’s Daily Deals
ATTACH;FMTTYPE=image/jpeg:https://www.canadinns.com/wp-content/uploads/2023-11-15_19087-CI-Garbonzos-Anti-Inflation-Happier-Hours-1080x1080-Nov2023-FNL.jpg
END:VEVENT
BEGIN:VEVENT
DTSTART;TZID=America/Winnipeg:20260605T100000
DTEND;TZID=America/Winnipeg:20260605T180000
DTSTAMP:20260421T204132
CREATED:20240603T165315Z
LAST-MODIFIED:20240603T165315Z
UID:10032129-1780653600-1780682400@www.canadinns.com
SUMMARY:🟠 Garbonzo’s Sports Pub – Happier Hours Until 6pm
DESCRIPTION:
URL:https://www.canadinns.com/event/garbonzos-sports-pub-happier-hours-until-6pm/2026-06-05/
LOCATION:Garbonzo’s 🟠
CATEGORIES:Garbonzo’s Daily Deals
ATTACH;FMTTYPE=image/jpeg:https://www.canadinns.com/wp-content/uploads/2023-11-15_19087-CI-Garbonzos-Anti-Inflation-Happier-Hours-1080x1080-Nov2023-FNL.jpg
END:VEVENT
BEGIN:VEVENT
DTSTART;TZID=America/Winnipeg:20260606T100000
DTEND;TZID=America/Winnipeg:20260606T180000
DTSTAMP:20260421T204132
CREATED:20240603T165315Z
LAST-MODIFIED:20240603T165315Z
UID:10032130-1780740000-1780768800@www.canadinns.com
SUMMARY:🟠 Garbonzo’s Sports Pub – Happier Hours Until 6pm
DESCRIPTION:
URL:https://www.canadinns.com/event/garbonzos-sports-pub-happier-hours-until-6pm/2026-06-06/
LOCATION:Garbonzo’s 🟠
CATEGORIES:Garbonzo’s Daily Deals
ATTACH;FMTTYPE=image/jpeg:https://www.canadinns.com/wp-content/uploads/2023-11-15_19087-CI-Garbonzos-Anti-Inflation-Happier-Hours-1080x1080-Nov2023-FNL.jpg
END:VEVENT
BEGIN:VEVENT
DTSTART;TZID=America/Winnipeg:20260607T100000
DTEND;TZID=America/Winnipeg:20260607T180000
DTSTAMP:20260421T204132
CREATED:20240603T165315Z
LAST-MODIFIED:20240603T165315Z
UID:10032131-1780826400-1780855200@www.canadinns.com
SUMMARY:🟠 Garbonzo’s Sports Pub – Happier Hours Until 6pm
DESCRIPTION:
URL:https://www.canadinns.com/event/garbonzos-sports-pub-happier-hours-until-6pm/2026-06-07/
LOCATION:Garbonzo’s 🟠
CATEGORIES:Garbonzo’s Daily Deals
ATTACH;FMTTYPE=image/jpeg:https://www.canadinns.com/wp-content/uploads/2023-11-15_19087-CI-Garbonzos-Anti-Inflation-Happier-Hours-1080x1080-Nov2023-FNL.jpg
END:VEVENT
BEGIN:VEVENT
DTSTART;TZID=America/Winnipeg:20260608T100000
DTEND;TZID=America/Winnipeg:20260608T180000
DTSTAMP:20260421T204132
CREATED:20240603T165315Z
LAST-MODIFIED:20240603T165315Z
UID:10032132-1780912800-1780941600@www.canadinns.com
SUMMARY:🟠 Garbonzo’s Sports Pub – Happier Hours Until 6pm
DESCRIPTION:
URL:https://www.canadinns.com/event/garbonzos-sports-pub-happier-hours-until-6pm/2026-06-08/
LOCATION:Garbonzo’s 🟠
CATEGORIES:Garbonzo’s Daily Deals
ATTACH;FMTTYPE=image/jpeg:https://www.canadinns.com/wp-content/uploads/2023-11-15_19087-CI-Garbonzos-Anti-Inflation-Happier-Hours-1080x1080-Nov2023-FNL.jpg
END:VEVENT
BEGIN:VEVENT
DTSTART;TZID=America/Winnipeg:20260609T100000
DTEND;TZID=America/Winnipeg:20260609T180000
DTSTAMP:20260421T204132
CREATED:20240603T165315Z
LAST-MODIFIED:20240603T165315Z
UID:10032133-1780999200-1781028000@www.canadinns.com
SUMMARY:🟠 Garbonzo’s Sports Pub – Happier Hours Until 6pm
DESCRIPTION:
URL:https://www.canadinns.com/event/garbonzos-sports-pub-happier-hours-until-6pm/2026-06-09/
LOCATION:Garbonzo’s 🟠
CATEGORIES:Garbonzo’s Daily Deals
ATTACH;FMTTYPE=image/jpeg:https://www.canadinns.com/wp-content/uploads/2023-11-15_19087-CI-Garbonzos-Anti-Inflation-Happier-Hours-1080x1080-Nov2023-FNL.jpg
END:VEVENT
BEGIN:VEVENT
DTSTART;TZID=America/Winnipeg:20260610T100000
DTEND;TZID=America/Winnipeg:20260610T180000
DTSTAMP:20260421T204132
CREATED:20240603T165315Z
LAST-MODIFIED:20240603T165315Z
UID:10032134-1781085600-1781114400@www.canadinns.com
SUMMARY:🟠 Garbonzo’s Sports Pub – Happier Hours Until 6pm
DESCRIPTION:
URL:https://www.canadinns.com/event/garbonzos-sports-pub-happier-hours-until-6pm/2026-06-10/
LOCATION:Garbonzo’s 🟠
CATEGORIES:Garbonzo’s Daily Deals
ATTACH;FMTTYPE=image/jpeg:https://www.canadinns.com/wp-content/uploads/2023-11-15_19087-CI-Garbonzos-Anti-Inflation-Happier-Hours-1080x1080-Nov2023-FNL.jpg
END:VEVENT
BEGIN:VEVENT
DTSTART;TZID=America/Winnipeg:20260611T100000
DTEND;TZID=America/Winnipeg:20260611T180000
DTSTAMP:20260421T204132
CREATED:20240603T165315Z
LAST-MODIFIED:20240603T165315Z
UID:10032135-1781172000-1781200800@www.canadinns.com
SUMMARY:🟠 Garbonzo’s Sports Pub – Happier Hours Until 6pm
DESCRIPTION:
URL:https://www.canadinns.com/event/garbonzos-sports-pub-happier-hours-until-6pm/2026-06-11/
LOCATION:Garbonzo’s 🟠
CATEGORIES:Garbonzo’s Daily Deals
ATTACH;FMTTYPE=image/jpeg:https://www.canadinns.com/wp-content/uploads/2023-11-15_19087-CI-Garbonzos-Anti-Inflation-Happier-Hours-1080x1080-Nov2023-FNL.jpg
END:VEVENT
BEGIN:VEVENT
DTSTART;TZID=America/Winnipeg:20260612T100000
DTEND;TZID=America/Winnipeg:20260612T180000
DTSTAMP:20260421T204132
CREATED:20240603T165315Z
LAST-MODIFIED:20240603T165315Z
UID:10032136-1781258400-1781287200@www.canadinns.com
SUMMARY:🟠 Garbonzo’s Sports Pub – Happier Hours Until 6pm
DESCRIPTION:
URL:https://www.canadinns.com/event/garbonzos-sports-pub-happier-hours-until-6pm/2026-06-12/
LOCATION:Garbonzo’s 🟠
CATEGORIES:Garbonzo’s Daily Deals
ATTACH;FMTTYPE=image/jpeg:https://www.canadinns.com/wp-content/uploads/2023-11-15_19087-CI-Garbonzos-Anti-Inflation-Happier-Hours-1080x1080-Nov2023-FNL.jpg
END:VEVENT
BEGIN:VEVENT
DTSTART;TZID=America/Winnipeg:20260613T100000
DTEND;TZID=America/Winnipeg:20260613T180000
DTSTAMP:20260421T204132
CREATED:20240603T165315Z
LAST-MODIFIED:20240603T165315Z
UID:10032137-1781344800-1781373600@www.canadinns.com
SUMMARY:🟠 Garbonzo’s Sports Pub – Happier Hours Until 6pm
DESCRIPTION:
URL:https://www.canadinns.com/event/garbonzos-sports-pub-happier-hours-until-6pm/2026-06-13/
LOCATION:Garbonzo’s 🟠
CATEGORIES:Garbonzo’s Daily Deals
ATTACH;FMTTYPE=image/jpeg:https://www.canadinns.com/wp-content/uploads/2023-11-15_19087-CI-Garbonzos-Anti-Inflation-Happier-Hours-1080x1080-Nov2023-FNL.jpg
END:VEVENT
BEGIN:VEVENT
DTSTART;TZID=America/Winnipeg:20260614T100000
DTEND;TZID=America/Winnipeg:20260614T180000
DTSTAMP:20260421T204132
CREATED:20240603T165315Z
LAST-MODIFIED:20240603T165315Z
UID:10032138-1781431200-1781460000@www.canadinns.com
SUMMARY:🟠 Garbonzo’s Sports Pub – Happier Hours Until 6pm
DESCRIPTION:
URL:https://www.canadinns.com/event/garbonzos-sports-pub-happier-hours-until-6pm/2026-06-14/
LOCATION:Garbonzo’s 🟠
CATEGORIES:Garbonzo’s Daily Deals
ATTACH;FMTTYPE=image/jpeg:https://www.canadinns.com/wp-content/uploads/2023-11-15_19087-CI-Garbonzos-Anti-Inflation-Happier-Hours-1080x1080-Nov2023-FNL.jpg
END:VEVENT
BEGIN:VEVENT
DTSTART;TZID=America/Winnipeg:20260615T100000
DTEND;TZID=America/Winnipeg:20260615T180000
DTSTAMP:20260421T204132
CREATED:20240603T165315Z
LAST-MODIFIED:20240603T165315Z
UID:10032139-1781517600-1781546400@www.canadinns.com
SUMMARY:🟠 Garbonzo’s Sports Pub – Happier Hours Until 6pm
DESCRIPTION:
URL:https://www.canadinns.com/event/garbonzos-sports-pub-happier-hours-until-6pm/2026-06-15/
LOCATION:Garbonzo’s 🟠
CATEGORIES:Garbonzo’s Daily Deals
ATTACH;FMTTYPE=image/jpeg:https://www.canadinns.com/wp-content/uploads/2023-11-15_19087-CI-Garbonzos-Anti-Inflation-Happier-Hours-1080x1080-Nov2023-FNL.jpg
END:VEVENT
BEGIN:VEVENT
DTSTART;TZID=America/Winnipeg:20260616T100000
DTEND;TZID=America/Winnipeg:20260616T180000
DTSTAMP:20260421T204132
CREATED:20240603T165315Z
LAST-MODIFIED:20240603T165315Z
UID:10032140-1781604000-1781632800@www.canadinns.com
SUMMARY:🟠 Garbonzo’s Sports Pub – Happier Hours Until 6pm
DESCRIPTION:
URL:https://www.canadinns.com/event/garbonzos-sports-pub-happier-hours-until-6pm/2026-06-16/
LOCATION:Garbonzo’s 🟠
CATEGORIES:Garbonzo’s Daily Deals
ATTACH;FMTTYPE=image/jpeg:https://www.canadinns.com/wp-content/uploads/2023-11-15_19087-CI-Garbonzos-Anti-Inflation-Happier-Hours-1080x1080-Nov2023-FNL.jpg
END:VEVENT
BEGIN:VEVENT
DTSTART;TZID=America/Winnipeg:20260617T100000
DTEND;TZID=America/Winnipeg:20260617T180000
DTSTAMP:20260421T204132
CREATED:20240603T165315Z
LAST-MODIFIED:20240603T165315Z
UID:10032141-1781690400-1781719200@www.canadinns.com
SUMMARY:🟠 Garbonzo’s Sports Pub – Happier Hours Until 6pm
DESCRIPTION:
URL:https://www.canadinns.com/event/garbonzos-sports-pub-happier-hours-until-6pm/2026-06-17/
LOCATION:Garbonzo’s 🟠
CATEGORIES:Garbonzo’s Daily Deals
ATTACH;FMTTYPE=image/jpeg:https://www.canadinns.com/wp-content/uploads/2023-11-15_19087-CI-Garbonzos-Anti-Inflation-Happier-Hours-1080x1080-Nov2023-FNL.jpg
END:VEVENT
BEGIN:VEVENT
DTSTART;TZID=America/Winnipeg:20260618T100000
DTEND;TZID=America/Winnipeg:20260618T180000
DTSTAMP:20260421T204132
CREATED:20240603T165315Z
LAST-MODIFIED:20240603T165315Z
UID:10032142-1781776800-1781805600@www.canadinns.com
SUMMARY:🟠 Garbonzo’s Sports Pub – Happier Hours Until 6pm
DESCRIPTION:
URL:https://www.canadinns.com/event/garbonzos-sports-pub-happier-hours-until-6pm/2026-06-18/
LOCATION:Garbonzo’s 🟠
CATEGORIES:Garbonzo’s Daily Deals
ATTACH;FMTTYPE=image/jpeg:https://www.canadinns.com/wp-content/uploads/2023-11-15_19087-CI-Garbonzos-Anti-Inflation-Happier-Hours-1080x1080-Nov2023-FNL.jpg
END:VEVENT
BEGIN:VEVENT
DTSTART;TZID=America/Winnipeg:20260619T100000
DTEND;TZID=America/Winnipeg:20260619T180000
DTSTAMP:20260421T204132
CREATED:20240603T165315Z
LAST-MODIFIED:20240603T165315Z
UID:10032143-1781863200-1781892000@www.canadinns.com
SUMMARY:🟠 Garbonzo’s Sports Pub – Happier Hours Until 6pm
DESCRIPTION:
URL:https://www.canadinns.com/event/garbonzos-sports-pub-happier-hours-until-6pm/2026-06-19/
LOCATION:Garbonzo’s 🟠
CATEGORIES:Garbonzo’s Daily Deals
ATTACH;FMTTYPE=image/jpeg:https://www.canadinns.com/wp-content/uploads/2023-11-15_19087-CI-Garbonzos-Anti-Inflation-Happier-Hours-1080x1080-Nov2023-FNL.jpg
END:VEVENT
BEGIN:VEVENT
DTSTART;TZID=America/Winnipeg:20260620T100000
DTEND;TZID=America/Winnipeg:20260620T180000
DTSTAMP:20260421T204132
CREATED:20240603T165315Z
LAST-MODIFIED:20240603T165315Z
UID:10032144-1781949600-1781978400@www.canadinns.com
SUMMARY:🟠 Garbonzo’s Sports Pub – Happier Hours Until 6pm
DESCRIPTION:
URL:https://www.canadinns.com/event/garbonzos-sports-pub-happier-hours-until-6pm/2026-06-20/
LOCATION:Garbonzo’s 🟠
CATEGORIES:Garbonzo’s Daily Deals
ATTACH;FMTTYPE=image/jpeg:https://www.canadinns.com/wp-content/uploads/2023-11-15_19087-CI-Garbonzos-Anti-Inflation-Happier-Hours-1080x1080-Nov2023-FNL.jpg
END:VEVENT
BEGIN:VEVENT
DTSTART;TZID=America/Winnipeg:20260621T100000
DTEND;TZID=America/Winnipeg:20260621T180000
DTSTAMP:20260421T204132
CREATED:20240603T165315Z
LAST-MODIFIED:20240603T165315Z
UID:10032145-1782036000-1782064800@www.canadinns.com
SUMMARY:🟠 Garbonzo’s Sports Pub – Happier Hours Until 6pm
DESCRIPTION:
URL:https://www.canadinns.com/event/garbonzos-sports-pub-happier-hours-until-6pm/2026-06-21/
LOCATION:Garbonzo’s 🟠
CATEGORIES:Garbonzo’s Daily Deals
ATTACH;FMTTYPE=image/jpeg:https://www.canadinns.com/wp-content/uploads/2023-11-15_19087-CI-Garbonzos-Anti-Inflation-Happier-Hours-1080x1080-Nov2023-FNL.jpg
END:VEVENT
BEGIN:VEVENT
DTSTART;TZID=America/Winnipeg:20260622T100000
DTEND;TZID=America/Winnipeg:20260622T180000
DTSTAMP:20260421T204132
CREATED:20240603T165315Z
LAST-MODIFIED:20240603T165315Z
UID:10032146-1782122400-1782151200@www.canadinns.com
SUMMARY:🟠 Garbonzo’s Sports Pub – Happier Hours Until 6pm
DESCRIPTION:
URL:https://www.canadinns.com/event/garbonzos-sports-pub-happier-hours-until-6pm/2026-06-22/
LOCATION:Garbonzo’s 🟠
CATEGORIES:Garbonzo’s Daily Deals
ATTACH;FMTTYPE=image/jpeg:https://www.canadinns.com/wp-content/uploads/2023-11-15_19087-CI-Garbonzos-Anti-Inflation-Happier-Hours-1080x1080-Nov2023-FNL.jpg
END:VEVENT
BEGIN:VEVENT
DTSTART;TZID=America/Winnipeg:20260623T100000
DTEND;TZID=America/Winnipeg:20260623T180000
DTSTAMP:20260421T204132
CREATED:20240603T165315Z
LAST-MODIFIED:20240603T165315Z
UID:10032147-1782208800-1782237600@www.canadinns.com
SUMMARY:🟠 Garbonzo’s Sports Pub – Happier Hours Until 6pm
DESCRIPTION:
URL:https://www.canadinns.com/event/garbonzos-sports-pub-happier-hours-until-6pm/2026-06-23/
LOCATION:Garbonzo’s 🟠
CATEGORIES:Garbonzo’s Daily Deals
ATTACH;FMTTYPE=image/jpeg:https://www.canadinns.com/wp-content/uploads/2023-11-15_19087-CI-Garbonzos-Anti-Inflation-Happier-Hours-1080x1080-Nov2023-FNL.jpg
END:VEVENT
BEGIN:VEVENT
DTSTART;TZID=America/Winnipeg:20260624T100000
DTEND;TZID=America/Winnipeg:20260624T180000
DTSTAMP:20260421T204132
CREATED:20240603T165315Z
LAST-MODIFIED:20240603T165315Z
UID:10032148-1782295200-1782324000@www.canadinns.com
SUMMARY:🟠 Garbonzo’s Sports Pub – Happier Hours Until 6pm
DESCRIPTION:
URL:https://www.canadinns.com/event/garbonzos-sports-pub-happier-hours-until-6pm/2026-06-24/
LOCATION:Garbonzo’s 🟠
CATEGORIES:Garbonzo’s Daily Deals
ATTACH;FMTTYPE=image/jpeg:https://www.canadinns.com/wp-content/uploads/2023-11-15_19087-CI-Garbonzos-Anti-Inflation-Happier-Hours-1080x1080-Nov2023-FNL.jpg
END:VEVENT
BEGIN:VEVENT
DTSTART;TZID=America/Winnipeg:20260625T100000
DTEND;TZID=America/Winnipeg:20260625T180000
DTSTAMP:20260421T204132
CREATED:20240603T165315Z
LAST-MODIFIED:20240603T165315Z
UID:10032149-1782381600-1782410400@www.canadinns.com
SUMMARY:🟠 Garbonzo’s Sports Pub – Happier Hours Until 6pm
DESCRIPTION:
URL:https://www.canadinns.com/event/garbonzos-sports-pub-happier-hours-until-6pm/2026-06-25/
LOCATION:Garbonzo’s 🟠
CATEGORIES:Garbonzo’s Daily Deals
ATTACH;FMTTYPE=image/jpeg:https://www.canadinns.com/wp-content/uploads/2023-11-15_19087-CI-Garbonzos-Anti-Inflation-Happier-Hours-1080x1080-Nov2023-FNL.jpg
END:VEVENT
BEGIN:VEVENT
DTSTART;TZID=America/Winnipeg:20260626T100000
DTEND;TZID=America/Winnipeg:20260626T180000
DTSTAMP:20260421T204132
CREATED:20240603T165315Z
LAST-MODIFIED:20240603T165315Z
UID:10032150-1782468000-1782496800@www.canadinns.com
SUMMARY:🟠 Garbonzo’s Sports Pub – Happier Hours Until 6pm
DESCRIPTION:
URL:https://www.canadinns.com/event/garbonzos-sports-pub-happier-hours-until-6pm/2026-06-26/
LOCATION:Garbonzo’s 🟠
CATEGORIES:Garbonzo’s Daily Deals
ATTACH;FMTTYPE=image/jpeg:https://www.canadinns.com/wp-content/uploads/2023-11-15_19087-CI-Garbonzos-Anti-Inflation-Happier-Hours-1080x1080-Nov2023-FNL.jpg
END:VEVENT
END:VCALENDAR