BEGIN:VCALENDAR
VERSION:2.0
PRODID:-//Canad Inns - ECPv6.15.17.1//NONSGML v1.0//EN
CALSCALE:GREGORIAN
METHOD:PUBLISH
X-ORIGINAL-URL:https://www.canadinns.com
X-WR-CALDESC:Events for Canad Inns
REFRESH-INTERVAL;VALUE=DURATION:PT1H
X-Robots-Tag:noindex
X-PUBLISHED-TTL:PT1H
BEGIN:VTIMEZONE
TZID:America/Winnipeg
BEGIN:DAYLIGHT
TZOFFSETFROM:-0600
TZOFFSETTO:-0500
TZNAME:CDT
DTSTART:20250309T080000
END:DAYLIGHT
BEGIN:STANDARD
TZOFFSETFROM:-0500
TZOFFSETTO:-0600
TZNAME:CST
DTSTART:20251102T070000
END:STANDARD
BEGIN:DAYLIGHT
TZOFFSETFROM:-0600
TZOFFSETTO:-0500
TZNAME:CDT
DTSTART:20260308T080000
END:DAYLIGHT
BEGIN:STANDARD
TZOFFSETFROM:-0500
TZOFFSETTO:-0600
TZNAME:CST
DTSTART:20261101T070000
END:STANDARD
BEGIN:DAYLIGHT
TZOFFSETFROM:-0600
TZOFFSETTO:-0500
TZNAME:CDT
DTSTART:20270314T080000
END:DAYLIGHT
BEGIN:STANDARD
TZOFFSETFROM:-0500
TZOFFSETTO:-0600
TZNAME:CST
DTSTART:20271107T070000
END:STANDARD
END:VTIMEZONE
BEGIN:VEVENT
DTSTART;TZID=America/Winnipeg:20260903T170000
DTEND;TZID=America/Winnipeg:20260903T200000
DTSTAMP:20260424T032623
CREATED:20241003T175130Z
LAST-MODIFIED:20260406T153939Z
UID:10052510-1788454800-1788465600@www.canadinns.com
SUMMARY:🟢 Aaltos Taste of Asia Thursday Dinner Buffet
DESCRIPTION:Experience the flavours of Asia every Thursday with our Taste of Asia Dinner Buffet at Aaltos. \nAvailable at Aaltos Fort Garry\, Aaltos Polo Park\, Aaltos Club Regent and Aaltos Transcona.Some restrictions apply. Not available on holidays. Service times may vary. \nReserve your table today. Visit our canadinns.com/aaltos for full details.
URL:https://www.canadinns.com/event/aaltos-taste-of-asia-thursday-dinner-buffet/2026-09-03/
LOCATION:Aaltos 🟢
CATEGORIES:Aaltos Buffets
ATTACH;FMTTYPE=image/jpeg:https://www.canadinns.com/wp-content/uploads/2026-04-02-CI-Aaltos-Taste-of-Asia-Thursday-Buffet11-x17nocrops-April2026-FNL-21708-002-scaled.jpg
END:VEVENT
BEGIN:VEVENT
DTSTART;TZID=America/Winnipeg:20260910T170000
DTEND;TZID=America/Winnipeg:20260910T200000
DTSTAMP:20260424T032623
CREATED:20241003T175130Z
LAST-MODIFIED:20260406T153939Z
UID:10052511-1789059600-1789070400@www.canadinns.com
SUMMARY:🟢 Aaltos Taste of Asia Thursday Dinner Buffet
DESCRIPTION:Experience the flavours of Asia every Thursday with our Taste of Asia Dinner Buffet at Aaltos. \nAvailable at Aaltos Fort Garry\, Aaltos Polo Park\, Aaltos Club Regent and Aaltos Transcona.Some restrictions apply. Not available on holidays. Service times may vary. \nReserve your table today. Visit our canadinns.com/aaltos for full details.
URL:https://www.canadinns.com/event/aaltos-taste-of-asia-thursday-dinner-buffet/2026-09-10/
LOCATION:Aaltos 🟢
CATEGORIES:Aaltos Buffets
ATTACH;FMTTYPE=image/jpeg:https://www.canadinns.com/wp-content/uploads/2026-04-02-CI-Aaltos-Taste-of-Asia-Thursday-Buffet11-x17nocrops-April2026-FNL-21708-002-scaled.jpg
END:VEVENT
BEGIN:VEVENT
DTSTART;TZID=America/Winnipeg:20260917T170000
DTEND;TZID=America/Winnipeg:20260917T200000
DTSTAMP:20260424T032623
CREATED:20241003T175130Z
LAST-MODIFIED:20260406T153939Z
UID:10052512-1789664400-1789675200@www.canadinns.com
SUMMARY:🟢 Aaltos Taste of Asia Thursday Dinner Buffet
DESCRIPTION:Experience the flavours of Asia every Thursday with our Taste of Asia Dinner Buffet at Aaltos. \nAvailable at Aaltos Fort Garry\, Aaltos Polo Park\, Aaltos Club Regent and Aaltos Transcona.Some restrictions apply. Not available on holidays. Service times may vary. \nReserve your table today. Visit our canadinns.com/aaltos for full details.
URL:https://www.canadinns.com/event/aaltos-taste-of-asia-thursday-dinner-buffet/2026-09-17/
LOCATION:Aaltos 🟢
CATEGORIES:Aaltos Buffets
ATTACH;FMTTYPE=image/jpeg:https://www.canadinns.com/wp-content/uploads/2026-04-02-CI-Aaltos-Taste-of-Asia-Thursday-Buffet11-x17nocrops-April2026-FNL-21708-002-scaled.jpg
END:VEVENT
BEGIN:VEVENT
DTSTART;TZID=America/Winnipeg:20260924T170000
DTEND;TZID=America/Winnipeg:20260924T200000
DTSTAMP:20260424T032623
CREATED:20241003T175130Z
LAST-MODIFIED:20260406T153939Z
UID:10052513-1790269200-1790280000@www.canadinns.com
SUMMARY:🟢 Aaltos Taste of Asia Thursday Dinner Buffet
DESCRIPTION:Experience the flavours of Asia every Thursday with our Taste of Asia Dinner Buffet at Aaltos. \nAvailable at Aaltos Fort Garry\, Aaltos Polo Park\, Aaltos Club Regent and Aaltos Transcona.Some restrictions apply. Not available on holidays. Service times may vary. \nReserve your table today. Visit our canadinns.com/aaltos for full details.
URL:https://www.canadinns.com/event/aaltos-taste-of-asia-thursday-dinner-buffet/2026-09-24/
LOCATION:Aaltos 🟢
CATEGORIES:Aaltos Buffets
ATTACH;FMTTYPE=image/jpeg:https://www.canadinns.com/wp-content/uploads/2026-04-02-CI-Aaltos-Taste-of-Asia-Thursday-Buffet11-x17nocrops-April2026-FNL-21708-002-scaled.jpg
END:VEVENT
BEGIN:VEVENT
DTSTART;TZID=America/Winnipeg:20261001T170000
DTEND;TZID=America/Winnipeg:20261001T200000
DTSTAMP:20260424T032623
CREATED:20241003T175130Z
LAST-MODIFIED:20260406T153939Z
UID:10052514-1790874000-1790884800@www.canadinns.com
SUMMARY:🟢 Aaltos Taste of Asia Thursday Dinner Buffet
DESCRIPTION:Experience the flavours of Asia every Thursday with our Taste of Asia Dinner Buffet at Aaltos. \nAvailable at Aaltos Fort Garry\, Aaltos Polo Park\, Aaltos Club Regent and Aaltos Transcona.Some restrictions apply. Not available on holidays. Service times may vary. \nReserve your table today. Visit our canadinns.com/aaltos for full details.
URL:https://www.canadinns.com/event/aaltos-taste-of-asia-thursday-dinner-buffet/2026-10-01/
LOCATION:Aaltos 🟢
CATEGORIES:Aaltos Buffets
ATTACH;FMTTYPE=image/jpeg:https://www.canadinns.com/wp-content/uploads/2026-04-02-CI-Aaltos-Taste-of-Asia-Thursday-Buffet11-x17nocrops-April2026-FNL-21708-002-scaled.jpg
END:VEVENT
BEGIN:VEVENT
DTSTART;TZID=America/Winnipeg:20261008T170000
DTEND;TZID=America/Winnipeg:20261008T200000
DTSTAMP:20260424T032623
CREATED:20241003T175130Z
LAST-MODIFIED:20260406T153939Z
UID:10052515-1791478800-1791489600@www.canadinns.com
SUMMARY:🟢 Aaltos Taste of Asia Thursday Dinner Buffet
DESCRIPTION:Experience the flavours of Asia every Thursday with our Taste of Asia Dinner Buffet at Aaltos. \nAvailable at Aaltos Fort Garry\, Aaltos Polo Park\, Aaltos Club Regent and Aaltos Transcona.Some restrictions apply. Not available on holidays. Service times may vary. \nReserve your table today. Visit our canadinns.com/aaltos for full details.
URL:https://www.canadinns.com/event/aaltos-taste-of-asia-thursday-dinner-buffet/2026-10-08/
LOCATION:Aaltos 🟢
CATEGORIES:Aaltos Buffets
ATTACH;FMTTYPE=image/jpeg:https://www.canadinns.com/wp-content/uploads/2026-04-02-CI-Aaltos-Taste-of-Asia-Thursday-Buffet11-x17nocrops-April2026-FNL-21708-002-scaled.jpg
END:VEVENT
BEGIN:VEVENT
DTSTART;TZID=America/Winnipeg:20261015T170000
DTEND;TZID=America/Winnipeg:20261015T200000
DTSTAMP:20260424T032623
CREATED:20241003T175130Z
LAST-MODIFIED:20260406T153939Z
UID:10052516-1792083600-1792094400@www.canadinns.com
SUMMARY:🟢 Aaltos Taste of Asia Thursday Dinner Buffet
DESCRIPTION:Experience the flavours of Asia every Thursday with our Taste of Asia Dinner Buffet at Aaltos. \nAvailable at Aaltos Fort Garry\, Aaltos Polo Park\, Aaltos Club Regent and Aaltos Transcona.Some restrictions apply. Not available on holidays. Service times may vary. \nReserve your table today. Visit our canadinns.com/aaltos for full details.
URL:https://www.canadinns.com/event/aaltos-taste-of-asia-thursday-dinner-buffet/2026-10-15/
LOCATION:Aaltos 🟢
CATEGORIES:Aaltos Buffets
ATTACH;FMTTYPE=image/jpeg:https://www.canadinns.com/wp-content/uploads/2026-04-02-CI-Aaltos-Taste-of-Asia-Thursday-Buffet11-x17nocrops-April2026-FNL-21708-002-scaled.jpg
END:VEVENT
BEGIN:VEVENT
DTSTART;TZID=America/Winnipeg:20261022T170000
DTEND;TZID=America/Winnipeg:20261022T200000
DTSTAMP:20260424T032623
CREATED:20241003T175130Z
LAST-MODIFIED:20260406T153939Z
UID:10052517-1792688400-1792699200@www.canadinns.com
SUMMARY:🟢 Aaltos Taste of Asia Thursday Dinner Buffet
DESCRIPTION:Experience the flavours of Asia every Thursday with our Taste of Asia Dinner Buffet at Aaltos. \nAvailable at Aaltos Fort Garry\, Aaltos Polo Park\, Aaltos Club Regent and Aaltos Transcona.Some restrictions apply. Not available on holidays. Service times may vary. \nReserve your table today. Visit our canadinns.com/aaltos for full details.
URL:https://www.canadinns.com/event/aaltos-taste-of-asia-thursday-dinner-buffet/2026-10-22/
LOCATION:Aaltos 🟢
CATEGORIES:Aaltos Buffets
ATTACH;FMTTYPE=image/jpeg:https://www.canadinns.com/wp-content/uploads/2026-04-02-CI-Aaltos-Taste-of-Asia-Thursday-Buffet11-x17nocrops-April2026-FNL-21708-002-scaled.jpg
END:VEVENT
BEGIN:VEVENT
DTSTART;TZID=America/Winnipeg:20261029T170000
DTEND;TZID=America/Winnipeg:20261029T200000
DTSTAMP:20260424T032623
CREATED:20241003T175130Z
LAST-MODIFIED:20260406T153939Z
UID:10052518-1793293200-1793304000@www.canadinns.com
SUMMARY:🟢 Aaltos Taste of Asia Thursday Dinner Buffet
DESCRIPTION:Experience the flavours of Asia every Thursday with our Taste of Asia Dinner Buffet at Aaltos. \nAvailable at Aaltos Fort Garry\, Aaltos Polo Park\, Aaltos Club Regent and Aaltos Transcona.Some restrictions apply. Not available on holidays. Service times may vary. \nReserve your table today. Visit our canadinns.com/aaltos for full details.
URL:https://www.canadinns.com/event/aaltos-taste-of-asia-thursday-dinner-buffet/2026-10-29/
LOCATION:Aaltos 🟢
CATEGORIES:Aaltos Buffets
ATTACH;FMTTYPE=image/jpeg:https://www.canadinns.com/wp-content/uploads/2026-04-02-CI-Aaltos-Taste-of-Asia-Thursday-Buffet11-x17nocrops-April2026-FNL-21708-002-scaled.jpg
END:VEVENT
BEGIN:VEVENT
DTSTART;TZID=America/Winnipeg:20261105T170000
DTEND;TZID=America/Winnipeg:20261105T200000
DTSTAMP:20260424T032623
CREATED:20241003T175130Z
LAST-MODIFIED:20260406T153939Z
UID:10052519-1793898000-1793908800@www.canadinns.com
SUMMARY:🟢 Aaltos Taste of Asia Thursday Dinner Buffet
DESCRIPTION:Experience the flavours of Asia every Thursday with our Taste of Asia Dinner Buffet at Aaltos. \nAvailable at Aaltos Fort Garry\, Aaltos Polo Park\, Aaltos Club Regent and Aaltos Transcona.Some restrictions apply. Not available on holidays. Service times may vary. \nReserve your table today. Visit our canadinns.com/aaltos for full details.
URL:https://www.canadinns.com/event/aaltos-taste-of-asia-thursday-dinner-buffet/2026-11-05/
LOCATION:Aaltos 🟢
CATEGORIES:Aaltos Buffets
ATTACH;FMTTYPE=image/jpeg:https://www.canadinns.com/wp-content/uploads/2026-04-02-CI-Aaltos-Taste-of-Asia-Thursday-Buffet11-x17nocrops-April2026-FNL-21708-002-scaled.jpg
END:VEVENT
BEGIN:VEVENT
DTSTART;TZID=America/Winnipeg:20261112T170000
DTEND;TZID=America/Winnipeg:20261112T200000
DTSTAMP:20260424T032623
CREATED:20241003T175130Z
LAST-MODIFIED:20260406T153939Z
UID:10052520-1794502800-1794513600@www.canadinns.com
SUMMARY:🟢 Aaltos Taste of Asia Thursday Dinner Buffet
DESCRIPTION:Experience the flavours of Asia every Thursday with our Taste of Asia Dinner Buffet at Aaltos. \nAvailable at Aaltos Fort Garry\, Aaltos Polo Park\, Aaltos Club Regent and Aaltos Transcona.Some restrictions apply. Not available on holidays. Service times may vary. \nReserve your table today. Visit our canadinns.com/aaltos for full details.
URL:https://www.canadinns.com/event/aaltos-taste-of-asia-thursday-dinner-buffet/2026-11-12/
LOCATION:Aaltos 🟢
CATEGORIES:Aaltos Buffets
ATTACH;FMTTYPE=image/jpeg:https://www.canadinns.com/wp-content/uploads/2026-04-02-CI-Aaltos-Taste-of-Asia-Thursday-Buffet11-x17nocrops-April2026-FNL-21708-002-scaled.jpg
END:VEVENT
BEGIN:VEVENT
DTSTART;TZID=America/Winnipeg:20261119T170000
DTEND;TZID=America/Winnipeg:20261119T200000
DTSTAMP:20260424T032623
CREATED:20241003T175130Z
LAST-MODIFIED:20260406T153939Z
UID:10052521-1795107600-1795118400@www.canadinns.com
SUMMARY:🟢 Aaltos Taste of Asia Thursday Dinner Buffet
DESCRIPTION:Experience the flavours of Asia every Thursday with our Taste of Asia Dinner Buffet at Aaltos. \nAvailable at Aaltos Fort Garry\, Aaltos Polo Park\, Aaltos Club Regent and Aaltos Transcona.Some restrictions apply. Not available on holidays. Service times may vary. \nReserve your table today. Visit our canadinns.com/aaltos for full details.
URL:https://www.canadinns.com/event/aaltos-taste-of-asia-thursday-dinner-buffet/2026-11-19/
LOCATION:Aaltos 🟢
CATEGORIES:Aaltos Buffets
ATTACH;FMTTYPE=image/jpeg:https://www.canadinns.com/wp-content/uploads/2026-04-02-CI-Aaltos-Taste-of-Asia-Thursday-Buffet11-x17nocrops-April2026-FNL-21708-002-scaled.jpg
END:VEVENT
BEGIN:VEVENT
DTSTART;TZID=America/Winnipeg:20261126T170000
DTEND;TZID=America/Winnipeg:20261126T200000
DTSTAMP:20260424T032623
CREATED:20241003T175130Z
LAST-MODIFIED:20260406T153939Z
UID:10052522-1795712400-1795723200@www.canadinns.com
SUMMARY:🟢 Aaltos Taste of Asia Thursday Dinner Buffet
DESCRIPTION:Experience the flavours of Asia every Thursday with our Taste of Asia Dinner Buffet at Aaltos. \nAvailable at Aaltos Fort Garry\, Aaltos Polo Park\, Aaltos Club Regent and Aaltos Transcona.Some restrictions apply. Not available on holidays. Service times may vary. \nReserve your table today. Visit our canadinns.com/aaltos for full details.
URL:https://www.canadinns.com/event/aaltos-taste-of-asia-thursday-dinner-buffet/2026-11-26/
LOCATION:Aaltos 🟢
CATEGORIES:Aaltos Buffets
ATTACH;FMTTYPE=image/jpeg:https://www.canadinns.com/wp-content/uploads/2026-04-02-CI-Aaltos-Taste-of-Asia-Thursday-Buffet11-x17nocrops-April2026-FNL-21708-002-scaled.jpg
END:VEVENT
BEGIN:VEVENT
DTSTART;TZID=America/Winnipeg:20261203T170000
DTEND;TZID=America/Winnipeg:20261203T200000
DTSTAMP:20260424T032623
CREATED:20241003T175130Z
LAST-MODIFIED:20260406T153939Z
UID:10052523-1796317200-1796328000@www.canadinns.com
SUMMARY:🟢 Aaltos Taste of Asia Thursday Dinner Buffet
DESCRIPTION:Experience the flavours of Asia every Thursday with our Taste of Asia Dinner Buffet at Aaltos. \nAvailable at Aaltos Fort Garry\, Aaltos Polo Park\, Aaltos Club Regent and Aaltos Transcona.Some restrictions apply. Not available on holidays. Service times may vary. \nReserve your table today. Visit our canadinns.com/aaltos for full details.
URL:https://www.canadinns.com/event/aaltos-taste-of-asia-thursday-dinner-buffet/2026-12-03/
LOCATION:Aaltos 🟢
CATEGORIES:Aaltos Buffets
ATTACH;FMTTYPE=image/jpeg:https://www.canadinns.com/wp-content/uploads/2026-04-02-CI-Aaltos-Taste-of-Asia-Thursday-Buffet11-x17nocrops-April2026-FNL-21708-002-scaled.jpg
END:VEVENT
BEGIN:VEVENT
DTSTART;TZID=America/Winnipeg:20261210T170000
DTEND;TZID=America/Winnipeg:20261210T200000
DTSTAMP:20260424T032623
CREATED:20241003T175130Z
LAST-MODIFIED:20260406T153939Z
UID:10052524-1796922000-1796932800@www.canadinns.com
SUMMARY:🟢 Aaltos Taste of Asia Thursday Dinner Buffet
DESCRIPTION:Experience the flavours of Asia every Thursday with our Taste of Asia Dinner Buffet at Aaltos. \nAvailable at Aaltos Fort Garry\, Aaltos Polo Park\, Aaltos Club Regent and Aaltos Transcona.Some restrictions apply. Not available on holidays. Service times may vary. \nReserve your table today. Visit our canadinns.com/aaltos for full details.
URL:https://www.canadinns.com/event/aaltos-taste-of-asia-thursday-dinner-buffet/2026-12-10/
LOCATION:Aaltos 🟢
CATEGORIES:Aaltos Buffets
ATTACH;FMTTYPE=image/jpeg:https://www.canadinns.com/wp-content/uploads/2026-04-02-CI-Aaltos-Taste-of-Asia-Thursday-Buffet11-x17nocrops-April2026-FNL-21708-002-scaled.jpg
END:VEVENT
BEGIN:VEVENT
DTSTART;TZID=America/Winnipeg:20261217T170000
DTEND;TZID=America/Winnipeg:20261217T200000
DTSTAMP:20260424T032623
CREATED:20241003T175130Z
LAST-MODIFIED:20260406T153939Z
UID:10052525-1797526800-1797537600@www.canadinns.com
SUMMARY:🟢 Aaltos Taste of Asia Thursday Dinner Buffet
DESCRIPTION:Experience the flavours of Asia every Thursday with our Taste of Asia Dinner Buffet at Aaltos. \nAvailable at Aaltos Fort Garry\, Aaltos Polo Park\, Aaltos Club Regent and Aaltos Transcona.Some restrictions apply. Not available on holidays. Service times may vary. \nReserve your table today. Visit our canadinns.com/aaltos for full details.
URL:https://www.canadinns.com/event/aaltos-taste-of-asia-thursday-dinner-buffet/2026-12-17/
LOCATION:Aaltos 🟢
CATEGORIES:Aaltos Buffets
ATTACH;FMTTYPE=image/jpeg:https://www.canadinns.com/wp-content/uploads/2026-04-02-CI-Aaltos-Taste-of-Asia-Thursday-Buffet11-x17nocrops-April2026-FNL-21708-002-scaled.jpg
END:VEVENT
BEGIN:VEVENT
DTSTART;TZID=America/Winnipeg:20261224T170000
DTEND;TZID=America/Winnipeg:20261224T200000
DTSTAMP:20260424T032623
CREATED:20241003T175130Z
LAST-MODIFIED:20260406T153939Z
UID:10052526-1798131600-1798142400@www.canadinns.com
SUMMARY:🟢 Aaltos Taste of Asia Thursday Dinner Buffet
DESCRIPTION:Experience the flavours of Asia every Thursday with our Taste of Asia Dinner Buffet at Aaltos. \nAvailable at Aaltos Fort Garry\, Aaltos Polo Park\, Aaltos Club Regent and Aaltos Transcona.Some restrictions apply. Not available on holidays. Service times may vary. \nReserve your table today. Visit our canadinns.com/aaltos for full details.
URL:https://www.canadinns.com/event/aaltos-taste-of-asia-thursday-dinner-buffet/2026-12-24/
LOCATION:Aaltos 🟢
CATEGORIES:Aaltos Buffets
ATTACH;FMTTYPE=image/jpeg:https://www.canadinns.com/wp-content/uploads/2026-04-02-CI-Aaltos-Taste-of-Asia-Thursday-Buffet11-x17nocrops-April2026-FNL-21708-002-scaled.jpg
END:VEVENT
BEGIN:VEVENT
DTSTART;TZID=America/Winnipeg:20261231T170000
DTEND;TZID=America/Winnipeg:20261231T200000
DTSTAMP:20260424T032623
CREATED:20241003T175130Z
LAST-MODIFIED:20260406T153939Z
UID:10052527-1798736400-1798747200@www.canadinns.com
SUMMARY:🟢 Aaltos Taste of Asia Thursday Dinner Buffet
DESCRIPTION:Experience the flavours of Asia every Thursday with our Taste of Asia Dinner Buffet at Aaltos. \nAvailable at Aaltos Fort Garry\, Aaltos Polo Park\, Aaltos Club Regent and Aaltos Transcona.Some restrictions apply. Not available on holidays. Service times may vary. \nReserve your table today. Visit our canadinns.com/aaltos for full details.
URL:https://www.canadinns.com/event/aaltos-taste-of-asia-thursday-dinner-buffet/2026-12-31/
LOCATION:Aaltos 🟢
CATEGORIES:Aaltos Buffets
ATTACH;FMTTYPE=image/jpeg:https://www.canadinns.com/wp-content/uploads/2026-04-02-CI-Aaltos-Taste-of-Asia-Thursday-Buffet11-x17nocrops-April2026-FNL-21708-002-scaled.jpg
END:VEVENT
END:VCALENDAR