BEGIN:VCALENDAR
VERSION:2.0
PRODID:-//Canad Inns - ECPv6.15.17.1//NONSGML v1.0//EN
CALSCALE:GREGORIAN
METHOD:PUBLISH
X-ORIGINAL-URL:https://www.canadinns.com
X-WR-CALDESC:Events for Canad Inns
REFRESH-INTERVAL;VALUE=DURATION:PT1H
X-Robots-Tag:noindex
X-PUBLISHED-TTL:PT1H
BEGIN:VTIMEZONE
TZID:America/Winnipeg
BEGIN:DAYLIGHT
TZOFFSETFROM:-0600
TZOFFSETTO:-0500
TZNAME:CDT
DTSTART:20270314T080000
END:DAYLIGHT
BEGIN:STANDARD
TZOFFSETFROM:-0500
TZOFFSETTO:-0600
TZNAME:CST
DTSTART:20271107T070000
END:STANDARD
BEGIN:DAYLIGHT
TZOFFSETFROM:-0600
TZOFFSETTO:-0500
TZNAME:CDT
DTSTART:20280312T080000
END:DAYLIGHT
BEGIN:STANDARD
TZOFFSETFROM:-0500
TZOFFSETTO:-0600
TZNAME:CST
DTSTART:20281105T070000
END:STANDARD
BEGIN:DAYLIGHT
TZOFFSETFROM:-0600
TZOFFSETTO:-0500
TZNAME:CDT
DTSTART:20290311T080000
END:DAYLIGHT
BEGIN:STANDARD
TZOFFSETFROM:-0500
TZOFFSETTO:-0600
TZNAME:CST
DTSTART:20291104T070000
END:STANDARD
END:VTIMEZONE
BEGIN:VEVENT
DTSTART;TZID=America/Winnipeg:20280520T100000
DTEND;TZID=America/Winnipeg:20280520T235900
DTSTAMP:20260425T085244
CREATED:20240603T164350Z
LAST-MODIFIED:20240603T164350Z
UID:10031026-1842429600-1842479940@www.canadinns.com
SUMMARY:🟠 Garbonzo’s Sports Pub – Wings N' Things Weekend!
DESCRIPTION:
URL:https://www.canadinns.com/event/garbonzos-sports-pub-wings-n-things-weekend/2028-05-20/
LOCATION:Garbonzo’s 🟠
CATEGORIES:Garbonzo’s Daily Deals
ATTACH;FMTTYPE=image/jpeg:https://www.canadinns.com/wp-content/uploads/GSP_Meal-Deal_Weekend.jpg
END:VEVENT
BEGIN:VEVENT
DTSTART;TZID=America/Winnipeg:20280526T100000
DTEND;TZID=America/Winnipeg:20280526T235900
DTSTAMP:20260425T085244
CREATED:20240603T164350Z
LAST-MODIFIED:20240603T164350Z
UID:10031027-1842948000-1842998340@www.canadinns.com
SUMMARY:🟠 Garbonzo’s Sports Pub – Wings N' Things Weekend!
DESCRIPTION:
URL:https://www.canadinns.com/event/garbonzos-sports-pub-wings-n-things-weekend/2028-05-26/
LOCATION:Garbonzo’s 🟠
CATEGORIES:Garbonzo’s Daily Deals
ATTACH;FMTTYPE=image/jpeg:https://www.canadinns.com/wp-content/uploads/GSP_Meal-Deal_Weekend.jpg
END:VEVENT
BEGIN:VEVENT
DTSTART;TZID=America/Winnipeg:20280527T100000
DTEND;TZID=America/Winnipeg:20280527T235900
DTSTAMP:20260425T085244
CREATED:20240603T164350Z
LAST-MODIFIED:20240603T164350Z
UID:10031028-1843034400-1843084740@www.canadinns.com
SUMMARY:🟠 Garbonzo’s Sports Pub – Wings N' Things Weekend!
DESCRIPTION:
URL:https://www.canadinns.com/event/garbonzos-sports-pub-wings-n-things-weekend/2028-05-27/
LOCATION:Garbonzo’s 🟠
CATEGORIES:Garbonzo’s Daily Deals
ATTACH;FMTTYPE=image/jpeg:https://www.canadinns.com/wp-content/uploads/GSP_Meal-Deal_Weekend.jpg
END:VEVENT
BEGIN:VEVENT
DTSTART;TZID=America/Winnipeg:20280602T100000
DTEND;TZID=America/Winnipeg:20280602T235900
DTSTAMP:20260425T085244
CREATED:20240603T164350Z
LAST-MODIFIED:20240603T164350Z
UID:10031029-1843552800-1843603140@www.canadinns.com
SUMMARY:🟠 Garbonzo’s Sports Pub – Wings N' Things Weekend!
DESCRIPTION:
URL:https://www.canadinns.com/event/garbonzos-sports-pub-wings-n-things-weekend/2028-06-02/
LOCATION:Garbonzo’s 🟠
CATEGORIES:Garbonzo’s Daily Deals
ATTACH;FMTTYPE=image/jpeg:https://www.canadinns.com/wp-content/uploads/GSP_Meal-Deal_Weekend.jpg
END:VEVENT
BEGIN:VEVENT
DTSTART;TZID=America/Winnipeg:20280603T100000
DTEND;TZID=America/Winnipeg:20280603T235900
DTSTAMP:20260425T085244
CREATED:20240603T164350Z
LAST-MODIFIED:20240603T164350Z
UID:10031030-1843639200-1843689540@www.canadinns.com
SUMMARY:🟠 Garbonzo’s Sports Pub – Wings N' Things Weekend!
DESCRIPTION:
URL:https://www.canadinns.com/event/garbonzos-sports-pub-wings-n-things-weekend/2028-06-03/
LOCATION:Garbonzo’s 🟠
CATEGORIES:Garbonzo’s Daily Deals
ATTACH;FMTTYPE=image/jpeg:https://www.canadinns.com/wp-content/uploads/GSP_Meal-Deal_Weekend.jpg
END:VEVENT
BEGIN:VEVENT
DTSTART;TZID=America/Winnipeg:20280609T100000
DTEND;TZID=America/Winnipeg:20280609T235900
DTSTAMP:20260425T085244
CREATED:20240603T164350Z
LAST-MODIFIED:20240603T164350Z
UID:10031031-1844157600-1844207940@www.canadinns.com
SUMMARY:🟠 Garbonzo’s Sports Pub – Wings N' Things Weekend!
DESCRIPTION:
URL:https://www.canadinns.com/event/garbonzos-sports-pub-wings-n-things-weekend/2028-06-09/
LOCATION:Garbonzo’s 🟠
CATEGORIES:Garbonzo’s Daily Deals
ATTACH;FMTTYPE=image/jpeg:https://www.canadinns.com/wp-content/uploads/GSP_Meal-Deal_Weekend.jpg
END:VEVENT
BEGIN:VEVENT
DTSTART;TZID=America/Winnipeg:20280610T100000
DTEND;TZID=America/Winnipeg:20280610T235900
DTSTAMP:20260425T085244
CREATED:20240603T164350Z
LAST-MODIFIED:20240603T164350Z
UID:10031032-1844244000-1844294340@www.canadinns.com
SUMMARY:🟠 Garbonzo’s Sports Pub – Wings N' Things Weekend!
DESCRIPTION:
URL:https://www.canadinns.com/event/garbonzos-sports-pub-wings-n-things-weekend/2028-06-10/
LOCATION:Garbonzo’s 🟠
CATEGORIES:Garbonzo’s Daily Deals
ATTACH;FMTTYPE=image/jpeg:https://www.canadinns.com/wp-content/uploads/GSP_Meal-Deal_Weekend.jpg
END:VEVENT
BEGIN:VEVENT
DTSTART;TZID=America/Winnipeg:20280616T100000
DTEND;TZID=America/Winnipeg:20280616T235900
DTSTAMP:20260425T085244
CREATED:20240603T164350Z
LAST-MODIFIED:20240603T164350Z
UID:10031033-1844762400-1844812740@www.canadinns.com
SUMMARY:🟠 Garbonzo’s Sports Pub – Wings N' Things Weekend!
DESCRIPTION:
URL:https://www.canadinns.com/event/garbonzos-sports-pub-wings-n-things-weekend/2028-06-16/
LOCATION:Garbonzo’s 🟠
CATEGORIES:Garbonzo’s Daily Deals
ATTACH;FMTTYPE=image/jpeg:https://www.canadinns.com/wp-content/uploads/GSP_Meal-Deal_Weekend.jpg
END:VEVENT
BEGIN:VEVENT
DTSTART;TZID=America/Winnipeg:20280617T100000
DTEND;TZID=America/Winnipeg:20280617T235900
DTSTAMP:20260425T085244
CREATED:20240603T164350Z
LAST-MODIFIED:20240603T164350Z
UID:10031034-1844848800-1844899140@www.canadinns.com
SUMMARY:🟠 Garbonzo’s Sports Pub – Wings N' Things Weekend!
DESCRIPTION:
URL:https://www.canadinns.com/event/garbonzos-sports-pub-wings-n-things-weekend/2028-06-17/
LOCATION:Garbonzo’s 🟠
CATEGORIES:Garbonzo’s Daily Deals
ATTACH;FMTTYPE=image/jpeg:https://www.canadinns.com/wp-content/uploads/GSP_Meal-Deal_Weekend.jpg
END:VEVENT
BEGIN:VEVENT
DTSTART;TZID=America/Winnipeg:20280623T100000
DTEND;TZID=America/Winnipeg:20280623T235900
DTSTAMP:20260425T085244
CREATED:20240603T164350Z
LAST-MODIFIED:20240603T164350Z
UID:10031035-1845367200-1845417540@www.canadinns.com
SUMMARY:🟠 Garbonzo’s Sports Pub – Wings N' Things Weekend!
DESCRIPTION:
URL:https://www.canadinns.com/event/garbonzos-sports-pub-wings-n-things-weekend/2028-06-23/
LOCATION:Garbonzo’s 🟠
CATEGORIES:Garbonzo’s Daily Deals
ATTACH;FMTTYPE=image/jpeg:https://www.canadinns.com/wp-content/uploads/GSP_Meal-Deal_Weekend.jpg
END:VEVENT
BEGIN:VEVENT
DTSTART;TZID=America/Winnipeg:20280624T100000
DTEND;TZID=America/Winnipeg:20280624T235900
DTSTAMP:20260425T085244
CREATED:20240603T164350Z
LAST-MODIFIED:20240603T164350Z
UID:10031036-1845453600-1845503940@www.canadinns.com
SUMMARY:🟠 Garbonzo’s Sports Pub – Wings N' Things Weekend!
DESCRIPTION:
URL:https://www.canadinns.com/event/garbonzos-sports-pub-wings-n-things-weekend/2028-06-24/
LOCATION:Garbonzo’s 🟠
CATEGORIES:Garbonzo’s Daily Deals
ATTACH;FMTTYPE=image/jpeg:https://www.canadinns.com/wp-content/uploads/GSP_Meal-Deal_Weekend.jpg
END:VEVENT
BEGIN:VEVENT
DTSTART;TZID=America/Winnipeg:20280630T100000
DTEND;TZID=America/Winnipeg:20280630T235900
DTSTAMP:20260425T085244
CREATED:20240603T164350Z
LAST-MODIFIED:20240603T164350Z
UID:10031037-1845972000-1846022340@www.canadinns.com
SUMMARY:🟠 Garbonzo’s Sports Pub – Wings N' Things Weekend!
DESCRIPTION:
URL:https://www.canadinns.com/event/garbonzos-sports-pub-wings-n-things-weekend/2028-06-30/
LOCATION:Garbonzo’s 🟠
CATEGORIES:Garbonzo’s Daily Deals
ATTACH;FMTTYPE=image/jpeg:https://www.canadinns.com/wp-content/uploads/GSP_Meal-Deal_Weekend.jpg
END:VEVENT
BEGIN:VEVENT
DTSTART;TZID=America/Winnipeg:20280701T100000
DTEND;TZID=America/Winnipeg:20280701T235900
DTSTAMP:20260425T085244
CREATED:20240603T164350Z
LAST-MODIFIED:20240603T164350Z
UID:10031038-1846058400-1846108740@www.canadinns.com
SUMMARY:🟠 Garbonzo’s Sports Pub – Wings N' Things Weekend!
DESCRIPTION:
URL:https://www.canadinns.com/event/garbonzos-sports-pub-wings-n-things-weekend/2028-07-01/
LOCATION:Garbonzo’s 🟠
CATEGORIES:Garbonzo’s Daily Deals
ATTACH;FMTTYPE=image/jpeg:https://www.canadinns.com/wp-content/uploads/GSP_Meal-Deal_Weekend.jpg
END:VEVENT
BEGIN:VEVENT
DTSTART;TZID=America/Winnipeg:20280707T100000
DTEND;TZID=America/Winnipeg:20280707T235900
DTSTAMP:20260425T085244
CREATED:20240603T164350Z
LAST-MODIFIED:20240603T164350Z
UID:10031039-1846576800-1846627140@www.canadinns.com
SUMMARY:🟠 Garbonzo’s Sports Pub – Wings N' Things Weekend!
DESCRIPTION:
URL:https://www.canadinns.com/event/garbonzos-sports-pub-wings-n-things-weekend/2028-07-07/
LOCATION:Garbonzo’s 🟠
CATEGORIES:Garbonzo’s Daily Deals
ATTACH;FMTTYPE=image/jpeg:https://www.canadinns.com/wp-content/uploads/GSP_Meal-Deal_Weekend.jpg
END:VEVENT
BEGIN:VEVENT
DTSTART;TZID=America/Winnipeg:20280708T100000
DTEND;TZID=America/Winnipeg:20280708T235900
DTSTAMP:20260425T085244
CREATED:20240603T164350Z
LAST-MODIFIED:20240603T164350Z
UID:10031040-1846663200-1846713540@www.canadinns.com
SUMMARY:🟠 Garbonzo’s Sports Pub – Wings N' Things Weekend!
DESCRIPTION:
URL:https://www.canadinns.com/event/garbonzos-sports-pub-wings-n-things-weekend/2028-07-08/
LOCATION:Garbonzo’s 🟠
CATEGORIES:Garbonzo’s Daily Deals
ATTACH;FMTTYPE=image/jpeg:https://www.canadinns.com/wp-content/uploads/GSP_Meal-Deal_Weekend.jpg
END:VEVENT
BEGIN:VEVENT
DTSTART;TZID=America/Winnipeg:20280714T100000
DTEND;TZID=America/Winnipeg:20280714T235900
DTSTAMP:20260425T085244
CREATED:20240603T164350Z
LAST-MODIFIED:20240603T164350Z
UID:10031041-1847181600-1847231940@www.canadinns.com
SUMMARY:🟠 Garbonzo’s Sports Pub – Wings N' Things Weekend!
DESCRIPTION:
URL:https://www.canadinns.com/event/garbonzos-sports-pub-wings-n-things-weekend/2028-07-14/
LOCATION:Garbonzo’s 🟠
CATEGORIES:Garbonzo’s Daily Deals
ATTACH;FMTTYPE=image/jpeg:https://www.canadinns.com/wp-content/uploads/GSP_Meal-Deal_Weekend.jpg
END:VEVENT
BEGIN:VEVENT
DTSTART;TZID=America/Winnipeg:20280715T100000
DTEND;TZID=America/Winnipeg:20280715T235900
DTSTAMP:20260425T085244
CREATED:20240603T164350Z
LAST-MODIFIED:20240603T164350Z
UID:10031042-1847268000-1847318340@www.canadinns.com
SUMMARY:🟠 Garbonzo’s Sports Pub – Wings N' Things Weekend!
DESCRIPTION:
URL:https://www.canadinns.com/event/garbonzos-sports-pub-wings-n-things-weekend/2028-07-15/
LOCATION:Garbonzo’s 🟠
CATEGORIES:Garbonzo’s Daily Deals
ATTACH;FMTTYPE=image/jpeg:https://www.canadinns.com/wp-content/uploads/GSP_Meal-Deal_Weekend.jpg
END:VEVENT
BEGIN:VEVENT
DTSTART;TZID=America/Winnipeg:20280721T100000
DTEND;TZID=America/Winnipeg:20280721T235900
DTSTAMP:20260425T085244
CREATED:20240603T164350Z
LAST-MODIFIED:20240603T164350Z
UID:10031043-1847786400-1847836740@www.canadinns.com
SUMMARY:🟠 Garbonzo’s Sports Pub – Wings N' Things Weekend!
DESCRIPTION:
URL:https://www.canadinns.com/event/garbonzos-sports-pub-wings-n-things-weekend/2028-07-21/
LOCATION:Garbonzo’s 🟠
CATEGORIES:Garbonzo’s Daily Deals
ATTACH;FMTTYPE=image/jpeg:https://www.canadinns.com/wp-content/uploads/GSP_Meal-Deal_Weekend.jpg
END:VEVENT
BEGIN:VEVENT
DTSTART;TZID=America/Winnipeg:20280722T100000
DTEND;TZID=America/Winnipeg:20280722T235900
DTSTAMP:20260425T085244
CREATED:20240603T164350Z
LAST-MODIFIED:20240603T164350Z
UID:10031044-1847872800-1847923140@www.canadinns.com
SUMMARY:🟠 Garbonzo’s Sports Pub – Wings N' Things Weekend!
DESCRIPTION:
URL:https://www.canadinns.com/event/garbonzos-sports-pub-wings-n-things-weekend/2028-07-22/
LOCATION:Garbonzo’s 🟠
CATEGORIES:Garbonzo’s Daily Deals
ATTACH;FMTTYPE=image/jpeg:https://www.canadinns.com/wp-content/uploads/GSP_Meal-Deal_Weekend.jpg
END:VEVENT
BEGIN:VEVENT
DTSTART;TZID=America/Winnipeg:20280728T100000
DTEND;TZID=America/Winnipeg:20280728T235900
DTSTAMP:20260425T085244
CREATED:20240603T164350Z
LAST-MODIFIED:20240603T164350Z
UID:10031045-1848391200-1848441540@www.canadinns.com
SUMMARY:🟠 Garbonzo’s Sports Pub – Wings N' Things Weekend!
DESCRIPTION:
URL:https://www.canadinns.com/event/garbonzos-sports-pub-wings-n-things-weekend/2028-07-28/
LOCATION:Garbonzo’s 🟠
CATEGORIES:Garbonzo’s Daily Deals
ATTACH;FMTTYPE=image/jpeg:https://www.canadinns.com/wp-content/uploads/GSP_Meal-Deal_Weekend.jpg
END:VEVENT
BEGIN:VEVENT
DTSTART;TZID=America/Winnipeg:20280729T100000
DTEND;TZID=America/Winnipeg:20280729T235900
DTSTAMP:20260425T085244
CREATED:20240603T164350Z
LAST-MODIFIED:20240603T164350Z
UID:10031046-1848477600-1848527940@www.canadinns.com
SUMMARY:🟠 Garbonzo’s Sports Pub – Wings N' Things Weekend!
DESCRIPTION:
URL:https://www.canadinns.com/event/garbonzos-sports-pub-wings-n-things-weekend/2028-07-29/
LOCATION:Garbonzo’s 🟠
CATEGORIES:Garbonzo’s Daily Deals
ATTACH;FMTTYPE=image/jpeg:https://www.canadinns.com/wp-content/uploads/GSP_Meal-Deal_Weekend.jpg
END:VEVENT
BEGIN:VEVENT
DTSTART;TZID=America/Winnipeg:20280804T100000
DTEND;TZID=America/Winnipeg:20280804T235900
DTSTAMP:20260425T085244
CREATED:20240603T164350Z
LAST-MODIFIED:20240603T164350Z
UID:10031047-1848996000-1849046340@www.canadinns.com
SUMMARY:🟠 Garbonzo’s Sports Pub – Wings N' Things Weekend!
DESCRIPTION:
URL:https://www.canadinns.com/event/garbonzos-sports-pub-wings-n-things-weekend/2028-08-04/
LOCATION:Garbonzo’s 🟠
CATEGORIES:Garbonzo’s Daily Deals
ATTACH;FMTTYPE=image/jpeg:https://www.canadinns.com/wp-content/uploads/GSP_Meal-Deal_Weekend.jpg
END:VEVENT
BEGIN:VEVENT
DTSTART;TZID=America/Winnipeg:20280805T100000
DTEND;TZID=America/Winnipeg:20280805T235900
DTSTAMP:20260425T085244
CREATED:20240603T164350Z
LAST-MODIFIED:20240603T164350Z
UID:10031048-1849082400-1849132740@www.canadinns.com
SUMMARY:🟠 Garbonzo’s Sports Pub – Wings N' Things Weekend!
DESCRIPTION:
URL:https://www.canadinns.com/event/garbonzos-sports-pub-wings-n-things-weekend/2028-08-05/
LOCATION:Garbonzo’s 🟠
CATEGORIES:Garbonzo’s Daily Deals
ATTACH;FMTTYPE=image/jpeg:https://www.canadinns.com/wp-content/uploads/GSP_Meal-Deal_Weekend.jpg
END:VEVENT
BEGIN:VEVENT
DTSTART;TZID=America/Winnipeg:20280811T100000
DTEND;TZID=America/Winnipeg:20280811T235900
DTSTAMP:20260425T085244
CREATED:20240603T164350Z
LAST-MODIFIED:20240603T164350Z
UID:10031049-1849600800-1849651140@www.canadinns.com
SUMMARY:🟠 Garbonzo’s Sports Pub – Wings N' Things Weekend!
DESCRIPTION:
URL:https://www.canadinns.com/event/garbonzos-sports-pub-wings-n-things-weekend/2028-08-11/
LOCATION:Garbonzo’s 🟠
CATEGORIES:Garbonzo’s Daily Deals
ATTACH;FMTTYPE=image/jpeg:https://www.canadinns.com/wp-content/uploads/GSP_Meal-Deal_Weekend.jpg
END:VEVENT
BEGIN:VEVENT
DTSTART;TZID=America/Winnipeg:20280812T100000
DTEND;TZID=America/Winnipeg:20280812T235900
DTSTAMP:20260425T085244
CREATED:20240603T164350Z
LAST-MODIFIED:20240603T164350Z
UID:10031050-1849687200-1849737540@www.canadinns.com
SUMMARY:🟠 Garbonzo’s Sports Pub – Wings N' Things Weekend!
DESCRIPTION:
URL:https://www.canadinns.com/event/garbonzos-sports-pub-wings-n-things-weekend/2028-08-12/
LOCATION:Garbonzo’s 🟠
CATEGORIES:Garbonzo’s Daily Deals
ATTACH;FMTTYPE=image/jpeg:https://www.canadinns.com/wp-content/uploads/GSP_Meal-Deal_Weekend.jpg
END:VEVENT
BEGIN:VEVENT
DTSTART;TZID=America/Winnipeg:20280818T100000
DTEND;TZID=America/Winnipeg:20280818T235900
DTSTAMP:20260425T085244
CREATED:20240603T164350Z
LAST-MODIFIED:20240603T164350Z
UID:10031051-1850205600-1850255940@www.canadinns.com
SUMMARY:🟠 Garbonzo’s Sports Pub – Wings N' Things Weekend!
DESCRIPTION:
URL:https://www.canadinns.com/event/garbonzos-sports-pub-wings-n-things-weekend/2028-08-18/
LOCATION:Garbonzo’s 🟠
CATEGORIES:Garbonzo’s Daily Deals
ATTACH;FMTTYPE=image/jpeg:https://www.canadinns.com/wp-content/uploads/GSP_Meal-Deal_Weekend.jpg
END:VEVENT
BEGIN:VEVENT
DTSTART;TZID=America/Winnipeg:20280819T100000
DTEND;TZID=America/Winnipeg:20280819T235900
DTSTAMP:20260425T085244
CREATED:20240603T164350Z
LAST-MODIFIED:20240603T164350Z
UID:10031052-1850292000-1850342340@www.canadinns.com
SUMMARY:🟠 Garbonzo’s Sports Pub – Wings N' Things Weekend!
DESCRIPTION:
URL:https://www.canadinns.com/event/garbonzos-sports-pub-wings-n-things-weekend/2028-08-19/
LOCATION:Garbonzo’s 🟠
CATEGORIES:Garbonzo’s Daily Deals
ATTACH;FMTTYPE=image/jpeg:https://www.canadinns.com/wp-content/uploads/GSP_Meal-Deal_Weekend.jpg
END:VEVENT
BEGIN:VEVENT
DTSTART;TZID=America/Winnipeg:20280825T100000
DTEND;TZID=America/Winnipeg:20280825T235900
DTSTAMP:20260425T085244
CREATED:20240603T164350Z
LAST-MODIFIED:20240603T164350Z
UID:10031053-1850810400-1850860740@www.canadinns.com
SUMMARY:🟠 Garbonzo’s Sports Pub – Wings N' Things Weekend!
DESCRIPTION:
URL:https://www.canadinns.com/event/garbonzos-sports-pub-wings-n-things-weekend/2028-08-25/
LOCATION:Garbonzo’s 🟠
CATEGORIES:Garbonzo’s Daily Deals
ATTACH;FMTTYPE=image/jpeg:https://www.canadinns.com/wp-content/uploads/GSP_Meal-Deal_Weekend.jpg
END:VEVENT
BEGIN:VEVENT
DTSTART;TZID=America/Winnipeg:20280826T100000
DTEND;TZID=America/Winnipeg:20280826T235900
DTSTAMP:20260425T085244
CREATED:20240603T164350Z
LAST-MODIFIED:20240603T164350Z
UID:10031054-1850896800-1850947140@www.canadinns.com
SUMMARY:🟠 Garbonzo’s Sports Pub – Wings N' Things Weekend!
DESCRIPTION:
URL:https://www.canadinns.com/event/garbonzos-sports-pub-wings-n-things-weekend/2028-08-26/
LOCATION:Garbonzo’s 🟠
CATEGORIES:Garbonzo’s Daily Deals
ATTACH;FMTTYPE=image/jpeg:https://www.canadinns.com/wp-content/uploads/GSP_Meal-Deal_Weekend.jpg
END:VEVENT
BEGIN:VEVENT
DTSTART;TZID=America/Winnipeg:20280901T100000
DTEND;TZID=America/Winnipeg:20280901T235900
DTSTAMP:20260425T085244
CREATED:20240603T164350Z
LAST-MODIFIED:20240603T164350Z
UID:10031055-1851415200-1851465540@www.canadinns.com
SUMMARY:🟠 Garbonzo’s Sports Pub – Wings N' Things Weekend!
DESCRIPTION:
URL:https://www.canadinns.com/event/garbonzos-sports-pub-wings-n-things-weekend/2028-09-01/
LOCATION:Garbonzo’s 🟠
CATEGORIES:Garbonzo’s Daily Deals
ATTACH;FMTTYPE=image/jpeg:https://www.canadinns.com/wp-content/uploads/GSP_Meal-Deal_Weekend.jpg
END:VEVENT
END:VCALENDAR