BEGIN:VCALENDAR
VERSION:2.0
PRODID:-//Canad Inns - ECPv6.15.17.1//NONSGML v1.0//EN
CALSCALE:GREGORIAN
METHOD:PUBLISH
X-ORIGINAL-URL:https://www.canadinns.com
X-WR-CALDESC:Events for Canad Inns
REFRESH-INTERVAL;VALUE=DURATION:PT1H
X-Robots-Tag:noindex
X-PUBLISHED-TTL:PT1H
BEGIN:VTIMEZONE
TZID:America/Winnipeg
BEGIN:DAYLIGHT
TZOFFSETFROM:-0600
TZOFFSETTO:-0500
TZNAME:CDT
DTSTART:20270314T080000
END:DAYLIGHT
BEGIN:STANDARD
TZOFFSETFROM:-0500
TZOFFSETTO:-0600
TZNAME:CST
DTSTART:20271107T070000
END:STANDARD
BEGIN:DAYLIGHT
TZOFFSETFROM:-0600
TZOFFSETTO:-0500
TZNAME:CDT
DTSTART:20280312T080000
END:DAYLIGHT
BEGIN:STANDARD
TZOFFSETFROM:-0500
TZOFFSETTO:-0600
TZNAME:CST
DTSTART:20281105T070000
END:STANDARD
BEGIN:DAYLIGHT
TZOFFSETFROM:-0600
TZOFFSETTO:-0500
TZNAME:CDT
DTSTART:20290311T080000
END:DAYLIGHT
BEGIN:STANDARD
TZOFFSETFROM:-0500
TZOFFSETTO:-0600
TZNAME:CST
DTSTART:20291104T070000
END:STANDARD
END:VTIMEZONE
BEGIN:VEVENT
DTSTART;TZID=America/Winnipeg:20280825T070000
DTEND;TZID=America/Winnipeg:20280825T103000
DTSTAMP:20260422T164834
CREATED:20260402T160402Z
LAST-MODIFIED:20260402T160402Z
UID:10051795-1850799600-1850812200@www.canadinns.com
SUMMARY:🟢 Aaltos - $5.99 Breakfast Special
DESCRIPTION:Aaltos $5.99 Breakfast Special\nKickstart your morning with Aaltos $5.99* Breakfast with a beverage purchase! Choose between a Classic Breakfast or Pancake Breakfast! \n📅 Weekdays until 10:30AM | Dine-in only Limited time offer. \n*Excludes holidays and not available at Aaltos Health Sciences Centre. \n\nVisit canadinns.com/aaltos for more info!
URL:https://www.canadinns.com/event/aaltos-5-99-breakfast-special/2028-08-25/
LOCATION:Aaltos 🟢
CATEGORIES:Aaltos Buffets
ATTACH;FMTTYPE=image/png:https://www.canadinns.com/wp-content/uploads/04-02-26-Aaltos-Breakfast-Special-IG-scaled.png
END:VEVENT
BEGIN:VEVENT
DTSTART;TZID=America/Winnipeg:20280825T100000
DTEND;TZID=America/Winnipeg:20280825T180000
DTSTAMP:20260422T164834
CREATED:20240603T165315Z
LAST-MODIFIED:20240603T165315Z
UID:10032941-1850810400-1850839200@www.canadinns.com
SUMMARY:🟠 Garbonzo’s Sports Pub – Happier Hours Until 6pm
DESCRIPTION:
URL:https://www.canadinns.com/event/garbonzos-sports-pub-happier-hours-until-6pm/2028-08-25/
LOCATION:Garbonzo’s 🟠
CATEGORIES:Garbonzo’s Daily Deals
ATTACH;FMTTYPE=image/jpeg:https://www.canadinns.com/wp-content/uploads/2023-11-15_19087-CI-Garbonzos-Anti-Inflation-Happier-Hours-1080x1080-Nov2023-FNL.jpg
END:VEVENT
BEGIN:VEVENT
DTSTART;TZID=America/Winnipeg:20280825T100000
DTEND;TZID=America/Winnipeg:20280825T235900
DTSTAMP:20260422T164834
CREATED:20240603T164350Z
LAST-MODIFIED:20240603T164350Z
UID:10031053-1850810400-1850860740@www.canadinns.com
SUMMARY:🟠 Garbonzo’s Sports Pub – Wings N' Things Weekend!
DESCRIPTION:
URL:https://www.canadinns.com/event/garbonzos-sports-pub-wings-n-things-weekend/2028-08-25/
LOCATION:Garbonzo’s 🟠
CATEGORIES:Garbonzo’s Daily Deals
ATTACH;FMTTYPE=image/jpeg:https://www.canadinns.com/wp-content/uploads/GSP_Meal-Deal_Weekend.jpg
END:VEVENT
BEGIN:VEVENT
DTSTART;TZID=America/Winnipeg:20280825T110000
DTEND;TZID=America/Winnipeg:20280825T110000
DTSTAMP:20260422T164834
CREATED:20240826T195528Z
LAST-MODIFIED:20240826T195910Z
UID:10040180-1850814000-1850814000@www.canadinns.com
SUMMARY:🟢 Aaltos Soup\, Salad and Dessert Bar
DESCRIPTION:Craving a fresh\, healthy and a delicious meal? Enjoy our Soup\, Salad and Dessert bar at Aaltos that includes three daily soups\, over 60-items salad bar and delicious desserts. It’s the perfect way to satisfy your cravings all for one meal!
URL:https://www.canadinns.com/event/%f0%9f%9f%a2-aaltos-soup-salad-and-dessert-bar/2028-08-25/
LOCATION:Aaltos 🟢
ATTACH;FMTTYPE=image/jpeg:https://www.canadinns.com/wp-content/uploads/2024-08-20-CI-Aaltos-Soup-Salad-and-Dessert-Buffet11x17-Sept3-2024-FNL2-19995-scaled.jpg
END:VEVENT
BEGIN:VEVENT
DTSTART;TZID=America/Winnipeg:20280825T170000
DTEND;TZID=America/Winnipeg:20280825T200000
DTSTAMP:20260422T164834
CREATED:20250723T155518Z
LAST-MODIFIED:20250723T161411Z
UID:10048603-1850835600-1850846400@www.canadinns.com
SUMMARY:🟢 Aaltos Seafood Fridays
DESCRIPTION:Craving seafood? Treat yourself and the whole family to an unforgettable Seafood Friday buffet at Aaltos. Enjoy our seafood buffet featuring snow crab legs\, soup\, salad and dessert bar. Bring your appetite and loved ones for a meal filled with tasty bites and great savings this Friday!
URL:https://www.canadinns.com/event/aaltos-seafood-fridays-2/2028-08-25/
LOCATION:Aaltos 🟢
ATTACH;FMTTYPE=image/jpeg:https://www.canadinns.com/wp-content/uploads/2024-08-20-CI-Aaltos-SeafoodFridays11x17Sept3-2024-FNL-1-scaled.jpg
END:VEVENT
BEGIN:VEVENT
DTSTART;TZID=America/Winnipeg:20280826T100000
DTEND;TZID=America/Winnipeg:20280826T180000
DTSTAMP:20260422T164834
CREATED:20240603T165315Z
LAST-MODIFIED:20240603T165315Z
UID:10032942-1850896800-1850925600@www.canadinns.com
SUMMARY:🟠 Garbonzo’s Sports Pub – Happier Hours Until 6pm
DESCRIPTION:
URL:https://www.canadinns.com/event/garbonzos-sports-pub-happier-hours-until-6pm/2028-08-26/
LOCATION:Garbonzo’s 🟠
CATEGORIES:Garbonzo’s Daily Deals
ATTACH;FMTTYPE=image/jpeg:https://www.canadinns.com/wp-content/uploads/2023-11-15_19087-CI-Garbonzos-Anti-Inflation-Happier-Hours-1080x1080-Nov2023-FNL.jpg
END:VEVENT
BEGIN:VEVENT
DTSTART;TZID=America/Winnipeg:20280826T100000
DTEND;TZID=America/Winnipeg:20280826T235900
DTSTAMP:20260422T164834
CREATED:20240603T164350Z
LAST-MODIFIED:20240603T164350Z
UID:10031054-1850896800-1850947140@www.canadinns.com
SUMMARY:🟠 Garbonzo’s Sports Pub – Wings N' Things Weekend!
DESCRIPTION:
URL:https://www.canadinns.com/event/garbonzos-sports-pub-wings-n-things-weekend/2028-08-26/
LOCATION:Garbonzo’s 🟠
CATEGORIES:Garbonzo’s Daily Deals
ATTACH;FMTTYPE=image/jpeg:https://www.canadinns.com/wp-content/uploads/GSP_Meal-Deal_Weekend.jpg
END:VEVENT
BEGIN:VEVENT
DTSTART;TZID=America/Winnipeg:20280826T110000
DTEND;TZID=America/Winnipeg:20280826T110000
DTSTAMP:20260422T164834
CREATED:20240826T195528Z
LAST-MODIFIED:20240826T195910Z
UID:10040181-1850900400-1850900400@www.canadinns.com
SUMMARY:🟢 Aaltos Soup\, Salad and Dessert Bar
DESCRIPTION:Craving a fresh\, healthy and a delicious meal? Enjoy our Soup\, Salad and Dessert bar at Aaltos that includes three daily soups\, over 60-items salad bar and delicious desserts. It’s the perfect way to satisfy your cravings all for one meal!
URL:https://www.canadinns.com/event/%f0%9f%9f%a2-aaltos-soup-salad-and-dessert-bar/2028-08-26/
LOCATION:Aaltos 🟢
ATTACH;FMTTYPE=image/jpeg:https://www.canadinns.com/wp-content/uploads/2024-08-20-CI-Aaltos-Soup-Salad-and-Dessert-Buffet11x17-Sept3-2024-FNL2-19995-scaled.jpg
END:VEVENT
BEGIN:VEVENT
DTSTART;TZID=America/Winnipeg:20280826T170000
DTEND;TZID=America/Winnipeg:20280826T200000
DTSTAMP:20260422T164834
CREATED:20250723T155339Z
LAST-MODIFIED:20250723T155340Z
UID:10048343-1850922000-1850932800@www.canadinns.com
SUMMARY:🟢Aaltos Prime Rib Saturdays
DESCRIPTION:Ready to elevate your weekend dining? Join us at Aaltos for our delicious Prime Rib Saturday. Bring the whole family and enjoy the rich\, savory taste of our slow roasted prime rib\, and served with your favourite sides.
URL:https://www.canadinns.com/event/%f0%9f%9f%a2aaltos-prime-rib-saturdays-2/2028-08-26/
LOCATION:Aaltos 🟢
ATTACH;FMTTYPE=image/jpeg:https://www.canadinns.com/wp-content/uploads/2024-08-20-CI-Aaltos-Prime-Rib-Saturday11-x17Sept3-2024-FNL-19994-scaled.jpg
END:VEVENT
BEGIN:VEVENT
DTSTART;TZID=America/Winnipeg:20280827T100000
DTEND;TZID=America/Winnipeg:20280827T140000
DTSTAMP:20260422T164834
CREATED:20250723T180825Z
LAST-MODIFIED:20250723T181457Z
UID:10049271-1850983200-1850997600@www.canadinns.com
SUMMARY:🟢 Aaltos Sunday Brunch Buffet
DESCRIPTION:Join us for a delightful Sunday Brunch Buffet. Featuring Chef-attended carvery\, made to order stations\, soup\, salad and so much more. \nVisit canadinns.com/aaltos for more information.
URL:https://www.canadinns.com/event/aaltos-sunday-brunch-buffet/2028-08-27/
LOCATION:Aaltos 🟢
ATTACH;FMTTYPE=image/jpeg:https://www.canadinns.com/wp-content/uploads/2025-04-09_CI-Aaltos-SundayBrunchPoster-20716-scaled-2.jpg
END:VEVENT
BEGIN:VEVENT
DTSTART;TZID=America/Winnipeg:20280827T100000
DTEND;TZID=America/Winnipeg:20280827T180000
DTSTAMP:20260422T164834
CREATED:20240603T165315Z
LAST-MODIFIED:20240603T165315Z
UID:10032943-1850983200-1851012000@www.canadinns.com
SUMMARY:🟠 Garbonzo’s Sports Pub – Happier Hours Until 6pm
DESCRIPTION:
URL:https://www.canadinns.com/event/garbonzos-sports-pub-happier-hours-until-6pm/2028-08-27/
LOCATION:Garbonzo’s 🟠
CATEGORIES:Garbonzo’s Daily Deals
ATTACH;FMTTYPE=image/jpeg:https://www.canadinns.com/wp-content/uploads/2023-11-15_19087-CI-Garbonzos-Anti-Inflation-Happier-Hours-1080x1080-Nov2023-FNL.jpg
END:VEVENT
BEGIN:VEVENT
DTSTART;TZID=America/Winnipeg:20280827T100000
DTEND;TZID=America/Winnipeg:20280827T235900
DTSTAMP:20260422T164834
CREATED:20230327T121535Z
LAST-MODIFIED:20240603T153930Z
UID:10029876-1850983200-1851033540@www.canadinns.com
SUMMARY:🟠 Garbonzo’s Sports Pub – Saucy Sunday
DESCRIPTION:
URL:https://www.canadinns.com/event/garbonzos-sports-pub-saucy-sunday/2028-08-27/
LOCATION:Garbonzo’s 🟠
CATEGORIES:Garbonzo’s Daily Deals
ATTACH;FMTTYPE=image/jpeg:https://www.canadinns.com/wp-content/uploads/GSP_Meal-Deal_Sunday.jpg
END:VEVENT
BEGIN:VEVENT
DTSTART;TZID=America/Winnipeg:20280827T110000
DTEND;TZID=America/Winnipeg:20280827T110000
DTSTAMP:20260422T164834
CREATED:20240826T195528Z
LAST-MODIFIED:20240826T195910Z
UID:10040182-1850986800-1850986800@www.canadinns.com
SUMMARY:🟢 Aaltos Soup\, Salad and Dessert Bar
DESCRIPTION:Craving a fresh\, healthy and a delicious meal? Enjoy our Soup\, Salad and Dessert bar at Aaltos that includes three daily soups\, over 60-items salad bar and delicious desserts. It’s the perfect way to satisfy your cravings all for one meal!
URL:https://www.canadinns.com/event/%f0%9f%9f%a2-aaltos-soup-salad-and-dessert-bar/2028-08-27/
LOCATION:Aaltos 🟢
ATTACH;FMTTYPE=image/jpeg:https://www.canadinns.com/wp-content/uploads/2024-08-20-CI-Aaltos-Soup-Salad-and-Dessert-Buffet11x17-Sept3-2024-FNL2-19995-scaled.jpg
END:VEVENT
BEGIN:VEVENT
DTSTART;TZID=America/Winnipeg:20280827T170000
DTEND;TZID=America/Winnipeg:20280827T200000
DTSTAMP:20260422T164834
CREATED:20250723T181842Z
LAST-MODIFIED:20250723T182048Z
UID:10049532-1851008400-1851019200@www.canadinns.com
SUMMARY:🟢 Aaltos Classic Homestyle Sunday Dinner Buffet
DESCRIPTION:Dive into a world of comfort with Classic Homestyle Dinner Buffet. Includes our Soup\, Salad & Dessert Buffet! \nAvailable at:\nAaltos Fort Garry – 1824 Pembina Highway \nAaltos Polo Park – 1405 St. Matthews Avenue \nAaltos Club Regent Casino Hotel – 1415 Regent Avenue W. \n  \nVisit canadinns.com/aaltos for more information.
URL:https://www.canadinns.com/event/%f0%9f%9f%a2-aaltos-classic-homestyle-sunday-dinner-buffet/2028-08-27/
ATTACH;FMTTYPE=image/jpeg:https://www.canadinns.com/wp-content/uploads/2024-09-24-CI-Aaltos-Classic-Homestyle-Sunday11-x17-Sept2024-FNL-20105-scaled-2.jpg
END:VEVENT
BEGIN:VEVENT
DTSTART;TZID=America/Winnipeg:20280828T070000
DTEND;TZID=America/Winnipeg:20280828T103000
DTSTAMP:20260422T164834
CREATED:20260402T160402Z
LAST-MODIFIED:20260402T160402Z
UID:10051796-1851058800-1851071400@www.canadinns.com
SUMMARY:🟢 Aaltos - $5.99 Breakfast Special
DESCRIPTION:Aaltos $5.99 Breakfast Special\nKickstart your morning with Aaltos $5.99* Breakfast with a beverage purchase! Choose between a Classic Breakfast or Pancake Breakfast! \n📅 Weekdays until 10:30AM | Dine-in only Limited time offer. \n*Excludes holidays and not available at Aaltos Health Sciences Centre. \n\nVisit canadinns.com/aaltos for more info!
URL:https://www.canadinns.com/event/aaltos-5-99-breakfast-special/2028-08-28/
LOCATION:Aaltos 🟢
CATEGORIES:Aaltos Buffets
ATTACH;FMTTYPE=image/png:https://www.canadinns.com/wp-content/uploads/04-02-26-Aaltos-Breakfast-Special-IG-scaled.png
END:VEVENT
BEGIN:VEVENT
DTSTART;TZID=America/Winnipeg:20280828T100000
DTEND;TZID=America/Winnipeg:20280828T180000
DTSTAMP:20260422T164834
CREATED:20240603T165315Z
LAST-MODIFIED:20240603T165315Z
UID:10032944-1851069600-1851098400@www.canadinns.com
SUMMARY:🟠 Garbonzo’s Sports Pub – Happier Hours Until 6pm
DESCRIPTION:
URL:https://www.canadinns.com/event/garbonzos-sports-pub-happier-hours-until-6pm/2028-08-28/
LOCATION:Garbonzo’s 🟠
CATEGORIES:Garbonzo’s Daily Deals
ATTACH;FMTTYPE=image/jpeg:https://www.canadinns.com/wp-content/uploads/2023-11-15_19087-CI-Garbonzos-Anti-Inflation-Happier-Hours-1080x1080-Nov2023-FNL.jpg
END:VEVENT
BEGIN:VEVENT
DTSTART;TZID=America/Winnipeg:20280828T100000
DTEND;TZID=America/Winnipeg:20280828T235900
DTSTAMP:20260422T164834
CREATED:20230327T121014Z
LAST-MODIFIED:20240603T154122Z
UID:10030093-1851069600-1851119940@www.canadinns.com
SUMMARY:🟠 Garbonzo’s Sports Pub – Meal Deal Monday
DESCRIPTION:
URL:https://www.canadinns.com/event/garbonzos-sports-pub-meal-deal-monday/2028-08-28/
LOCATION:Garbonzo’s 🟠
CATEGORIES:Garbonzo’s Daily Deals
ATTACH;FMTTYPE=image/jpeg:https://www.canadinns.com/wp-content/uploads/GSP_Meal-Deal_Monday.jpg
END:VEVENT
BEGIN:VEVENT
DTSTART;TZID=America/Winnipeg:20280828T110000
DTEND;TZID=America/Winnipeg:20280828T110000
DTSTAMP:20260422T164834
CREATED:20240826T195528Z
LAST-MODIFIED:20240826T195910Z
UID:10040183-1851073200-1851073200@www.canadinns.com
SUMMARY:🟢 Aaltos Soup\, Salad and Dessert Bar
DESCRIPTION:Craving a fresh\, healthy and a delicious meal? Enjoy our Soup\, Salad and Dessert bar at Aaltos that includes three daily soups\, over 60-items salad bar and delicious desserts. It’s the perfect way to satisfy your cravings all for one meal!
URL:https://www.canadinns.com/event/%f0%9f%9f%a2-aaltos-soup-salad-and-dessert-bar/2028-08-28/
LOCATION:Aaltos 🟢
ATTACH;FMTTYPE=image/jpeg:https://www.canadinns.com/wp-content/uploads/2024-08-20-CI-Aaltos-Soup-Salad-and-Dessert-Buffet11x17-Sept3-2024-FNL2-19995-scaled.jpg
END:VEVENT
BEGIN:VEVENT
DTSTART;TZID=America/Winnipeg:20280829T070000
DTEND;TZID=America/Winnipeg:20280829T103000
DTSTAMP:20260422T164834
CREATED:20260402T160402Z
LAST-MODIFIED:20260402T160402Z
UID:10051797-1851145200-1851157800@www.canadinns.com
SUMMARY:🟢 Aaltos - $5.99 Breakfast Special
DESCRIPTION:Aaltos $5.99 Breakfast Special\nKickstart your morning with Aaltos $5.99* Breakfast with a beverage purchase! Choose between a Classic Breakfast or Pancake Breakfast! \n📅 Weekdays until 10:30AM | Dine-in only Limited time offer. \n*Excludes holidays and not available at Aaltos Health Sciences Centre. \n\nVisit canadinns.com/aaltos for more info!
URL:https://www.canadinns.com/event/aaltos-5-99-breakfast-special/2028-08-29/
LOCATION:Aaltos 🟢
CATEGORIES:Aaltos Buffets
ATTACH;FMTTYPE=image/png:https://www.canadinns.com/wp-content/uploads/04-02-26-Aaltos-Breakfast-Special-IG-scaled.png
END:VEVENT
BEGIN:VEVENT
DTSTART;TZID=America/Winnipeg:20280829T100000
DTEND;TZID=America/Winnipeg:20280829T180000
DTSTAMP:20260422T164835
CREATED:20240603T165315Z
LAST-MODIFIED:20240603T165315Z
UID:10032945-1851156000-1851184800@www.canadinns.com
SUMMARY:🟠 Garbonzo’s Sports Pub – Happier Hours Until 6pm
DESCRIPTION:
URL:https://www.canadinns.com/event/garbonzos-sports-pub-happier-hours-until-6pm/2028-08-29/
LOCATION:Garbonzo’s 🟠
CATEGORIES:Garbonzo’s Daily Deals
ATTACH;FMTTYPE=image/jpeg:https://www.canadinns.com/wp-content/uploads/2023-11-15_19087-CI-Garbonzos-Anti-Inflation-Happier-Hours-1080x1080-Nov2023-FNL.jpg
END:VEVENT
BEGIN:VEVENT
DTSTART;TZID=America/Winnipeg:20280829T100000
DTEND;TZID=America/Winnipeg:20280829T235900
DTSTAMP:20260422T164835
CREATED:20230327T121139Z
LAST-MODIFIED:20240603T154252Z
UID:10030309-1851156000-1851206340@www.canadinns.com
SUMMARY:🟠 Garbonzo’s Sports Pub – Two-Topping Tuesday
DESCRIPTION:
URL:https://www.canadinns.com/event/garbonzos-sports-pub-two-topping-tuesday/2028-08-29/
LOCATION:Garbonzo’s 🟠
CATEGORIES:Garbonzo’s Daily Deals
ATTACH;FMTTYPE=image/jpeg:https://www.canadinns.com/wp-content/uploads/GSP_Meal-Deal_Tuesday.jpg
END:VEVENT
BEGIN:VEVENT
DTSTART;TZID=America/Winnipeg:20280829T110000
DTEND;TZID=America/Winnipeg:20280829T110000
DTSTAMP:20260422T164835
CREATED:20240826T195528Z
LAST-MODIFIED:20240826T195910Z
UID:10040184-1851159600-1851159600@www.canadinns.com
SUMMARY:🟢 Aaltos Soup\, Salad and Dessert Bar
DESCRIPTION:Craving a fresh\, healthy and a delicious meal? Enjoy our Soup\, Salad and Dessert bar at Aaltos that includes three daily soups\, over 60-items salad bar and delicious desserts. It’s the perfect way to satisfy your cravings all for one meal!
URL:https://www.canadinns.com/event/%f0%9f%9f%a2-aaltos-soup-salad-and-dessert-bar/2028-08-29/
LOCATION:Aaltos 🟢
ATTACH;FMTTYPE=image/jpeg:https://www.canadinns.com/wp-content/uploads/2024-08-20-CI-Aaltos-Soup-Salad-and-Dessert-Buffet11x17-Sept3-2024-FNL2-19995-scaled.jpg
END:VEVENT
BEGIN:VEVENT
DTSTART;TZID=America/Winnipeg:20280830T070000
DTEND;TZID=America/Winnipeg:20280830T103000
DTSTAMP:20260422T164835
CREATED:20260402T160402Z
LAST-MODIFIED:20260402T160402Z
UID:10051798-1851231600-1851244200@www.canadinns.com
SUMMARY:🟢 Aaltos - $5.99 Breakfast Special
DESCRIPTION:Aaltos $5.99 Breakfast Special\nKickstart your morning with Aaltos $5.99* Breakfast with a beverage purchase! Choose between a Classic Breakfast or Pancake Breakfast! \n📅 Weekdays until 10:30AM | Dine-in only Limited time offer. \n*Excludes holidays and not available at Aaltos Health Sciences Centre. \n\nVisit canadinns.com/aaltos for more info!
URL:https://www.canadinns.com/event/aaltos-5-99-breakfast-special/2028-08-30/
LOCATION:Aaltos 🟢
CATEGORIES:Aaltos Buffets
ATTACH;FMTTYPE=image/png:https://www.canadinns.com/wp-content/uploads/04-02-26-Aaltos-Breakfast-Special-IG-scaled.png
END:VEVENT
BEGIN:VEVENT
DTSTART;TZID=America/Winnipeg:20280830T100000
DTEND;TZID=America/Winnipeg:20280830T180000
DTSTAMP:20260422T164835
CREATED:20230327T122135Z
LAST-MODIFIED:20240603T170150Z
UID:10033246-1851242400-1851271200@www.canadinns.com
SUMMARY:🟠 Garbonzo’s Sports Pub Daily Beverage Features - 14oz Glass Sangria
DESCRIPTION:
URL:https://www.canadinns.com/event/garbonzos-sports-pub-daily-beverage-features-14oz-glass-sangria/2028-08-30/
LOCATION:Garbonzo’s 🟠
CATEGORIES:Garbonzo’s Daily Deals
END:VEVENT
BEGIN:VEVENT
DTSTART;TZID=America/Winnipeg:20280830T100000
DTEND;TZID=America/Winnipeg:20280830T180000
DTSTAMP:20260422T164835
CREATED:20240603T165315Z
LAST-MODIFIED:20240603T165315Z
UID:10032946-1851242400-1851271200@www.canadinns.com
SUMMARY:🟠 Garbonzo’s Sports Pub – Happier Hours Until 6pm
DESCRIPTION:
URL:https://www.canadinns.com/event/garbonzos-sports-pub-happier-hours-until-6pm/2028-08-30/
LOCATION:Garbonzo’s 🟠
CATEGORIES:Garbonzo’s Daily Deals
ATTACH;FMTTYPE=image/jpeg:https://www.canadinns.com/wp-content/uploads/2023-11-15_19087-CI-Garbonzos-Anti-Inflation-Happier-Hours-1080x1080-Nov2023-FNL.jpg
END:VEVENT
BEGIN:VEVENT
DTSTART;TZID=America/Winnipeg:20280830T100000
DTEND;TZID=America/Winnipeg:20280830T235900
DTSTAMP:20260422T164835
CREATED:20240603T160207Z
LAST-MODIFIED:20240603T160207Z
UID:10030570-1851242400-1851292740@www.canadinns.com
SUMMARY:🟠 Garbonzo’s Sports Pub – BOGO Half Price Pasta
DESCRIPTION:
URL:https://www.canadinns.com/event/garbonzos-sports-pub-bogo-half-price-pasta/2028-08-30/
LOCATION:Garbonzo’s 🟠
CATEGORIES:Garbonzo’s Daily Deals
ATTACH;FMTTYPE=image/jpeg:https://www.canadinns.com/wp-content/uploads/GSP_Meal-Deal_Wednesday.jpg
END:VEVENT
BEGIN:VEVENT
DTSTART;TZID=America/Winnipeg:20280830T110000
DTEND;TZID=America/Winnipeg:20280830T110000
DTSTAMP:20260422T164835
CREATED:20240826T195528Z
LAST-MODIFIED:20240826T195910Z
UID:10040185-1851246000-1851246000@www.canadinns.com
SUMMARY:🟢 Aaltos Soup\, Salad and Dessert Bar
DESCRIPTION:Craving a fresh\, healthy and a delicious meal? Enjoy our Soup\, Salad and Dessert bar at Aaltos that includes three daily soups\, over 60-items salad bar and delicious desserts. It’s the perfect way to satisfy your cravings all for one meal!
URL:https://www.canadinns.com/event/%f0%9f%9f%a2-aaltos-soup-salad-and-dessert-bar/2028-08-30/
LOCATION:Aaltos 🟢
ATTACH;FMTTYPE=image/jpeg:https://www.canadinns.com/wp-content/uploads/2024-08-20-CI-Aaltos-Soup-Salad-and-Dessert-Buffet11x17-Sept3-2024-FNL2-19995-scaled.jpg
END:VEVENT
BEGIN:VEVENT
DTSTART;TZID=America/Winnipeg:20280831T070000
DTEND;TZID=America/Winnipeg:20280831T103000
DTSTAMP:20260422T164835
CREATED:20260402T160402Z
LAST-MODIFIED:20260402T160402Z
UID:10051799-1851318000-1851330600@www.canadinns.com
SUMMARY:🟢 Aaltos - $5.99 Breakfast Special
DESCRIPTION:Aaltos $5.99 Breakfast Special\nKickstart your morning with Aaltos $5.99* Breakfast with a beverage purchase! Choose between a Classic Breakfast or Pancake Breakfast! \n📅 Weekdays until 10:30AM | Dine-in only Limited time offer. \n*Excludes holidays and not available at Aaltos Health Sciences Centre. \n\nVisit canadinns.com/aaltos for more info!
URL:https://www.canadinns.com/event/aaltos-5-99-breakfast-special/2028-08-31/
LOCATION:Aaltos 🟢
CATEGORIES:Aaltos Buffets
ATTACH;FMTTYPE=image/png:https://www.canadinns.com/wp-content/uploads/04-02-26-Aaltos-Breakfast-Special-IG-scaled.png
END:VEVENT
BEGIN:VEVENT
DTSTART;TZID=America/Winnipeg:20280831T100000
DTEND;TZID=America/Winnipeg:20280831T180000
DTSTAMP:20260422T164835
CREATED:20240603T165315Z
LAST-MODIFIED:20240603T165315Z
UID:10032947-1851328800-1851357600@www.canadinns.com
SUMMARY:🟠 Garbonzo’s Sports Pub – Happier Hours Until 6pm
DESCRIPTION:
URL:https://www.canadinns.com/event/garbonzos-sports-pub-happier-hours-until-6pm/2028-08-31/
LOCATION:Garbonzo’s 🟠
CATEGORIES:Garbonzo’s Daily Deals
ATTACH;FMTTYPE=image/jpeg:https://www.canadinns.com/wp-content/uploads/2023-11-15_19087-CI-Garbonzos-Anti-Inflation-Happier-Hours-1080x1080-Nov2023-FNL.jpg
END:VEVENT
BEGIN:VEVENT
DTSTART;TZID=America/Winnipeg:20280831T100000
DTEND;TZID=America/Winnipeg:20280831T235900
DTSTAMP:20260422T164835
CREATED:20240603T164739Z
LAST-MODIFIED:20240603T164739Z
UID:10031356-1851328800-1851379140@www.canadinns.com
SUMMARY:🟠 Garbonzo’s Sports Pub – 2 for $25 Appys
DESCRIPTION:
URL:https://www.canadinns.com/event/garbonzos-sports-pub-2-for-25-appys/2028-08-31/
LOCATION:Garbonzo’s 🟠
CATEGORIES:Garbonzo’s Daily Deals
ATTACH;FMTTYPE=image/jpeg:https://www.canadinns.com/wp-content/uploads/GSP_Meal-Deal_Thursday.jpg
END:VEVENT
END:VCALENDAR