BEGIN:VCALENDAR
VERSION:2.0
PRODID:-//Canad Inns - ECPv6.15.17.1//NONSGML v1.0//EN
CALSCALE:GREGORIAN
METHOD:PUBLISH
X-ORIGINAL-URL:https://www.canadinns.com
X-WR-CALDESC:Events for Canad Inns
REFRESH-INTERVAL;VALUE=DURATION:PT1H
X-Robots-Tag:noindex
X-PUBLISHED-TTL:PT1H
BEGIN:VTIMEZONE
TZID:America/Winnipeg
BEGIN:DAYLIGHT
TZOFFSETFROM:-0600
TZOFFSETTO:-0500
TZNAME:CDT
DTSTART:20270314T080000
END:DAYLIGHT
BEGIN:STANDARD
TZOFFSETFROM:-0500
TZOFFSETTO:-0600
TZNAME:CST
DTSTART:20271107T070000
END:STANDARD
BEGIN:DAYLIGHT
TZOFFSETFROM:-0600
TZOFFSETTO:-0500
TZNAME:CDT
DTSTART:20280312T080000
END:DAYLIGHT
BEGIN:STANDARD
TZOFFSETFROM:-0500
TZOFFSETTO:-0600
TZNAME:CST
DTSTART:20281105T070000
END:STANDARD
BEGIN:DAYLIGHT
TZOFFSETFROM:-0600
TZOFFSETTO:-0500
TZNAME:CDT
DTSTART:20290311T080000
END:DAYLIGHT
BEGIN:STANDARD
TZOFFSETFROM:-0500
TZOFFSETTO:-0600
TZNAME:CST
DTSTART:20291104T070000
END:STANDARD
END:VTIMEZONE
BEGIN:VEVENT
DTSTART;TZID=America/Winnipeg:20280722T100000
DTEND;TZID=America/Winnipeg:20280722T180000
DTSTAMP:20260422T171311
CREATED:20240603T165315Z
LAST-MODIFIED:20240603T165315Z
UID:10032907-1847872800-1847901600@www.canadinns.com
SUMMARY:🟠 Garbonzo’s Sports Pub – Happier Hours Until 6pm
DESCRIPTION:
URL:https://www.canadinns.com/event/garbonzos-sports-pub-happier-hours-until-6pm/2028-07-22/
LOCATION:Garbonzo’s 🟠
CATEGORIES:Garbonzo’s Daily Deals
ATTACH;FMTTYPE=image/jpeg:https://www.canadinns.com/wp-content/uploads/2023-11-15_19087-CI-Garbonzos-Anti-Inflation-Happier-Hours-1080x1080-Nov2023-FNL.jpg
END:VEVENT
BEGIN:VEVENT
DTSTART;TZID=America/Winnipeg:20280722T100000
DTEND;TZID=America/Winnipeg:20280722T235900
DTSTAMP:20260422T171311
CREATED:20240603T164350Z
LAST-MODIFIED:20240603T164350Z
UID:10031044-1847872800-1847923140@www.canadinns.com
SUMMARY:🟠 Garbonzo’s Sports Pub – Wings N' Things Weekend!
DESCRIPTION:
URL:https://www.canadinns.com/event/garbonzos-sports-pub-wings-n-things-weekend/2028-07-22/
LOCATION:Garbonzo’s 🟠
CATEGORIES:Garbonzo’s Daily Deals
ATTACH;FMTTYPE=image/jpeg:https://www.canadinns.com/wp-content/uploads/GSP_Meal-Deal_Weekend.jpg
END:VEVENT
BEGIN:VEVENT
DTSTART;TZID=America/Winnipeg:20280722T110000
DTEND;TZID=America/Winnipeg:20280722T110000
DTSTAMP:20260422T171311
CREATED:20240826T195528Z
LAST-MODIFIED:20240826T195910Z
UID:10040146-1847876400-1847876400@www.canadinns.com
SUMMARY:🟢 Aaltos Soup\, Salad and Dessert Bar
DESCRIPTION:Craving a fresh\, healthy and a delicious meal? Enjoy our Soup\, Salad and Dessert bar at Aaltos that includes three daily soups\, over 60-items salad bar and delicious desserts. It’s the perfect way to satisfy your cravings all for one meal!
URL:https://www.canadinns.com/event/%f0%9f%9f%a2-aaltos-soup-salad-and-dessert-bar/2028-07-22/
LOCATION:Aaltos 🟢
ATTACH;FMTTYPE=image/jpeg:https://www.canadinns.com/wp-content/uploads/2024-08-20-CI-Aaltos-Soup-Salad-and-Dessert-Buffet11x17-Sept3-2024-FNL2-19995-scaled.jpg
END:VEVENT
BEGIN:VEVENT
DTSTART;TZID=America/Winnipeg:20280722T170000
DTEND;TZID=America/Winnipeg:20280722T200000
DTSTAMP:20260422T171311
CREATED:20250723T155339Z
LAST-MODIFIED:20250723T155340Z
UID:10048338-1847898000-1847908800@www.canadinns.com
SUMMARY:🟢Aaltos Prime Rib Saturdays
DESCRIPTION:Ready to elevate your weekend dining? Join us at Aaltos for our delicious Prime Rib Saturday. Bring the whole family and enjoy the rich\, savory taste of our slow roasted prime rib\, and served with your favourite sides.
URL:https://www.canadinns.com/event/%f0%9f%9f%a2aaltos-prime-rib-saturdays-2/2028-07-22/
LOCATION:Aaltos 🟢
ATTACH;FMTTYPE=image/jpeg:https://www.canadinns.com/wp-content/uploads/2024-08-20-CI-Aaltos-Prime-Rib-Saturday11-x17Sept3-2024-FNL-19994-scaled.jpg
END:VEVENT
BEGIN:VEVENT
DTSTART;TZID=America/Winnipeg:20280723T100000
DTEND;TZID=America/Winnipeg:20280723T140000
DTSTAMP:20260422T171311
CREATED:20250723T180825Z
LAST-MODIFIED:20250723T181457Z
UID:10049266-1847959200-1847973600@www.canadinns.com
SUMMARY:🟢 Aaltos Sunday Brunch Buffet
DESCRIPTION:Join us for a delightful Sunday Brunch Buffet. Featuring Chef-attended carvery\, made to order stations\, soup\, salad and so much more. \nVisit canadinns.com/aaltos for more information.
URL:https://www.canadinns.com/event/aaltos-sunday-brunch-buffet/2028-07-23/
LOCATION:Aaltos 🟢
ATTACH;FMTTYPE=image/jpeg:https://www.canadinns.com/wp-content/uploads/2025-04-09_CI-Aaltos-SundayBrunchPoster-20716-scaled-2.jpg
END:VEVENT
BEGIN:VEVENT
DTSTART;TZID=America/Winnipeg:20280723T100000
DTEND;TZID=America/Winnipeg:20280723T180000
DTSTAMP:20260422T171311
CREATED:20240603T165315Z
LAST-MODIFIED:20240603T165315Z
UID:10032908-1847959200-1847988000@www.canadinns.com
SUMMARY:🟠 Garbonzo’s Sports Pub – Happier Hours Until 6pm
DESCRIPTION:
URL:https://www.canadinns.com/event/garbonzos-sports-pub-happier-hours-until-6pm/2028-07-23/
LOCATION:Garbonzo’s 🟠
CATEGORIES:Garbonzo’s Daily Deals
ATTACH;FMTTYPE=image/jpeg:https://www.canadinns.com/wp-content/uploads/2023-11-15_19087-CI-Garbonzos-Anti-Inflation-Happier-Hours-1080x1080-Nov2023-FNL.jpg
END:VEVENT
BEGIN:VEVENT
DTSTART;TZID=America/Winnipeg:20280723T100000
DTEND;TZID=America/Winnipeg:20280723T235900
DTSTAMP:20260422T171311
CREATED:20230327T121535Z
LAST-MODIFIED:20240603T153930Z
UID:10029871-1847959200-1848009540@www.canadinns.com
SUMMARY:🟠 Garbonzo’s Sports Pub – Saucy Sunday
DESCRIPTION:
URL:https://www.canadinns.com/event/garbonzos-sports-pub-saucy-sunday/2028-07-23/
LOCATION:Garbonzo’s 🟠
CATEGORIES:Garbonzo’s Daily Deals
ATTACH;FMTTYPE=image/jpeg:https://www.canadinns.com/wp-content/uploads/GSP_Meal-Deal_Sunday.jpg
END:VEVENT
BEGIN:VEVENT
DTSTART;TZID=America/Winnipeg:20280723T110000
DTEND;TZID=America/Winnipeg:20280723T110000
DTSTAMP:20260422T171311
CREATED:20240826T195528Z
LAST-MODIFIED:20240826T195910Z
UID:10040147-1847962800-1847962800@www.canadinns.com
SUMMARY:🟢 Aaltos Soup\, Salad and Dessert Bar
DESCRIPTION:Craving a fresh\, healthy and a delicious meal? Enjoy our Soup\, Salad and Dessert bar at Aaltos that includes three daily soups\, over 60-items salad bar and delicious desserts. It’s the perfect way to satisfy your cravings all for one meal!
URL:https://www.canadinns.com/event/%f0%9f%9f%a2-aaltos-soup-salad-and-dessert-bar/2028-07-23/
LOCATION:Aaltos 🟢
ATTACH;FMTTYPE=image/jpeg:https://www.canadinns.com/wp-content/uploads/2024-08-20-CI-Aaltos-Soup-Salad-and-Dessert-Buffet11x17-Sept3-2024-FNL2-19995-scaled.jpg
END:VEVENT
BEGIN:VEVENT
DTSTART;TZID=America/Winnipeg:20280723T170000
DTEND;TZID=America/Winnipeg:20280723T200000
DTSTAMP:20260422T171311
CREATED:20250723T181842Z
LAST-MODIFIED:20250723T182048Z
UID:10049527-1847984400-1847995200@www.canadinns.com
SUMMARY:🟢 Aaltos Classic Homestyle Sunday Dinner Buffet
DESCRIPTION:Dive into a world of comfort with Classic Homestyle Dinner Buffet. Includes our Soup\, Salad & Dessert Buffet! \nAvailable at:\nAaltos Fort Garry – 1824 Pembina Highway \nAaltos Polo Park – 1405 St. Matthews Avenue \nAaltos Club Regent Casino Hotel – 1415 Regent Avenue W. \n  \nVisit canadinns.com/aaltos for more information.
URL:https://www.canadinns.com/event/%f0%9f%9f%a2-aaltos-classic-homestyle-sunday-dinner-buffet/2028-07-23/
ATTACH;FMTTYPE=image/jpeg:https://www.canadinns.com/wp-content/uploads/2024-09-24-CI-Aaltos-Classic-Homestyle-Sunday11-x17-Sept2024-FNL-20105-scaled-2.jpg
END:VEVENT
BEGIN:VEVENT
DTSTART;TZID=America/Winnipeg:20280724T070000
DTEND;TZID=America/Winnipeg:20280724T103000
DTSTAMP:20260422T171311
CREATED:20260402T160402Z
LAST-MODIFIED:20260402T160402Z
UID:10051771-1848034800-1848047400@www.canadinns.com
SUMMARY:🟢 Aaltos - $5.99 Breakfast Special
DESCRIPTION:Aaltos $5.99 Breakfast Special\nKickstart your morning with Aaltos $5.99* Breakfast with a beverage purchase! Choose between a Classic Breakfast or Pancake Breakfast! \n📅 Weekdays until 10:30AM | Dine-in only Limited time offer. \n*Excludes holidays and not available at Aaltos Health Sciences Centre. \n\nVisit canadinns.com/aaltos for more info!
URL:https://www.canadinns.com/event/aaltos-5-99-breakfast-special/2028-07-24/
LOCATION:Aaltos 🟢
CATEGORIES:Aaltos Buffets
ATTACH;FMTTYPE=image/png:https://www.canadinns.com/wp-content/uploads/04-02-26-Aaltos-Breakfast-Special-IG-scaled.png
END:VEVENT
BEGIN:VEVENT
DTSTART;TZID=America/Winnipeg:20280724T100000
DTEND;TZID=America/Winnipeg:20280724T180000
DTSTAMP:20260422T171311
CREATED:20240603T165315Z
LAST-MODIFIED:20240603T165315Z
UID:10032909-1848045600-1848074400@www.canadinns.com
SUMMARY:🟠 Garbonzo’s Sports Pub – Happier Hours Until 6pm
DESCRIPTION:
URL:https://www.canadinns.com/event/garbonzos-sports-pub-happier-hours-until-6pm/2028-07-24/
LOCATION:Garbonzo’s 🟠
CATEGORIES:Garbonzo’s Daily Deals
ATTACH;FMTTYPE=image/jpeg:https://www.canadinns.com/wp-content/uploads/2023-11-15_19087-CI-Garbonzos-Anti-Inflation-Happier-Hours-1080x1080-Nov2023-FNL.jpg
END:VEVENT
BEGIN:VEVENT
DTSTART;TZID=America/Winnipeg:20280724T100000
DTEND;TZID=America/Winnipeg:20280724T235900
DTSTAMP:20260422T171311
CREATED:20230327T121014Z
LAST-MODIFIED:20240603T154122Z
UID:10030088-1848045600-1848095940@www.canadinns.com
SUMMARY:🟠 Garbonzo’s Sports Pub – Meal Deal Monday
DESCRIPTION:
URL:https://www.canadinns.com/event/garbonzos-sports-pub-meal-deal-monday/2028-07-24/
LOCATION:Garbonzo’s 🟠
CATEGORIES:Garbonzo’s Daily Deals
ATTACH;FMTTYPE=image/jpeg:https://www.canadinns.com/wp-content/uploads/GSP_Meal-Deal_Monday.jpg
END:VEVENT
BEGIN:VEVENT
DTSTART;TZID=America/Winnipeg:20280724T110000
DTEND;TZID=America/Winnipeg:20280724T110000
DTSTAMP:20260422T171311
CREATED:20240826T195528Z
LAST-MODIFIED:20240826T195910Z
UID:10040148-1848049200-1848049200@www.canadinns.com
SUMMARY:🟢 Aaltos Soup\, Salad and Dessert Bar
DESCRIPTION:Craving a fresh\, healthy and a delicious meal? Enjoy our Soup\, Salad and Dessert bar at Aaltos that includes three daily soups\, over 60-items salad bar and delicious desserts. It’s the perfect way to satisfy your cravings all for one meal!
URL:https://www.canadinns.com/event/%f0%9f%9f%a2-aaltos-soup-salad-and-dessert-bar/2028-07-24/
LOCATION:Aaltos 🟢
ATTACH;FMTTYPE=image/jpeg:https://www.canadinns.com/wp-content/uploads/2024-08-20-CI-Aaltos-Soup-Salad-and-Dessert-Buffet11x17-Sept3-2024-FNL2-19995-scaled.jpg
END:VEVENT
BEGIN:VEVENT
DTSTART;TZID=America/Winnipeg:20280725T070000
DTEND;TZID=America/Winnipeg:20280725T103000
DTSTAMP:20260422T171311
CREATED:20260402T160402Z
LAST-MODIFIED:20260402T160402Z
UID:10051772-1848121200-1848133800@www.canadinns.com
SUMMARY:🟢 Aaltos - $5.99 Breakfast Special
DESCRIPTION:Aaltos $5.99 Breakfast Special\nKickstart your morning with Aaltos $5.99* Breakfast with a beverage purchase! Choose between a Classic Breakfast or Pancake Breakfast! \n📅 Weekdays until 10:30AM | Dine-in only Limited time offer. \n*Excludes holidays and not available at Aaltos Health Sciences Centre. \n\nVisit canadinns.com/aaltos for more info!
URL:https://www.canadinns.com/event/aaltos-5-99-breakfast-special/2028-07-25/
LOCATION:Aaltos 🟢
CATEGORIES:Aaltos Buffets
ATTACH;FMTTYPE=image/png:https://www.canadinns.com/wp-content/uploads/04-02-26-Aaltos-Breakfast-Special-IG-scaled.png
END:VEVENT
BEGIN:VEVENT
DTSTART;TZID=America/Winnipeg:20280725T100000
DTEND;TZID=America/Winnipeg:20280725T180000
DTSTAMP:20260422T171311
CREATED:20240603T165315Z
LAST-MODIFIED:20240603T165315Z
UID:10032910-1848132000-1848160800@www.canadinns.com
SUMMARY:🟠 Garbonzo’s Sports Pub – Happier Hours Until 6pm
DESCRIPTION:
URL:https://www.canadinns.com/event/garbonzos-sports-pub-happier-hours-until-6pm/2028-07-25/
LOCATION:Garbonzo’s 🟠
CATEGORIES:Garbonzo’s Daily Deals
ATTACH;FMTTYPE=image/jpeg:https://www.canadinns.com/wp-content/uploads/2023-11-15_19087-CI-Garbonzos-Anti-Inflation-Happier-Hours-1080x1080-Nov2023-FNL.jpg
END:VEVENT
BEGIN:VEVENT
DTSTART;TZID=America/Winnipeg:20280725T100000
DTEND;TZID=America/Winnipeg:20280725T235900
DTSTAMP:20260422T171311
CREATED:20230327T121139Z
LAST-MODIFIED:20240603T154252Z
UID:10030304-1848132000-1848182340@www.canadinns.com
SUMMARY:🟠 Garbonzo’s Sports Pub – Two-Topping Tuesday
DESCRIPTION:
URL:https://www.canadinns.com/event/garbonzos-sports-pub-two-topping-tuesday/2028-07-25/
LOCATION:Garbonzo’s 🟠
CATEGORIES:Garbonzo’s Daily Deals
ATTACH;FMTTYPE=image/jpeg:https://www.canadinns.com/wp-content/uploads/GSP_Meal-Deal_Tuesday.jpg
END:VEVENT
BEGIN:VEVENT
DTSTART;TZID=America/Winnipeg:20280725T110000
DTEND;TZID=America/Winnipeg:20280725T110000
DTSTAMP:20260422T171311
CREATED:20240826T195528Z
LAST-MODIFIED:20240826T195910Z
UID:10040149-1848135600-1848135600@www.canadinns.com
SUMMARY:🟢 Aaltos Soup\, Salad and Dessert Bar
DESCRIPTION:Craving a fresh\, healthy and a delicious meal? Enjoy our Soup\, Salad and Dessert bar at Aaltos that includes three daily soups\, over 60-items salad bar and delicious desserts. It’s the perfect way to satisfy your cravings all for one meal!
URL:https://www.canadinns.com/event/%f0%9f%9f%a2-aaltos-soup-salad-and-dessert-bar/2028-07-25/
LOCATION:Aaltos 🟢
ATTACH;FMTTYPE=image/jpeg:https://www.canadinns.com/wp-content/uploads/2024-08-20-CI-Aaltos-Soup-Salad-and-Dessert-Buffet11x17-Sept3-2024-FNL2-19995-scaled.jpg
END:VEVENT
BEGIN:VEVENT
DTSTART;TZID=America/Winnipeg:20280726T070000
DTEND;TZID=America/Winnipeg:20280726T103000
DTSTAMP:20260422T171311
CREATED:20260402T160402Z
LAST-MODIFIED:20260402T160402Z
UID:10051773-1848207600-1848220200@www.canadinns.com
SUMMARY:🟢 Aaltos - $5.99 Breakfast Special
DESCRIPTION:Aaltos $5.99 Breakfast Special\nKickstart your morning with Aaltos $5.99* Breakfast with a beverage purchase! Choose between a Classic Breakfast or Pancake Breakfast! \n📅 Weekdays until 10:30AM | Dine-in only Limited time offer. \n*Excludes holidays and not available at Aaltos Health Sciences Centre. \n\nVisit canadinns.com/aaltos for more info!
URL:https://www.canadinns.com/event/aaltos-5-99-breakfast-special/2028-07-26/
LOCATION:Aaltos 🟢
CATEGORIES:Aaltos Buffets
ATTACH;FMTTYPE=image/png:https://www.canadinns.com/wp-content/uploads/04-02-26-Aaltos-Breakfast-Special-IG-scaled.png
END:VEVENT
BEGIN:VEVENT
DTSTART;TZID=America/Winnipeg:20280726T100000
DTEND;TZID=America/Winnipeg:20280726T180000
DTSTAMP:20260422T171311
CREATED:20230327T122135Z
LAST-MODIFIED:20240603T170150Z
UID:10033241-1848218400-1848247200@www.canadinns.com
SUMMARY:🟠 Garbonzo’s Sports Pub Daily Beverage Features - 14oz Glass Sangria
DESCRIPTION:
URL:https://www.canadinns.com/event/garbonzos-sports-pub-daily-beverage-features-14oz-glass-sangria/2028-07-26/
LOCATION:Garbonzo’s 🟠
CATEGORIES:Garbonzo’s Daily Deals
END:VEVENT
BEGIN:VEVENT
DTSTART;TZID=America/Winnipeg:20280726T100000
DTEND;TZID=America/Winnipeg:20280726T180000
DTSTAMP:20260422T171311
CREATED:20240603T165315Z
LAST-MODIFIED:20240603T165315Z
UID:10032911-1848218400-1848247200@www.canadinns.com
SUMMARY:🟠 Garbonzo’s Sports Pub – Happier Hours Until 6pm
DESCRIPTION:
URL:https://www.canadinns.com/event/garbonzos-sports-pub-happier-hours-until-6pm/2028-07-26/
LOCATION:Garbonzo’s 🟠
CATEGORIES:Garbonzo’s Daily Deals
ATTACH;FMTTYPE=image/jpeg:https://www.canadinns.com/wp-content/uploads/2023-11-15_19087-CI-Garbonzos-Anti-Inflation-Happier-Hours-1080x1080-Nov2023-FNL.jpg
END:VEVENT
BEGIN:VEVENT
DTSTART;TZID=America/Winnipeg:20280726T100000
DTEND;TZID=America/Winnipeg:20280726T235900
DTSTAMP:20260422T171311
CREATED:20240603T160207Z
LAST-MODIFIED:20240603T160207Z
UID:10030565-1848218400-1848268740@www.canadinns.com
SUMMARY:🟠 Garbonzo’s Sports Pub – BOGO Half Price Pasta
DESCRIPTION:
URL:https://www.canadinns.com/event/garbonzos-sports-pub-bogo-half-price-pasta/2028-07-26/
LOCATION:Garbonzo’s 🟠
CATEGORIES:Garbonzo’s Daily Deals
ATTACH;FMTTYPE=image/jpeg:https://www.canadinns.com/wp-content/uploads/GSP_Meal-Deal_Wednesday.jpg
END:VEVENT
BEGIN:VEVENT
DTSTART;TZID=America/Winnipeg:20280726T110000
DTEND;TZID=America/Winnipeg:20280726T110000
DTSTAMP:20260422T171311
CREATED:20240826T195528Z
LAST-MODIFIED:20240826T195910Z
UID:10040150-1848222000-1848222000@www.canadinns.com
SUMMARY:🟢 Aaltos Soup\, Salad and Dessert Bar
DESCRIPTION:Craving a fresh\, healthy and a delicious meal? Enjoy our Soup\, Salad and Dessert bar at Aaltos that includes three daily soups\, over 60-items salad bar and delicious desserts. It’s the perfect way to satisfy your cravings all for one meal!
URL:https://www.canadinns.com/event/%f0%9f%9f%a2-aaltos-soup-salad-and-dessert-bar/2028-07-26/
LOCATION:Aaltos 🟢
ATTACH;FMTTYPE=image/jpeg:https://www.canadinns.com/wp-content/uploads/2024-08-20-CI-Aaltos-Soup-Salad-and-Dessert-Buffet11x17-Sept3-2024-FNL2-19995-scaled.jpg
END:VEVENT
BEGIN:VEVENT
DTSTART;TZID=America/Winnipeg:20280727T070000
DTEND;TZID=America/Winnipeg:20280727T103000
DTSTAMP:20260422T171311
CREATED:20260402T160402Z
LAST-MODIFIED:20260402T160402Z
UID:10051774-1848294000-1848306600@www.canadinns.com
SUMMARY:🟢 Aaltos - $5.99 Breakfast Special
DESCRIPTION:Aaltos $5.99 Breakfast Special\nKickstart your morning with Aaltos $5.99* Breakfast with a beverage purchase! Choose between a Classic Breakfast or Pancake Breakfast! \n📅 Weekdays until 10:30AM | Dine-in only Limited time offer. \n*Excludes holidays and not available at Aaltos Health Sciences Centre. \n\nVisit canadinns.com/aaltos for more info!
URL:https://www.canadinns.com/event/aaltos-5-99-breakfast-special/2028-07-27/
LOCATION:Aaltos 🟢
CATEGORIES:Aaltos Buffets
ATTACH;FMTTYPE=image/png:https://www.canadinns.com/wp-content/uploads/04-02-26-Aaltos-Breakfast-Special-IG-scaled.png
END:VEVENT
BEGIN:VEVENT
DTSTART;TZID=America/Winnipeg:20280727T100000
DTEND;TZID=America/Winnipeg:20280727T180000
DTSTAMP:20260422T171311
CREATED:20240603T165315Z
LAST-MODIFIED:20240603T165315Z
UID:10032912-1848304800-1848333600@www.canadinns.com
SUMMARY:🟠 Garbonzo’s Sports Pub – Happier Hours Until 6pm
DESCRIPTION:
URL:https://www.canadinns.com/event/garbonzos-sports-pub-happier-hours-until-6pm/2028-07-27/
LOCATION:Garbonzo’s 🟠
CATEGORIES:Garbonzo’s Daily Deals
ATTACH;FMTTYPE=image/jpeg:https://www.canadinns.com/wp-content/uploads/2023-11-15_19087-CI-Garbonzos-Anti-Inflation-Happier-Hours-1080x1080-Nov2023-FNL.jpg
END:VEVENT
BEGIN:VEVENT
DTSTART;TZID=America/Winnipeg:20280727T100000
DTEND;TZID=America/Winnipeg:20280727T235900
DTSTAMP:20260422T171311
CREATED:20240603T164739Z
LAST-MODIFIED:20240603T164739Z
UID:10031351-1848304800-1848355140@www.canadinns.com
SUMMARY:🟠 Garbonzo’s Sports Pub – 2 for $25 Appys
DESCRIPTION:
URL:https://www.canadinns.com/event/garbonzos-sports-pub-2-for-25-appys/2028-07-27/
LOCATION:Garbonzo’s 🟠
CATEGORIES:Garbonzo’s Daily Deals
ATTACH;FMTTYPE=image/jpeg:https://www.canadinns.com/wp-content/uploads/GSP_Meal-Deal_Thursday.jpg
END:VEVENT
BEGIN:VEVENT
DTSTART;TZID=America/Winnipeg:20280727T110000
DTEND;TZID=America/Winnipeg:20280727T110000
DTSTAMP:20260422T171311
CREATED:20240826T195528Z
LAST-MODIFIED:20240826T195910Z
UID:10040151-1848308400-1848308400@www.canadinns.com
SUMMARY:🟢 Aaltos Soup\, Salad and Dessert Bar
DESCRIPTION:Craving a fresh\, healthy and a delicious meal? Enjoy our Soup\, Salad and Dessert bar at Aaltos that includes three daily soups\, over 60-items salad bar and delicious desserts. It’s the perfect way to satisfy your cravings all for one meal!
URL:https://www.canadinns.com/event/%f0%9f%9f%a2-aaltos-soup-salad-and-dessert-bar/2028-07-27/
LOCATION:Aaltos 🟢
ATTACH;FMTTYPE=image/jpeg:https://www.canadinns.com/wp-content/uploads/2024-08-20-CI-Aaltos-Soup-Salad-and-Dessert-Buffet11x17-Sept3-2024-FNL2-19995-scaled.jpg
END:VEVENT
BEGIN:VEVENT
DTSTART;TZID=America/Winnipeg:20280727T160000
DTEND;TZID=America/Winnipeg:20280727T210000
DTSTAMP:20260422T171311
CREATED:20240830T135832Z
LAST-MODIFIED:20240830T140245Z
UID:10042574-1848326400-1848344400@www.canadinns.com
SUMMARY:🟦Splasher's of The South Seas: Buy One Get One Free Thursdays
DESCRIPTION:🏊 Thursdays Just Got Better! 🏊 \nBring your family and friends and dive into our Buy One\, Get One Free deal every Thursday from 4pm-9pm! Buy one waterpark pass at regular price and get one at equal or lesser value free. \nEnjoy a full day of swimming\, splashing\, and unwinding at Splasher’s of The South Seas today.
URL:https://www.canadinns.com/event/%f0%9f%9f%a6splashers-of-the-south-seas-buy-one-get-one-thursdays/2028-07-27/
ATTACH;FMTTYPE=image/jpeg:https://www.canadinns.com/wp-content/uploads/2024-08-23-CI-GrandForksSplashersOfTheSouthSeasUpdates-IG1080x1080-Aug2024-FNL2-20023.jpg
END:VEVENT
BEGIN:VEVENT
DTSTART;TZID=America/Winnipeg:20280728T070000
DTEND;TZID=America/Winnipeg:20280728T103000
DTSTAMP:20260422T171311
CREATED:20260402T160402Z
LAST-MODIFIED:20260402T160402Z
UID:10051775-1848380400-1848393000@www.canadinns.com
SUMMARY:🟢 Aaltos - $5.99 Breakfast Special
DESCRIPTION:Aaltos $5.99 Breakfast Special\nKickstart your morning with Aaltos $5.99* Breakfast with a beverage purchase! Choose between a Classic Breakfast or Pancake Breakfast! \n📅 Weekdays until 10:30AM | Dine-in only Limited time offer. \n*Excludes holidays and not available at Aaltos Health Sciences Centre. \n\nVisit canadinns.com/aaltos for more info!
URL:https://www.canadinns.com/event/aaltos-5-99-breakfast-special/2028-07-28/
LOCATION:Aaltos 🟢
CATEGORIES:Aaltos Buffets
ATTACH;FMTTYPE=image/png:https://www.canadinns.com/wp-content/uploads/04-02-26-Aaltos-Breakfast-Special-IG-scaled.png
END:VEVENT
BEGIN:VEVENT
DTSTART;TZID=America/Winnipeg:20280728T100000
DTEND;TZID=America/Winnipeg:20280728T180000
DTSTAMP:20260422T171311
CREATED:20240603T165315Z
LAST-MODIFIED:20240603T165315Z
UID:10032913-1848391200-1848420000@www.canadinns.com
SUMMARY:🟠 Garbonzo’s Sports Pub – Happier Hours Until 6pm
DESCRIPTION:
URL:https://www.canadinns.com/event/garbonzos-sports-pub-happier-hours-until-6pm/2028-07-28/
LOCATION:Garbonzo’s 🟠
CATEGORIES:Garbonzo’s Daily Deals
ATTACH;FMTTYPE=image/jpeg:https://www.canadinns.com/wp-content/uploads/2023-11-15_19087-CI-Garbonzos-Anti-Inflation-Happier-Hours-1080x1080-Nov2023-FNL.jpg
END:VEVENT
BEGIN:VEVENT
DTSTART;TZID=America/Winnipeg:20280728T100000
DTEND;TZID=America/Winnipeg:20280728T235900
DTSTAMP:20260422T171311
CREATED:20240603T164350Z
LAST-MODIFIED:20240603T164350Z
UID:10031045-1848391200-1848441540@www.canadinns.com
SUMMARY:🟠 Garbonzo’s Sports Pub – Wings N' Things Weekend!
DESCRIPTION:
URL:https://www.canadinns.com/event/garbonzos-sports-pub-wings-n-things-weekend/2028-07-28/
LOCATION:Garbonzo’s 🟠
CATEGORIES:Garbonzo’s Daily Deals
ATTACH;FMTTYPE=image/jpeg:https://www.canadinns.com/wp-content/uploads/GSP_Meal-Deal_Weekend.jpg
END:VEVENT
END:VCALENDAR