BEGIN:VCALENDAR
VERSION:2.0
PRODID:-//Canad Inns - ECPv6.15.17.1//NONSGML v1.0//EN
CALSCALE:GREGORIAN
METHOD:PUBLISH
X-ORIGINAL-URL:https://www.canadinns.com
X-WR-CALDESC:Events for Canad Inns
REFRESH-INTERVAL;VALUE=DURATION:PT1H
X-Robots-Tag:noindex
X-PUBLISHED-TTL:PT1H
BEGIN:VTIMEZONE
TZID:America/Winnipeg
BEGIN:DAYLIGHT
TZOFFSETFROM:-0600
TZOFFSETTO:-0500
TZNAME:CDT
DTSTART:20260308T080000
END:DAYLIGHT
BEGIN:STANDARD
TZOFFSETFROM:-0500
TZOFFSETTO:-0600
TZNAME:CST
DTSTART:20261101T070000
END:STANDARD
BEGIN:DAYLIGHT
TZOFFSETFROM:-0600
TZOFFSETTO:-0500
TZNAME:CDT
DTSTART:20270314T080000
END:DAYLIGHT
BEGIN:STANDARD
TZOFFSETFROM:-0500
TZOFFSETTO:-0600
TZNAME:CST
DTSTART:20271107T070000
END:STANDARD
BEGIN:DAYLIGHT
TZOFFSETFROM:-0600
TZOFFSETTO:-0500
TZNAME:CDT
DTSTART:20280312T080000
END:DAYLIGHT
BEGIN:STANDARD
TZOFFSETFROM:-0500
TZOFFSETTO:-0600
TZNAME:CST
DTSTART:20281105T070000
END:STANDARD
END:VTIMEZONE
BEGIN:VEVENT
DTSTART;TZID=America/Winnipeg:20271129T070000
DTEND;TZID=America/Winnipeg:20271129T103000
DTSTAMP:20260420T133554
CREATED:20260402T160402Z
LAST-MODIFIED:20260402T160402Z
UID:10051601-1827471600-1827484200@www.canadinns.com
SUMMARY:🟢 Aaltos - $5.99 Breakfast Special
DESCRIPTION:Aaltos $5.99 Breakfast Special\nKickstart your morning with Aaltos $5.99* Breakfast with a beverage purchase! Choose between a Classic Breakfast or Pancake Breakfast! \n📅 Weekdays until 10:30AM | Dine-in only Limited time offer. \n*Excludes holidays and not available at Aaltos Health Sciences Centre. \n\nVisit canadinns.com/aaltos for more info!
URL:https://www.canadinns.com/event/aaltos-5-99-breakfast-special/2027-11-29/
LOCATION:Aaltos 🟢
CATEGORIES:Aaltos Buffets
ATTACH;FMTTYPE=image/png:https://www.canadinns.com/wp-content/uploads/04-02-26-Aaltos-Breakfast-Special-IG-scaled.png
END:VEVENT
BEGIN:VEVENT
DTSTART;TZID=America/Winnipeg:20271129T100000
DTEND;TZID=America/Winnipeg:20271129T180000
DTSTAMP:20260420T133554
CREATED:20230327T115419Z
LAST-MODIFIED:20230327T115453Z
UID:10014382-1827482400-1827511200@www.canadinns.com
SUMMARY:🔵 Tavern United Daily Beverage Features - 14 oz Sangria
DESCRIPTION:
URL:https://www.canadinns.com/event/tavern-united-daily-beverage-features-14-oz-sangria/2027-11-29/
LOCATION:Tavern United 🔵
CATEGORIES:TU Daily Deals
END:VEVENT
BEGIN:VEVENT
DTSTART;TZID=America/Winnipeg:20271129T100000
DTEND;TZID=America/Winnipeg:20271129T180000
DTSTAMP:20260420T133554
CREATED:20230327T121909Z
LAST-MODIFIED:20230327T121952Z
UID:10024823-1827482400-1827511200@www.canadinns.com
SUMMARY:🟠 Garbonzo’s Sports Pub Daily Beverage Features - Royal Peach Tea
DESCRIPTION:
URL:https://www.canadinns.com/event/garbonzos-sports-pub-daily-beverage-features-royal-peach-tea/2027-11-29/
LOCATION:Garbonzo’s 🟠
CATEGORIES:Garbonzo’s Daily Deals
END:VEVENT
BEGIN:VEVENT
DTSTART;TZID=America/Winnipeg:20271129T100000
DTEND;TZID=America/Winnipeg:20271129T180000
DTSTAMP:20260420T133554
CREATED:20240603T165315Z
LAST-MODIFIED:20240603T165315Z
UID:10032671-1827482400-1827511200@www.canadinns.com
SUMMARY:🟠 Garbonzo’s Sports Pub – Happier Hours Until 6pm
DESCRIPTION:
URL:https://www.canadinns.com/event/garbonzos-sports-pub-happier-hours-until-6pm/2027-11-29/
LOCATION:Garbonzo’s 🟠
CATEGORIES:Garbonzo’s Daily Deals
ATTACH;FMTTYPE=image/jpeg:https://www.canadinns.com/wp-content/uploads/2023-11-15_19087-CI-Garbonzos-Anti-Inflation-Happier-Hours-1080x1080-Nov2023-FNL.jpg
END:VEVENT
BEGIN:VEVENT
DTSTART;TZID=America/Winnipeg:20271129T100000
DTEND;TZID=America/Winnipeg:20271129T235900
DTSTAMP:20260420T133554
CREATED:20230327T121014Z
LAST-MODIFIED:20240603T154122Z
UID:10030054-1827482400-1827532740@www.canadinns.com
SUMMARY:🟠 Garbonzo’s Sports Pub – Meal Deal Monday
DESCRIPTION:
URL:https://www.canadinns.com/event/garbonzos-sports-pub-meal-deal-monday/2027-11-29/
LOCATION:Garbonzo’s 🟠
CATEGORIES:Garbonzo’s Daily Deals
ATTACH;FMTTYPE=image/jpeg:https://www.canadinns.com/wp-content/uploads/GSP_Meal-Deal_Monday.jpg
END:VEVENT
BEGIN:VEVENT
DTSTART;TZID=America/Winnipeg:20271129T110000
DTEND;TZID=America/Winnipeg:20271129T110000
DTSTAMP:20260420T133554
CREATED:20240826T195528Z
LAST-MODIFIED:20240826T195910Z
UID:10039910-1827486000-1827486000@www.canadinns.com
SUMMARY:🟢 Aaltos Soup\, Salad and Dessert Bar
DESCRIPTION:Craving a fresh\, healthy and a delicious meal? Enjoy our Soup\, Salad and Dessert bar at Aaltos that includes three daily soups\, over 60-items salad bar and delicious desserts. It’s the perfect way to satisfy your cravings all for one meal!
URL:https://www.canadinns.com/event/%f0%9f%9f%a2-aaltos-soup-salad-and-dessert-bar/2027-11-29/
LOCATION:Aaltos 🟢
ATTACH;FMTTYPE=image/jpeg:https://www.canadinns.com/wp-content/uploads/2024-08-20-CI-Aaltos-Soup-Salad-and-Dessert-Buffet11x17-Sept3-2024-FNL2-19995-scaled.jpg
END:VEVENT
BEGIN:VEVENT
DTSTART;TZID=America/Winnipeg:20271130T070000
DTEND;TZID=America/Winnipeg:20271130T103000
DTSTAMP:20260420T133554
CREATED:20260402T160402Z
LAST-MODIFIED:20260402T160402Z
UID:10051602-1827558000-1827570600@www.canadinns.com
SUMMARY:🟢 Aaltos - $5.99 Breakfast Special
DESCRIPTION:Aaltos $5.99 Breakfast Special\nKickstart your morning with Aaltos $5.99* Breakfast with a beverage purchase! Choose between a Classic Breakfast or Pancake Breakfast! \n📅 Weekdays until 10:30AM | Dine-in only Limited time offer. \n*Excludes holidays and not available at Aaltos Health Sciences Centre. \n\nVisit canadinns.com/aaltos for more info!
URL:https://www.canadinns.com/event/aaltos-5-99-breakfast-special/2027-11-30/
LOCATION:Aaltos 🟢
CATEGORIES:Aaltos Buffets
ATTACH;FMTTYPE=image/png:https://www.canadinns.com/wp-content/uploads/04-02-26-Aaltos-Breakfast-Special-IG-scaled.png
END:VEVENT
BEGIN:VEVENT
DTSTART;TZID=America/Winnipeg:20271130T100000
DTEND;TZID=America/Winnipeg:20271130T180000
DTSTAMP:20260420T133554
CREATED:20230327T115616Z
LAST-MODIFIED:20230327T115638Z
UID:10014906-1827568800-1827597600@www.canadinns.com
SUMMARY:🔵 Tavern United Daily Beverage Features -  2 oz Signature Mules
DESCRIPTION:
URL:https://www.canadinns.com/event/tavern-united-daily-beverage-features-2-oz-signature-mules/2027-11-30/
LOCATION:Tavern United 🔵
CATEGORIES:TU Daily Deals
END:VEVENT
BEGIN:VEVENT
DTSTART;TZID=America/Winnipeg:20271130T100000
DTEND;TZID=America/Winnipeg:20271130T180000
DTSTAMP:20260420T133554
CREATED:20230327T122032Z
LAST-MODIFIED:20230327T122050Z
UID:10025347-1827568800-1827597600@www.canadinns.com
SUMMARY:🟠 Garbonzo’s Sports Pub Daily Beverage Features - Garbonzo’s Signature Slushie
DESCRIPTION:
URL:https://www.canadinns.com/event/garbonzos-sports-pub-daily-beverage-features-garbonzos-signature-slushie/2027-11-30/
LOCATION:Garbonzo’s 🟠
CATEGORIES:Garbonzo’s Daily Deals
END:VEVENT
BEGIN:VEVENT
DTSTART;TZID=America/Winnipeg:20271130T100000
DTEND;TZID=America/Winnipeg:20271130T180000
DTSTAMP:20260420T133554
CREATED:20240603T165315Z
LAST-MODIFIED:20240603T165315Z
UID:10032672-1827568800-1827597600@www.canadinns.com
SUMMARY:🟠 Garbonzo’s Sports Pub – Happier Hours Until 6pm
DESCRIPTION:
URL:https://www.canadinns.com/event/garbonzos-sports-pub-happier-hours-until-6pm/2027-11-30/
LOCATION:Garbonzo’s 🟠
CATEGORIES:Garbonzo’s Daily Deals
ATTACH;FMTTYPE=image/jpeg:https://www.canadinns.com/wp-content/uploads/2023-11-15_19087-CI-Garbonzos-Anti-Inflation-Happier-Hours-1080x1080-Nov2023-FNL.jpg
END:VEVENT
BEGIN:VEVENT
DTSTART;TZID=America/Winnipeg:20271130T100000
DTEND;TZID=America/Winnipeg:20271130T235900
DTSTAMP:20260420T133554
CREATED:20230327T121139Z
LAST-MODIFIED:20240603T154252Z
UID:10030270-1827568800-1827619140@www.canadinns.com
SUMMARY:🟠 Garbonzo’s Sports Pub – Two-Topping Tuesday
DESCRIPTION:
URL:https://www.canadinns.com/event/garbonzos-sports-pub-two-topping-tuesday/2027-11-30/
LOCATION:Garbonzo’s 🟠
CATEGORIES:Garbonzo’s Daily Deals
ATTACH;FMTTYPE=image/jpeg:https://www.canadinns.com/wp-content/uploads/GSP_Meal-Deal_Tuesday.jpg
END:VEVENT
BEGIN:VEVENT
DTSTART;TZID=America/Winnipeg:20271130T110000
DTEND;TZID=America/Winnipeg:20271130T110000
DTSTAMP:20260420T133554
CREATED:20240826T195528Z
LAST-MODIFIED:20240826T195910Z
UID:10039911-1827572400-1827572400@www.canadinns.com
SUMMARY:🟢 Aaltos Soup\, Salad and Dessert Bar
DESCRIPTION:Craving a fresh\, healthy and a delicious meal? Enjoy our Soup\, Salad and Dessert bar at Aaltos that includes three daily soups\, over 60-items salad bar and delicious desserts. It’s the perfect way to satisfy your cravings all for one meal!
URL:https://www.canadinns.com/event/%f0%9f%9f%a2-aaltos-soup-salad-and-dessert-bar/2027-11-30/
LOCATION:Aaltos 🟢
ATTACH;FMTTYPE=image/jpeg:https://www.canadinns.com/wp-content/uploads/2024-08-20-CI-Aaltos-Soup-Salad-and-Dessert-Buffet11x17-Sept3-2024-FNL2-19995-scaled.jpg
END:VEVENT
BEGIN:VEVENT
DTSTART;TZID=America/Winnipeg:20271201T070000
DTEND;TZID=America/Winnipeg:20271201T103000
DTSTAMP:20260420T133554
CREATED:20260402T160402Z
LAST-MODIFIED:20260402T160402Z
UID:10051603-1827644400-1827657000@www.canadinns.com
SUMMARY:🟢 Aaltos - $5.99 Breakfast Special
DESCRIPTION:Aaltos $5.99 Breakfast Special\nKickstart your morning with Aaltos $5.99* Breakfast with a beverage purchase! Choose between a Classic Breakfast or Pancake Breakfast! \n📅 Weekdays until 10:30AM | Dine-in only Limited time offer. \n*Excludes holidays and not available at Aaltos Health Sciences Centre. \n\nVisit canadinns.com/aaltos for more info!
URL:https://www.canadinns.com/event/aaltos-5-99-breakfast-special/2027-12-01/
LOCATION:Aaltos 🟢
CATEGORIES:Aaltos Buffets
ATTACH;FMTTYPE=image/png:https://www.canadinns.com/wp-content/uploads/04-02-26-Aaltos-Breakfast-Special-IG-scaled.png
END:VEVENT
BEGIN:VEVENT
DTSTART;TZID=America/Winnipeg:20271201T100000
DTEND;TZID=America/Winnipeg:20271201T180000
DTSTAMP:20260420T133554
CREATED:20230327T115734Z
LAST-MODIFIED:20230327T115754Z
UID:10015429-1827655200-1827684000@www.canadinns.com
SUMMARY:🔵 Tavern United Daily Beverage Features - 2 oz Tropical Punch & 22oz PBR Draught
DESCRIPTION:
URL:https://www.canadinns.com/event/tavern-united-daily-beverage-features-2-oz-tropical-punch-22oz-pbr-draught/2027-12-01/
LOCATION:Tavern United 🔵
CATEGORIES:TU Daily Deals
END:VEVENT
BEGIN:VEVENT
DTSTART;TZID=America/Winnipeg:20271201T100000
DTEND;TZID=America/Winnipeg:20271201T180000
DTSTAMP:20260420T133554
CREATED:20230327T122135Z
LAST-MODIFIED:20240603T170150Z
UID:10025869-1827655200-1827684000@www.canadinns.com
SUMMARY:🟠 Garbonzo’s Sports Pub Daily Beverage Features - 14oz Glass Sangria
DESCRIPTION:
URL:https://www.canadinns.com/event/garbonzos-sports-pub-daily-beverage-features-14oz-glass-sangria/2027-12-01/
LOCATION:Garbonzo’s 🟠
CATEGORIES:Garbonzo’s Daily Deals
END:VEVENT
BEGIN:VEVENT
DTSTART;TZID=America/Winnipeg:20271201T100000
DTEND;TZID=America/Winnipeg:20271201T180000
DTSTAMP:20260420T133554
CREATED:20240603T165315Z
LAST-MODIFIED:20240603T165315Z
UID:10032673-1827655200-1827684000@www.canadinns.com
SUMMARY:🟠 Garbonzo’s Sports Pub – Happier Hours Until 6pm
DESCRIPTION:
URL:https://www.canadinns.com/event/garbonzos-sports-pub-happier-hours-until-6pm/2027-12-01/
LOCATION:Garbonzo’s 🟠
CATEGORIES:Garbonzo’s Daily Deals
ATTACH;FMTTYPE=image/jpeg:https://www.canadinns.com/wp-content/uploads/2023-11-15_19087-CI-Garbonzos-Anti-Inflation-Happier-Hours-1080x1080-Nov2023-FNL.jpg
END:VEVENT
BEGIN:VEVENT
DTSTART;TZID=America/Winnipeg:20271201T100000
DTEND;TZID=America/Winnipeg:20271201T235900
DTSTAMP:20260420T133554
CREATED:20240603T160207Z
LAST-MODIFIED:20240603T160207Z
UID:10030531-1827655200-1827705540@www.canadinns.com
SUMMARY:🟠 Garbonzo’s Sports Pub – BOGO Half Price Pasta
DESCRIPTION:
URL:https://www.canadinns.com/event/garbonzos-sports-pub-bogo-half-price-pasta/2027-12-01/
LOCATION:Garbonzo’s 🟠
CATEGORIES:Garbonzo’s Daily Deals
ATTACH;FMTTYPE=image/jpeg:https://www.canadinns.com/wp-content/uploads/GSP_Meal-Deal_Wednesday.jpg
END:VEVENT
BEGIN:VEVENT
DTSTART;TZID=America/Winnipeg:20271201T110000
DTEND;TZID=America/Winnipeg:20271201T110000
DTSTAMP:20260420T133554
CREATED:20240826T195528Z
LAST-MODIFIED:20240826T195910Z
UID:10039912-1827658800-1827658800@www.canadinns.com
SUMMARY:🟢 Aaltos Soup\, Salad and Dessert Bar
DESCRIPTION:Craving a fresh\, healthy and a delicious meal? Enjoy our Soup\, Salad and Dessert bar at Aaltos that includes three daily soups\, over 60-items salad bar and delicious desserts. It’s the perfect way to satisfy your cravings all for one meal!
URL:https://www.canadinns.com/event/%f0%9f%9f%a2-aaltos-soup-salad-and-dessert-bar/2027-12-01/
LOCATION:Aaltos 🟢
ATTACH;FMTTYPE=image/jpeg:https://www.canadinns.com/wp-content/uploads/2024-08-20-CI-Aaltos-Soup-Salad-and-Dessert-Buffet11x17-Sept3-2024-FNL2-19995-scaled.jpg
END:VEVENT
BEGIN:VEVENT
DTSTART;TZID=America/Winnipeg:20271202T070000
DTEND;TZID=America/Winnipeg:20271202T103000
DTSTAMP:20260420T133554
CREATED:20260402T160402Z
LAST-MODIFIED:20260402T160402Z
UID:10051604-1827730800-1827743400@www.canadinns.com
SUMMARY:🟢 Aaltos - $5.99 Breakfast Special
DESCRIPTION:Aaltos $5.99 Breakfast Special\nKickstart your morning with Aaltos $5.99* Breakfast with a beverage purchase! Choose between a Classic Breakfast or Pancake Breakfast! \n📅 Weekdays until 10:30AM | Dine-in only Limited time offer. \n*Excludes holidays and not available at Aaltos Health Sciences Centre. \n\nVisit canadinns.com/aaltos for more info!
URL:https://www.canadinns.com/event/aaltos-5-99-breakfast-special/2027-12-02/
LOCATION:Aaltos 🟢
CATEGORIES:Aaltos Buffets
ATTACH;FMTTYPE=image/png:https://www.canadinns.com/wp-content/uploads/04-02-26-Aaltos-Breakfast-Special-IG-scaled.png
END:VEVENT
BEGIN:VEVENT
DTSTART;TZID=America/Winnipeg:20271202T100000
DTEND;TZID=America/Winnipeg:20271202T180000
DTSTAMP:20260420T133554
CREATED:20230327T115852Z
LAST-MODIFIED:20230327T115922Z
UID:10015952-1827741600-1827770400@www.canadinns.com
SUMMARY:🔵 Tavern United Daily Beverage Features - 2 oz Kilted Kool-Aid & 22oz PBR Draught
DESCRIPTION:
URL:https://www.canadinns.com/event/tavern-united-daily-beverage-features-2-oz-kilted-kool-aid-22oz-pbr-draught/2027-12-02/
LOCATION:Tavern United 🔵
CATEGORIES:TU Daily Deals
END:VEVENT
BEGIN:VEVENT
DTSTART;TZID=America/Winnipeg:20271202T100000
DTEND;TZID=America/Winnipeg:20271202T180000
DTSTAMP:20260420T133554
CREATED:20230327T122226Z
LAST-MODIFIED:20230327T122240Z
UID:10026391-1827741600-1827770400@www.canadinns.com
SUMMARY:🟠 Garbonzo’s Sports Pub Daily Beverage Features - Garbonzo’s Paralyzer\, 3oz Wide Mouth Masons\, 3oz Cocktail Masons\, 22oz PBR Draught
DESCRIPTION:
URL:https://www.canadinns.com/event/garbonzos-sports-pub-daily-beverage-features-garbonzos-paralyzer-3oz-wide-mouth-masons-3oz-cocktail-masons-22oz-pbr-draught/2027-12-02/
LOCATION:Garbonzo’s 🟠
CATEGORIES:Garbonzo’s Daily Deals
END:VEVENT
BEGIN:VEVENT
DTSTART;TZID=America/Winnipeg:20271202T100000
DTEND;TZID=America/Winnipeg:20271202T180000
DTSTAMP:20260420T133554
CREATED:20240603T165315Z
LAST-MODIFIED:20240603T165315Z
UID:10032674-1827741600-1827770400@www.canadinns.com
SUMMARY:🟠 Garbonzo’s Sports Pub – Happier Hours Until 6pm
DESCRIPTION:
URL:https://www.canadinns.com/event/garbonzos-sports-pub-happier-hours-until-6pm/2027-12-02/
LOCATION:Garbonzo’s 🟠
CATEGORIES:Garbonzo’s Daily Deals
ATTACH;FMTTYPE=image/jpeg:https://www.canadinns.com/wp-content/uploads/2023-11-15_19087-CI-Garbonzos-Anti-Inflation-Happier-Hours-1080x1080-Nov2023-FNL.jpg
END:VEVENT
BEGIN:VEVENT
DTSTART;TZID=America/Winnipeg:20271202T100000
DTEND;TZID=America/Winnipeg:20271202T235900
DTSTAMP:20260420T133554
CREATED:20240603T164739Z
LAST-MODIFIED:20240603T164739Z
UID:10031317-1827741600-1827791940@www.canadinns.com
SUMMARY:🟠 Garbonzo’s Sports Pub – 2 for $25 Appys
DESCRIPTION:
URL:https://www.canadinns.com/event/garbonzos-sports-pub-2-for-25-appys/2027-12-02/
LOCATION:Garbonzo’s 🟠
CATEGORIES:Garbonzo’s Daily Deals
ATTACH;FMTTYPE=image/jpeg:https://www.canadinns.com/wp-content/uploads/GSP_Meal-Deal_Thursday.jpg
END:VEVENT
BEGIN:VEVENT
DTSTART;TZID=America/Winnipeg:20271202T110000
DTEND;TZID=America/Winnipeg:20271202T110000
DTSTAMP:20260420T133554
CREATED:20240826T195528Z
LAST-MODIFIED:20240826T195910Z
UID:10039913-1827745200-1827745200@www.canadinns.com
SUMMARY:🟢 Aaltos Soup\, Salad and Dessert Bar
DESCRIPTION:Craving a fresh\, healthy and a delicious meal? Enjoy our Soup\, Salad and Dessert bar at Aaltos that includes three daily soups\, over 60-items salad bar and delicious desserts. It’s the perfect way to satisfy your cravings all for one meal!
URL:https://www.canadinns.com/event/%f0%9f%9f%a2-aaltos-soup-salad-and-dessert-bar/2027-12-02/
LOCATION:Aaltos 🟢
ATTACH;FMTTYPE=image/jpeg:https://www.canadinns.com/wp-content/uploads/2024-08-20-CI-Aaltos-Soup-Salad-and-Dessert-Buffet11x17-Sept3-2024-FNL2-19995-scaled.jpg
END:VEVENT
BEGIN:VEVENT
DTSTART;TZID=America/Winnipeg:20271202T160000
DTEND;TZID=America/Winnipeg:20271202T210000
DTSTAMP:20260420T133554
CREATED:20240830T135832Z
LAST-MODIFIED:20240830T140245Z
UID:10042540-1827763200-1827781200@www.canadinns.com
SUMMARY:🟦Splasher's of The South Seas: Buy One Get One Free Thursdays
DESCRIPTION:🏊 Thursdays Just Got Better! 🏊 \nBring your family and friends and dive into our Buy One\, Get One Free deal every Thursday from 4pm-9pm! Buy one waterpark pass at regular price and get one at equal or lesser value free. \nEnjoy a full day of swimming\, splashing\, and unwinding at Splasher’s of The South Seas today.
URL:https://www.canadinns.com/event/%f0%9f%9f%a6splashers-of-the-south-seas-buy-one-get-one-thursdays/2027-12-02/
ATTACH;FMTTYPE=image/jpeg:https://www.canadinns.com/wp-content/uploads/2024-08-23-CI-GrandForksSplashersOfTheSouthSeasUpdates-IG1080x1080-Aug2024-FNL2-20023.jpg
END:VEVENT
BEGIN:VEVENT
DTSTART;TZID=America/Winnipeg:20271203T070000
DTEND;TZID=America/Winnipeg:20271203T103000
DTSTAMP:20260420T133554
CREATED:20260402T160402Z
LAST-MODIFIED:20260402T160402Z
UID:10051605-1827817200-1827829800@www.canadinns.com
SUMMARY:🟢 Aaltos - $5.99 Breakfast Special
DESCRIPTION:Aaltos $5.99 Breakfast Special\nKickstart your morning with Aaltos $5.99* Breakfast with a beverage purchase! Choose between a Classic Breakfast or Pancake Breakfast! \n📅 Weekdays until 10:30AM | Dine-in only Limited time offer. \n*Excludes holidays and not available at Aaltos Health Sciences Centre. \n\nVisit canadinns.com/aaltos for more info!
URL:https://www.canadinns.com/event/aaltos-5-99-breakfast-special/2027-12-03/
LOCATION:Aaltos 🟢
CATEGORIES:Aaltos Buffets
ATTACH;FMTTYPE=image/png:https://www.canadinns.com/wp-content/uploads/04-02-26-Aaltos-Breakfast-Special-IG-scaled.png
END:VEVENT
BEGIN:VEVENT
DTSTART;TZID=America/Winnipeg:20271203T100000
DTEND;TZID=America/Winnipeg:20271203T180000
DTSTAMP:20260420T133554
CREATED:20230327T120012Z
LAST-MODIFIED:20230327T120029Z
UID:10016475-1827828000-1827856800@www.canadinns.com
SUMMARY:🔵 Tavern United Daily Beverage Features - 2oz Carolina Iced Tea & 3oz Personal Pitcher
DESCRIPTION:
URL:https://www.canadinns.com/event/tavern-united-daily-beverage-features-2oz-carolina-iced-tea-3oz-personal-pitcher/2027-12-03/
LOCATION:Tavern United 🔵
CATEGORIES:TU Daily Deals
END:VEVENT
BEGIN:VEVENT
DTSTART;TZID=America/Winnipeg:20271203T100000
DTEND;TZID=America/Winnipeg:20271203T180000
DTSTAMP:20260420T133554
CREATED:20230327T122304Z
LAST-MODIFIED:20230327T122317Z
UID:10026913-1827828000-1827856800@www.canadinns.com
SUMMARY:🟠 Garbonzo’s Sports Pub Daily Beverage Features - Long Island Iced Tea\, 3oz Wide Mouth Masons\, 3oz Cocktail Masons
DESCRIPTION:
URL:https://www.canadinns.com/event/garbonzos-sports-pub-daily-beverage-features-long-island-iced-tea-3oz-wide-mouth-masons-3oz-cocktail-masons/2027-12-03/
LOCATION:Garbonzo’s 🟠
CATEGORIES:Garbonzo’s Daily Deals
END:VEVENT
BEGIN:VEVENT
DTSTART;TZID=America/Winnipeg:20271203T100000
DTEND;TZID=America/Winnipeg:20271203T180000
DTSTAMP:20260420T133554
CREATED:20240603T165315Z
LAST-MODIFIED:20240603T165315Z
UID:10032675-1827828000-1827856800@www.canadinns.com
SUMMARY:🟠 Garbonzo’s Sports Pub – Happier Hours Until 6pm
DESCRIPTION:
URL:https://www.canadinns.com/event/garbonzos-sports-pub-happier-hours-until-6pm/2027-12-03/
LOCATION:Garbonzo’s 🟠
CATEGORIES:Garbonzo’s Daily Deals
ATTACH;FMTTYPE=image/jpeg:https://www.canadinns.com/wp-content/uploads/2023-11-15_19087-CI-Garbonzos-Anti-Inflation-Happier-Hours-1080x1080-Nov2023-FNL.jpg
END:VEVENT
BEGIN:VEVENT
DTSTART;TZID=America/Winnipeg:20271203T100000
DTEND;TZID=America/Winnipeg:20271203T235900
DTSTAMP:20260420T133554
CREATED:20240603T164350Z
LAST-MODIFIED:20240603T164350Z
UID:10030977-1827828000-1827878340@www.canadinns.com
SUMMARY:🟠 Garbonzo’s Sports Pub – Wings N' Things Weekend!
DESCRIPTION:
URL:https://www.canadinns.com/event/garbonzos-sports-pub-wings-n-things-weekend/2027-12-03/
LOCATION:Garbonzo’s 🟠
CATEGORIES:Garbonzo’s Daily Deals
ATTACH;FMTTYPE=image/jpeg:https://www.canadinns.com/wp-content/uploads/GSP_Meal-Deal_Weekend.jpg
END:VEVENT
END:VCALENDAR