BEGIN:VCALENDAR
VERSION:2.0
PRODID:-//Canad Inns - ECPv6.15.17.1//NONSGML v1.0//EN
CALSCALE:GREGORIAN
METHOD:PUBLISH
X-WR-CALNAME:Canad Inns
X-ORIGINAL-URL:https://www.canadinns.com
X-WR-CALDESC:Events for Canad Inns
REFRESH-INTERVAL;VALUE=DURATION:PT1H
X-Robots-Tag:noindex
X-PUBLISHED-TTL:PT1H
BEGIN:VTIMEZONE
TZID:America/Winnipeg
BEGIN:DAYLIGHT
TZOFFSETFROM:-0600
TZOFFSETTO:-0500
TZNAME:CDT
DTSTART:20260308T080000
END:DAYLIGHT
BEGIN:STANDARD
TZOFFSETFROM:-0500
TZOFFSETTO:-0600
TZNAME:CST
DTSTART:20261101T070000
END:STANDARD
BEGIN:DAYLIGHT
TZOFFSETFROM:-0600
TZOFFSETTO:-0500
TZNAME:CDT
DTSTART:20270314T080000
END:DAYLIGHT
BEGIN:STANDARD
TZOFFSETFROM:-0500
TZOFFSETTO:-0600
TZNAME:CST
DTSTART:20271107T070000
END:STANDARD
BEGIN:DAYLIGHT
TZOFFSETFROM:-0600
TZOFFSETTO:-0500
TZNAME:CDT
DTSTART:20280312T080000
END:DAYLIGHT
BEGIN:STANDARD
TZOFFSETFROM:-0500
TZOFFSETTO:-0600
TZNAME:CST
DTSTART:20281105T070000
END:STANDARD
BEGIN:DAYLIGHT
TZOFFSETFROM:-0600
TZOFFSETTO:-0500
TZNAME:CDT
DTSTART:20290311T080000
END:DAYLIGHT
BEGIN:STANDARD
TZOFFSETFROM:-0500
TZOFFSETTO:-0600
TZNAME:CST
DTSTART:20291104T070000
END:STANDARD
END:VTIMEZONE
BEGIN:VEVENT
DTSTART;TZID=America/Winnipeg:20271226T100000
DTEND;TZID=America/Winnipeg:20271226T180000
DTSTAMP:20260425T104404
CREATED:20230327T120221Z
LAST-MODIFIED:20230327T120247Z
UID:10017524-1829815200-1829844000@www.canadinns.com
SUMMARY:🔵 Tavern United Daily Beverage Features - 2oz Canadian or Tequila Caesar
DESCRIPTION:
URL:https://www.canadinns.com/event/tavern-united-daily-beverage-features-2oz-canadian-or-tequila-caesar/2027-12-26/
LOCATION:Tavern United 🔵
CATEGORIES:TU Daily Deals
END:VEVENT
BEGIN:VEVENT
DTSTART;TZID=America/Winnipeg:20271227T100000
DTEND;TZID=America/Winnipeg:20271227T180000
DTSTAMP:20260425T104404
CREATED:20230327T115419Z
LAST-MODIFIED:20230327T115453Z
UID:10014386-1829901600-1829930400@www.canadinns.com
SUMMARY:🔵 Tavern United Daily Beverage Features - 14 oz Sangria
DESCRIPTION:
URL:https://www.canadinns.com/event/tavern-united-daily-beverage-features-14-oz-sangria/2027-12-27/
LOCATION:Tavern United 🔵
CATEGORIES:TU Daily Deals
END:VEVENT
BEGIN:VEVENT
DTSTART;TZID=America/Winnipeg:20271228T100000
DTEND;TZID=America/Winnipeg:20271228T180000
DTSTAMP:20260425T104404
CREATED:20230327T115616Z
LAST-MODIFIED:20230327T115638Z
UID:10014910-1829988000-1830016800@www.canadinns.com
SUMMARY:🔵 Tavern United Daily Beverage Features -  2 oz Signature Mules
DESCRIPTION:
URL:https://www.canadinns.com/event/tavern-united-daily-beverage-features-2-oz-signature-mules/2027-12-28/
LOCATION:Tavern United 🔵
CATEGORIES:TU Daily Deals
END:VEVENT
BEGIN:VEVENT
DTSTART;TZID=America/Winnipeg:20271229T100000
DTEND;TZID=America/Winnipeg:20271229T180000
DTSTAMP:20260425T104404
CREATED:20230327T115734Z
LAST-MODIFIED:20230327T115754Z
UID:10015433-1830074400-1830103200@www.canadinns.com
SUMMARY:🔵 Tavern United Daily Beverage Features - 2 oz Tropical Punch & 22oz PBR Draught
DESCRIPTION:
URL:https://www.canadinns.com/event/tavern-united-daily-beverage-features-2-oz-tropical-punch-22oz-pbr-draught/2027-12-29/
LOCATION:Tavern United 🔵
CATEGORIES:TU Daily Deals
END:VEVENT
BEGIN:VEVENT
DTSTART;TZID=America/Winnipeg:20271230T100000
DTEND;TZID=America/Winnipeg:20271230T180000
DTSTAMP:20260425T104404
CREATED:20230327T115852Z
LAST-MODIFIED:20230327T115922Z
UID:10015956-1830160800-1830189600@www.canadinns.com
SUMMARY:🔵 Tavern United Daily Beverage Features - 2 oz Kilted Kool-Aid & 22oz PBR Draught
DESCRIPTION:
URL:https://www.canadinns.com/event/tavern-united-daily-beverage-features-2-oz-kilted-kool-aid-22oz-pbr-draught/2027-12-30/
LOCATION:Tavern United 🔵
CATEGORIES:TU Daily Deals
END:VEVENT
BEGIN:VEVENT
DTSTART;TZID=America/Winnipeg:20271231T100000
DTEND;TZID=America/Winnipeg:20271231T180000
DTSTAMP:20260425T104404
CREATED:20230327T120012Z
LAST-MODIFIED:20230327T120029Z
UID:10016479-1830247200-1830276000@www.canadinns.com
SUMMARY:🔵 Tavern United Daily Beverage Features - 2oz Carolina Iced Tea & 3oz Personal Pitcher
DESCRIPTION:
URL:https://www.canadinns.com/event/tavern-united-daily-beverage-features-2oz-carolina-iced-tea-3oz-personal-pitcher/2027-12-31/
LOCATION:Tavern United 🔵
CATEGORIES:TU Daily Deals
END:VEVENT
BEGIN:VEVENT
DTSTART;TZID=America/Winnipeg:20280101T100000
DTEND;TZID=America/Winnipeg:20280101T180000
DTSTAMP:20260425T104404
CREATED:20230327T120123Z
LAST-MODIFIED:20230327T120150Z
UID:10017002-1830333600-1830362400@www.canadinns.com
SUMMARY:🔵 Tavern United Daily Beverage Features -  2oz Long Island Iced Tea & 3oz Personal Pitcher
DESCRIPTION:
URL:https://www.canadinns.com/event/tavern-united-daily-beverage-features-2oz-long-island-iced-tea-3oz-personal-pitcher/2028-01-01/
LOCATION:Tavern United 🔵
CATEGORIES:TU Daily Deals
END:VEVENT
END:VCALENDAR