BEGIN:VCALENDAR
VERSION:2.0
PRODID:-//Canad Inns - ECPv6.15.17.1//NONSGML v1.0//EN
CALSCALE:GREGORIAN
METHOD:PUBLISH
X-ORIGINAL-URL:https://www.canadinns.com
X-WR-CALDESC:Events for Canad Inns
REFRESH-INTERVAL;VALUE=DURATION:PT1H
X-Robots-Tag:noindex
X-PUBLISHED-TTL:PT1H
BEGIN:VTIMEZONE
TZID:America/Winnipeg
BEGIN:DAYLIGHT
TZOFFSETFROM:-0600
TZOFFSETTO:-0500
TZNAME:CDT
DTSTART:20260308T080000
END:DAYLIGHT
BEGIN:STANDARD
TZOFFSETFROM:-0500
TZOFFSETTO:-0600
TZNAME:CST
DTSTART:20261101T070000
END:STANDARD
BEGIN:DAYLIGHT
TZOFFSETFROM:-0600
TZOFFSETTO:-0500
TZNAME:CDT
DTSTART:20270314T080000
END:DAYLIGHT
BEGIN:STANDARD
TZOFFSETFROM:-0500
TZOFFSETTO:-0600
TZNAME:CST
DTSTART:20271107T070000
END:STANDARD
BEGIN:DAYLIGHT
TZOFFSETFROM:-0600
TZOFFSETTO:-0500
TZNAME:CDT
DTSTART:20280312T080000
END:DAYLIGHT
BEGIN:STANDARD
TZOFFSETFROM:-0500
TZOFFSETTO:-0600
TZNAME:CST
DTSTART:20281105T070000
END:STANDARD
END:VTIMEZONE
BEGIN:VEVENT
DTSTART;TZID=America/Winnipeg:20270103T100000
DTEND;TZID=America/Winnipeg:20270103T180000
DTSTAMP:20260423T042541
CREATED:20230327T120221Z
LAST-MODIFIED:20230327T120247Z
UID:10017473-1798970400-1798999200@www.canadinns.com
SUMMARY:🔵 Tavern United Daily Beverage Features - 2oz Canadian or Tequila Caesar
DESCRIPTION:
URL:https://www.canadinns.com/event/tavern-united-daily-beverage-features-2oz-canadian-or-tequila-caesar/2027-01-03/
LOCATION:Tavern United 🔵
CATEGORIES:TU Daily Deals
END:VEVENT
BEGIN:VEVENT
DTSTART;TZID=America/Winnipeg:20270104T100000
DTEND;TZID=America/Winnipeg:20270104T180000
DTSTAMP:20260423T042541
CREATED:20230327T115419Z
LAST-MODIFIED:20230327T115453Z
UID:10014335-1799056800-1799085600@www.canadinns.com
SUMMARY:🔵 Tavern United Daily Beverage Features - 14 oz Sangria
DESCRIPTION:
URL:https://www.canadinns.com/event/tavern-united-daily-beverage-features-14-oz-sangria/2027-01-04/
LOCATION:Tavern United 🔵
CATEGORIES:TU Daily Deals
END:VEVENT
BEGIN:VEVENT
DTSTART;TZID=America/Winnipeg:20270105T100000
DTEND;TZID=America/Winnipeg:20270105T180000
DTSTAMP:20260423T042541
CREATED:20230327T115616Z
LAST-MODIFIED:20230327T115638Z
UID:10014859-1799143200-1799172000@www.canadinns.com
SUMMARY:🔵 Tavern United Daily Beverage Features -  2 oz Signature Mules
DESCRIPTION:
URL:https://www.canadinns.com/event/tavern-united-daily-beverage-features-2-oz-signature-mules/2027-01-05/
LOCATION:Tavern United 🔵
CATEGORIES:TU Daily Deals
END:VEVENT
BEGIN:VEVENT
DTSTART;TZID=America/Winnipeg:20270106T100000
DTEND;TZID=America/Winnipeg:20270106T180000
DTSTAMP:20260423T042541
CREATED:20230327T115734Z
LAST-MODIFIED:20230327T115754Z
UID:10015382-1799229600-1799258400@www.canadinns.com
SUMMARY:🔵 Tavern United Daily Beverage Features - 2 oz Tropical Punch & 22oz PBR Draught
DESCRIPTION:
URL:https://www.canadinns.com/event/tavern-united-daily-beverage-features-2-oz-tropical-punch-22oz-pbr-draught/2027-01-06/
LOCATION:Tavern United 🔵
CATEGORIES:TU Daily Deals
END:VEVENT
BEGIN:VEVENT
DTSTART;TZID=America/Winnipeg:20270107T100000
DTEND;TZID=America/Winnipeg:20270107T180000
DTSTAMP:20260423T042541
CREATED:20230327T115852Z
LAST-MODIFIED:20230327T115922Z
UID:10015905-1799316000-1799344800@www.canadinns.com
SUMMARY:🔵 Tavern United Daily Beverage Features - 2 oz Kilted Kool-Aid & 22oz PBR Draught
DESCRIPTION:
URL:https://www.canadinns.com/event/tavern-united-daily-beverage-features-2-oz-kilted-kool-aid-22oz-pbr-draught/2027-01-07/
LOCATION:Tavern United 🔵
CATEGORIES:TU Daily Deals
END:VEVENT
BEGIN:VEVENT
DTSTART;TZID=America/Winnipeg:20270108T100000
DTEND;TZID=America/Winnipeg:20270108T180000
DTSTAMP:20260423T042541
CREATED:20230327T120012Z
LAST-MODIFIED:20230327T120029Z
UID:10016428-1799402400-1799431200@www.canadinns.com
SUMMARY:🔵 Tavern United Daily Beverage Features - 2oz Carolina Iced Tea & 3oz Personal Pitcher
DESCRIPTION:
URL:https://www.canadinns.com/event/tavern-united-daily-beverage-features-2oz-carolina-iced-tea-3oz-personal-pitcher/2027-01-08/
LOCATION:Tavern United 🔵
CATEGORIES:TU Daily Deals
END:VEVENT
BEGIN:VEVENT
DTSTART;TZID=America/Winnipeg:20270109T100000
DTEND;TZID=America/Winnipeg:20270109T180000
DTSTAMP:20260423T042541
CREATED:20230327T120123Z
LAST-MODIFIED:20230327T120150Z
UID:10016951-1799488800-1799517600@www.canadinns.com
SUMMARY:🔵 Tavern United Daily Beverage Features -  2oz Long Island Iced Tea & 3oz Personal Pitcher
DESCRIPTION:
URL:https://www.canadinns.com/event/tavern-united-daily-beverage-features-2oz-long-island-iced-tea-3oz-personal-pitcher/2027-01-09/
LOCATION:Tavern United 🔵
CATEGORIES:TU Daily Deals
END:VEVENT
END:VCALENDAR