BEGIN:VCALENDAR
VERSION:2.0
PRODID:-//Canad Inns - ECPv6.15.17.1//NONSGML v1.0//EN
CALSCALE:GREGORIAN
METHOD:PUBLISH
X-WR-CALNAME:Canad Inns
X-ORIGINAL-URL:https://www.canadinns.com
X-WR-CALDESC:Events for Canad Inns
REFRESH-INTERVAL;VALUE=DURATION:PT1H
X-Robots-Tag:noindex
X-PUBLISHED-TTL:PT1H
BEGIN:VTIMEZONE
TZID:America/Winnipeg
BEGIN:DAYLIGHT
TZOFFSETFROM:-0600
TZOFFSETTO:-0500
TZNAME:CDT
DTSTART:20270314T080000
END:DAYLIGHT
BEGIN:STANDARD
TZOFFSETFROM:-0500
TZOFFSETTO:-0600
TZNAME:CST
DTSTART:20271107T070000
END:STANDARD
BEGIN:DAYLIGHT
TZOFFSETFROM:-0600
TZOFFSETTO:-0500
TZNAME:CDT
DTSTART:20280312T080000
END:DAYLIGHT
BEGIN:STANDARD
TZOFFSETFROM:-0500
TZOFFSETTO:-0600
TZNAME:CST
DTSTART:20281105T070000
END:STANDARD
BEGIN:DAYLIGHT
TZOFFSETFROM:-0600
TZOFFSETTO:-0500
TZNAME:CDT
DTSTART:20290311T080000
END:DAYLIGHT
BEGIN:STANDARD
TZOFFSETFROM:-0500
TZOFFSETTO:-0600
TZNAME:CST
DTSTART:20291104T070000
END:STANDARD
END:VTIMEZONE
BEGIN:VEVENT
DTSTART;TZID=America/Winnipeg:20280218T100000
DTEND;TZID=America/Winnipeg:20280218T180000
DTSTAMP:20260423T055507
CREATED:20230327T120012Z
LAST-MODIFIED:20230327T120029Z
UID:10016486-1834480800-1834509600@www.canadinns.com
SUMMARY:🔵 Tavern United Daily Beverage Features - 2oz Carolina Iced Tea & 3oz Personal Pitcher
DESCRIPTION:
URL:https://www.canadinns.com/event/tavern-united-daily-beverage-features-2oz-carolina-iced-tea-3oz-personal-pitcher/2028-02-18/
LOCATION:Tavern United 🔵
CATEGORIES:TU Daily Deals
END:VEVENT
BEGIN:VEVENT
DTSTART;TZID=America/Winnipeg:20280219T100000
DTEND;TZID=America/Winnipeg:20280219T180000
DTSTAMP:20260423T055507
CREATED:20230327T120123Z
LAST-MODIFIED:20230327T120150Z
UID:10017009-1834567200-1834596000@www.canadinns.com
SUMMARY:🔵 Tavern United Daily Beverage Features -  2oz Long Island Iced Tea & 3oz Personal Pitcher
DESCRIPTION:
URL:https://www.canadinns.com/event/tavern-united-daily-beverage-features-2oz-long-island-iced-tea-3oz-personal-pitcher/2028-02-19/
LOCATION:Tavern United 🔵
CATEGORIES:TU Daily Deals
END:VEVENT
BEGIN:VEVENT
DTSTART;TZID=America/Winnipeg:20280220T100000
DTEND;TZID=America/Winnipeg:20280220T180000
DTSTAMP:20260423T055507
CREATED:20230327T120221Z
LAST-MODIFIED:20230327T120247Z
UID:10017532-1834653600-1834682400@www.canadinns.com
SUMMARY:🔵 Tavern United Daily Beverage Features - 2oz Canadian or Tequila Caesar
DESCRIPTION:
URL:https://www.canadinns.com/event/tavern-united-daily-beverage-features-2oz-canadian-or-tequila-caesar/2028-02-20/
LOCATION:Tavern United 🔵
CATEGORIES:TU Daily Deals
END:VEVENT
BEGIN:VEVENT
DTSTART;TZID=America/Winnipeg:20280221T100000
DTEND;TZID=America/Winnipeg:20280221T180000
DTSTAMP:20260423T055507
CREATED:20230327T115419Z
LAST-MODIFIED:20230327T115453Z
UID:10014394-1834740000-1834768800@www.canadinns.com
SUMMARY:🔵 Tavern United Daily Beverage Features - 14 oz Sangria
DESCRIPTION:
URL:https://www.canadinns.com/event/tavern-united-daily-beverage-features-14-oz-sangria/2028-02-21/
LOCATION:Tavern United 🔵
CATEGORIES:TU Daily Deals
END:VEVENT
BEGIN:VEVENT
DTSTART;TZID=America/Winnipeg:20280222T100000
DTEND;TZID=America/Winnipeg:20280222T180000
DTSTAMP:20260423T055507
CREATED:20230327T115616Z
LAST-MODIFIED:20230327T115638Z
UID:10014918-1834826400-1834855200@www.canadinns.com
SUMMARY:🔵 Tavern United Daily Beverage Features -  2 oz Signature Mules
DESCRIPTION:
URL:https://www.canadinns.com/event/tavern-united-daily-beverage-features-2-oz-signature-mules/2028-02-22/
LOCATION:Tavern United 🔵
CATEGORIES:TU Daily Deals
END:VEVENT
BEGIN:VEVENT
DTSTART;TZID=America/Winnipeg:20280223T100000
DTEND;TZID=America/Winnipeg:20280223T180000
DTSTAMP:20260423T055507
CREATED:20230327T115734Z
LAST-MODIFIED:20230327T115754Z
UID:10015441-1834912800-1834941600@www.canadinns.com
SUMMARY:🔵 Tavern United Daily Beverage Features - 2 oz Tropical Punch & 22oz PBR Draught
DESCRIPTION:
URL:https://www.canadinns.com/event/tavern-united-daily-beverage-features-2-oz-tropical-punch-22oz-pbr-draught/2028-02-23/
LOCATION:Tavern United 🔵
CATEGORIES:TU Daily Deals
END:VEVENT
BEGIN:VEVENT
DTSTART;TZID=America/Winnipeg:20280224T100000
DTEND;TZID=America/Winnipeg:20280224T180000
DTSTAMP:20260423T055507
CREATED:20230327T115852Z
LAST-MODIFIED:20230327T115922Z
UID:10015964-1834999200-1835028000@www.canadinns.com
SUMMARY:🔵 Tavern United Daily Beverage Features - 2 oz Kilted Kool-Aid & 22oz PBR Draught
DESCRIPTION:
URL:https://www.canadinns.com/event/tavern-united-daily-beverage-features-2-oz-kilted-kool-aid-22oz-pbr-draught/2028-02-24/
LOCATION:Tavern United 🔵
CATEGORIES:TU Daily Deals
END:VEVENT
BEGIN:VEVENT
DTSTART;TZID=America/Winnipeg:20280225T100000
DTEND;TZID=America/Winnipeg:20280225T180000
DTSTAMP:20260423T055507
CREATED:20230327T120012Z
LAST-MODIFIED:20230327T120029Z
UID:10016487-1835085600-1835114400@www.canadinns.com
SUMMARY:🔵 Tavern United Daily Beverage Features - 2oz Carolina Iced Tea & 3oz Personal Pitcher
DESCRIPTION:
URL:https://www.canadinns.com/event/tavern-united-daily-beverage-features-2oz-carolina-iced-tea-3oz-personal-pitcher/2028-02-25/
LOCATION:Tavern United 🔵
CATEGORIES:TU Daily Deals
END:VEVENT
BEGIN:VEVENT
DTSTART;TZID=America/Winnipeg:20280226T100000
DTEND;TZID=America/Winnipeg:20280226T180000
DTSTAMP:20260423T055507
CREATED:20230327T120123Z
LAST-MODIFIED:20230327T120150Z
UID:10017010-1835172000-1835200800@www.canadinns.com
SUMMARY:🔵 Tavern United Daily Beverage Features -  2oz Long Island Iced Tea & 3oz Personal Pitcher
DESCRIPTION:
URL:https://www.canadinns.com/event/tavern-united-daily-beverage-features-2oz-long-island-iced-tea-3oz-personal-pitcher/2028-02-26/
LOCATION:Tavern United 🔵
CATEGORIES:TU Daily Deals
END:VEVENT
BEGIN:VEVENT
DTSTART;TZID=America/Winnipeg:20280227T100000
DTEND;TZID=America/Winnipeg:20280227T180000
DTSTAMP:20260423T055507
CREATED:20230327T120221Z
LAST-MODIFIED:20230327T120247Z
UID:10017533-1835258400-1835287200@www.canadinns.com
SUMMARY:🔵 Tavern United Daily Beverage Features - 2oz Canadian or Tequila Caesar
DESCRIPTION:
URL:https://www.canadinns.com/event/tavern-united-daily-beverage-features-2oz-canadian-or-tequila-caesar/2028-02-27/
LOCATION:Tavern United 🔵
CATEGORIES:TU Daily Deals
END:VEVENT
BEGIN:VEVENT
DTSTART;TZID=America/Winnipeg:20280228T100000
DTEND;TZID=America/Winnipeg:20280228T180000
DTSTAMP:20260423T055507
CREATED:20230327T115419Z
LAST-MODIFIED:20230327T115453Z
UID:10014395-1835344800-1835373600@www.canadinns.com
SUMMARY:🔵 Tavern United Daily Beverage Features - 14 oz Sangria
DESCRIPTION:
URL:https://www.canadinns.com/event/tavern-united-daily-beverage-features-14-oz-sangria/2028-02-28/
LOCATION:Tavern United 🔵
CATEGORIES:TU Daily Deals
END:VEVENT
BEGIN:VEVENT
DTSTART;TZID=America/Winnipeg:20280229T100000
DTEND;TZID=America/Winnipeg:20280229T180000
DTSTAMP:20260423T055507
CREATED:20230327T115616Z
LAST-MODIFIED:20230327T115638Z
UID:10014919-1835431200-1835460000@www.canadinns.com
SUMMARY:🔵 Tavern United Daily Beverage Features -  2 oz Signature Mules
DESCRIPTION:
URL:https://www.canadinns.com/event/tavern-united-daily-beverage-features-2-oz-signature-mules/2028-02-29/
LOCATION:Tavern United 🔵
CATEGORIES:TU Daily Deals
END:VEVENT
BEGIN:VEVENT
DTSTART;TZID=America/Winnipeg:20280301T100000
DTEND;TZID=America/Winnipeg:20280301T180000
DTSTAMP:20260423T055507
CREATED:20230327T115734Z
LAST-MODIFIED:20230327T115754Z
UID:10015442-1835517600-1835546400@www.canadinns.com
SUMMARY:🔵 Tavern United Daily Beverage Features - 2 oz Tropical Punch & 22oz PBR Draught
DESCRIPTION:
URL:https://www.canadinns.com/event/tavern-united-daily-beverage-features-2-oz-tropical-punch-22oz-pbr-draught/2028-03-01/
LOCATION:Tavern United 🔵
CATEGORIES:TU Daily Deals
END:VEVENT
BEGIN:VEVENT
DTSTART;TZID=America/Winnipeg:20280302T100000
DTEND;TZID=America/Winnipeg:20280302T180000
DTSTAMP:20260423T055507
CREATED:20230327T115852Z
LAST-MODIFIED:20230327T115922Z
UID:10015965-1835604000-1835632800@www.canadinns.com
SUMMARY:🔵 Tavern United Daily Beverage Features - 2 oz Kilted Kool-Aid & 22oz PBR Draught
DESCRIPTION:
URL:https://www.canadinns.com/event/tavern-united-daily-beverage-features-2-oz-kilted-kool-aid-22oz-pbr-draught/2028-03-02/
LOCATION:Tavern United 🔵
CATEGORIES:TU Daily Deals
END:VEVENT
BEGIN:VEVENT
DTSTART;TZID=America/Winnipeg:20280303T100000
DTEND;TZID=America/Winnipeg:20280303T180000
DTSTAMP:20260423T055507
CREATED:20230327T120012Z
LAST-MODIFIED:20230327T120029Z
UID:10016488-1835690400-1835719200@www.canadinns.com
SUMMARY:🔵 Tavern United Daily Beverage Features - 2oz Carolina Iced Tea & 3oz Personal Pitcher
DESCRIPTION:
URL:https://www.canadinns.com/event/tavern-united-daily-beverage-features-2oz-carolina-iced-tea-3oz-personal-pitcher/2028-03-03/
LOCATION:Tavern United 🔵
CATEGORIES:TU Daily Deals
END:VEVENT
BEGIN:VEVENT
DTSTART;TZID=America/Winnipeg:20280304T100000
DTEND;TZID=America/Winnipeg:20280304T180000
DTSTAMP:20260423T055507
CREATED:20230327T120123Z
LAST-MODIFIED:20230327T120150Z
UID:10017011-1835776800-1835805600@www.canadinns.com
SUMMARY:🔵 Tavern United Daily Beverage Features -  2oz Long Island Iced Tea & 3oz Personal Pitcher
DESCRIPTION:
URL:https://www.canadinns.com/event/tavern-united-daily-beverage-features-2oz-long-island-iced-tea-3oz-personal-pitcher/2028-03-04/
LOCATION:Tavern United 🔵
CATEGORIES:TU Daily Deals
END:VEVENT
BEGIN:VEVENT
DTSTART;TZID=America/Winnipeg:20280305T100000
DTEND;TZID=America/Winnipeg:20280305T180000
DTSTAMP:20260423T055507
CREATED:20230327T120221Z
LAST-MODIFIED:20230327T120247Z
UID:10017534-1835863200-1835892000@www.canadinns.com
SUMMARY:🔵 Tavern United Daily Beverage Features - 2oz Canadian or Tequila Caesar
DESCRIPTION:
URL:https://www.canadinns.com/event/tavern-united-daily-beverage-features-2oz-canadian-or-tequila-caesar/2028-03-05/
LOCATION:Tavern United 🔵
CATEGORIES:TU Daily Deals
END:VEVENT
BEGIN:VEVENT
DTSTART;TZID=America/Winnipeg:20280306T100000
DTEND;TZID=America/Winnipeg:20280306T180000
DTSTAMP:20260423T055507
CREATED:20230327T115419Z
LAST-MODIFIED:20230327T115453Z
UID:10014396-1835949600-1835978400@www.canadinns.com
SUMMARY:🔵 Tavern United Daily Beverage Features - 14 oz Sangria
DESCRIPTION:
URL:https://www.canadinns.com/event/tavern-united-daily-beverage-features-14-oz-sangria/2028-03-06/
LOCATION:Tavern United 🔵
CATEGORIES:TU Daily Deals
END:VEVENT
BEGIN:VEVENT
DTSTART;TZID=America/Winnipeg:20280307T100000
DTEND;TZID=America/Winnipeg:20280307T180000
DTSTAMP:20260423T055507
CREATED:20230327T115616Z
LAST-MODIFIED:20230327T115638Z
UID:10014920-1836036000-1836064800@www.canadinns.com
SUMMARY:🔵 Tavern United Daily Beverage Features -  2 oz Signature Mules
DESCRIPTION:
URL:https://www.canadinns.com/event/tavern-united-daily-beverage-features-2-oz-signature-mules/2028-03-07/
LOCATION:Tavern United 🔵
CATEGORIES:TU Daily Deals
END:VEVENT
BEGIN:VEVENT
DTSTART;TZID=America/Winnipeg:20280308T100000
DTEND;TZID=America/Winnipeg:20280308T180000
DTSTAMP:20260423T055507
CREATED:20230327T115734Z
LAST-MODIFIED:20230327T115754Z
UID:10015443-1836122400-1836151200@www.canadinns.com
SUMMARY:🔵 Tavern United Daily Beverage Features - 2 oz Tropical Punch & 22oz PBR Draught
DESCRIPTION:
URL:https://www.canadinns.com/event/tavern-united-daily-beverage-features-2-oz-tropical-punch-22oz-pbr-draught/2028-03-08/
LOCATION:Tavern United 🔵
CATEGORIES:TU Daily Deals
END:VEVENT
BEGIN:VEVENT
DTSTART;TZID=America/Winnipeg:20280309T100000
DTEND;TZID=America/Winnipeg:20280309T180000
DTSTAMP:20260423T055507
CREATED:20230327T115852Z
LAST-MODIFIED:20230327T115922Z
UID:10015966-1836208800-1836237600@www.canadinns.com
SUMMARY:🔵 Tavern United Daily Beverage Features - 2 oz Kilted Kool-Aid & 22oz PBR Draught
DESCRIPTION:
URL:https://www.canadinns.com/event/tavern-united-daily-beverage-features-2-oz-kilted-kool-aid-22oz-pbr-draught/2028-03-09/
LOCATION:Tavern United 🔵
CATEGORIES:TU Daily Deals
END:VEVENT
BEGIN:VEVENT
DTSTART;TZID=America/Winnipeg:20280310T100000
DTEND;TZID=America/Winnipeg:20280310T180000
DTSTAMP:20260423T055507
CREATED:20230327T120012Z
LAST-MODIFIED:20230327T120029Z
UID:10016489-1836295200-1836324000@www.canadinns.com
SUMMARY:🔵 Tavern United Daily Beverage Features - 2oz Carolina Iced Tea & 3oz Personal Pitcher
DESCRIPTION:
URL:https://www.canadinns.com/event/tavern-united-daily-beverage-features-2oz-carolina-iced-tea-3oz-personal-pitcher/2028-03-10/
LOCATION:Tavern United 🔵
CATEGORIES:TU Daily Deals
END:VEVENT
BEGIN:VEVENT
DTSTART;TZID=America/Winnipeg:20280311T100000
DTEND;TZID=America/Winnipeg:20280311T180000
DTSTAMP:20260423T055507
CREATED:20230327T120123Z
LAST-MODIFIED:20230327T120150Z
UID:10017012-1836381600-1836410400@www.canadinns.com
SUMMARY:🔵 Tavern United Daily Beverage Features -  2oz Long Island Iced Tea & 3oz Personal Pitcher
DESCRIPTION:
URL:https://www.canadinns.com/event/tavern-united-daily-beverage-features-2oz-long-island-iced-tea-3oz-personal-pitcher/2028-03-11/
LOCATION:Tavern United 🔵
CATEGORIES:TU Daily Deals
END:VEVENT
BEGIN:VEVENT
DTSTART;TZID=America/Winnipeg:20280312T100000
DTEND;TZID=America/Winnipeg:20280312T180000
DTSTAMP:20260423T055507
CREATED:20230327T120221Z
LAST-MODIFIED:20230327T120247Z
UID:10017535-1836468000-1836496800@www.canadinns.com
SUMMARY:🔵 Tavern United Daily Beverage Features - 2oz Canadian or Tequila Caesar
DESCRIPTION:
URL:https://www.canadinns.com/event/tavern-united-daily-beverage-features-2oz-canadian-or-tequila-caesar/2028-03-12/
LOCATION:Tavern United 🔵
CATEGORIES:TU Daily Deals
END:VEVENT
BEGIN:VEVENT
DTSTART;TZID=America/Winnipeg:20280313T100000
DTEND;TZID=America/Winnipeg:20280313T180000
DTSTAMP:20260423T055507
CREATED:20230327T115419Z
LAST-MODIFIED:20230327T115453Z
UID:10014397-1836554400-1836583200@www.canadinns.com
SUMMARY:🔵 Tavern United Daily Beverage Features - 14 oz Sangria
DESCRIPTION:
URL:https://www.canadinns.com/event/tavern-united-daily-beverage-features-14-oz-sangria/2028-03-13/
LOCATION:Tavern United 🔵
CATEGORIES:TU Daily Deals
END:VEVENT
BEGIN:VEVENT
DTSTART;TZID=America/Winnipeg:20280314T100000
DTEND;TZID=America/Winnipeg:20280314T180000
DTSTAMP:20260423T055507
CREATED:20230327T115616Z
LAST-MODIFIED:20230327T115638Z
UID:10014921-1836640800-1836669600@www.canadinns.com
SUMMARY:🔵 Tavern United Daily Beverage Features -  2 oz Signature Mules
DESCRIPTION:
URL:https://www.canadinns.com/event/tavern-united-daily-beverage-features-2-oz-signature-mules/2028-03-14/
LOCATION:Tavern United 🔵
CATEGORIES:TU Daily Deals
END:VEVENT
BEGIN:VEVENT
DTSTART;TZID=America/Winnipeg:20280315T100000
DTEND;TZID=America/Winnipeg:20280315T180000
DTSTAMP:20260423T055507
CREATED:20230327T115734Z
LAST-MODIFIED:20230327T115754Z
UID:10015444-1836727200-1836756000@www.canadinns.com
SUMMARY:🔵 Tavern United Daily Beverage Features - 2 oz Tropical Punch & 22oz PBR Draught
DESCRIPTION:
URL:https://www.canadinns.com/event/tavern-united-daily-beverage-features-2-oz-tropical-punch-22oz-pbr-draught/2028-03-15/
LOCATION:Tavern United 🔵
CATEGORIES:TU Daily Deals
END:VEVENT
BEGIN:VEVENT
DTSTART;TZID=America/Winnipeg:20280316T100000
DTEND;TZID=America/Winnipeg:20280316T180000
DTSTAMP:20260423T055507
CREATED:20230327T115852Z
LAST-MODIFIED:20230327T115922Z
UID:10015967-1836813600-1836842400@www.canadinns.com
SUMMARY:🔵 Tavern United Daily Beverage Features - 2 oz Kilted Kool-Aid & 22oz PBR Draught
DESCRIPTION:
URL:https://www.canadinns.com/event/tavern-united-daily-beverage-features-2-oz-kilted-kool-aid-22oz-pbr-draught/2028-03-16/
LOCATION:Tavern United 🔵
CATEGORIES:TU Daily Deals
END:VEVENT
BEGIN:VEVENT
DTSTART;TZID=America/Winnipeg:20280317T100000
DTEND;TZID=America/Winnipeg:20280317T180000
DTSTAMP:20260423T055507
CREATED:20230327T120012Z
LAST-MODIFIED:20230327T120029Z
UID:10016490-1836900000-1836928800@www.canadinns.com
SUMMARY:🔵 Tavern United Daily Beverage Features - 2oz Carolina Iced Tea & 3oz Personal Pitcher
DESCRIPTION:
URL:https://www.canadinns.com/event/tavern-united-daily-beverage-features-2oz-carolina-iced-tea-3oz-personal-pitcher/2028-03-17/
LOCATION:Tavern United 🔵
CATEGORIES:TU Daily Deals
END:VEVENT
BEGIN:VEVENT
DTSTART;TZID=America/Winnipeg:20280318T100000
DTEND;TZID=America/Winnipeg:20280318T180000
DTSTAMP:20260423T055507
CREATED:20230327T120123Z
LAST-MODIFIED:20230327T120150Z
UID:10017013-1836986400-1837015200@www.canadinns.com
SUMMARY:🔵 Tavern United Daily Beverage Features -  2oz Long Island Iced Tea & 3oz Personal Pitcher
DESCRIPTION:
URL:https://www.canadinns.com/event/tavern-united-daily-beverage-features-2oz-long-island-iced-tea-3oz-personal-pitcher/2028-03-18/
LOCATION:Tavern United 🔵
CATEGORIES:TU Daily Deals
END:VEVENT
END:VCALENDAR