BEGIN:VCALENDAR
VERSION:2.0
PRODID:-//Canad Inns - ECPv6.15.17.1//NONSGML v1.0//EN
CALSCALE:GREGORIAN
METHOD:PUBLISH
X-ORIGINAL-URL:https://www.canadinns.com
X-WR-CALDESC:Events for Canad Inns
REFRESH-INTERVAL;VALUE=DURATION:PT1H
X-Robots-Tag:noindex
X-PUBLISHED-TTL:PT1H
BEGIN:VTIMEZONE
TZID:America/Winnipeg
BEGIN:DAYLIGHT
TZOFFSETFROM:-0600
TZOFFSETTO:-0500
TZNAME:CDT
DTSTART:20260308T080000
END:DAYLIGHT
BEGIN:STANDARD
TZOFFSETFROM:-0500
TZOFFSETTO:-0600
TZNAME:CST
DTSTART:20261101T070000
END:STANDARD
BEGIN:DAYLIGHT
TZOFFSETFROM:-0600
TZOFFSETTO:-0500
TZNAME:CDT
DTSTART:20270314T080000
END:DAYLIGHT
BEGIN:STANDARD
TZOFFSETFROM:-0500
TZOFFSETTO:-0600
TZNAME:CST
DTSTART:20271107T070000
END:STANDARD
BEGIN:DAYLIGHT
TZOFFSETFROM:-0600
TZOFFSETTO:-0500
TZNAME:CDT
DTSTART:20280312T080000
END:DAYLIGHT
BEGIN:STANDARD
TZOFFSETFROM:-0500
TZOFFSETTO:-0600
TZNAME:CST
DTSTART:20281105T070000
END:STANDARD
END:VTIMEZONE
BEGIN:VEVENT
DTSTART;TZID=America/Winnipeg:20270924T100000
DTEND;TZID=America/Winnipeg:20270924T180000
DTSTAMP:20260420T120904
CREATED:20230327T120012Z
LAST-MODIFIED:20230327T120029Z
UID:10016465-1821780000-1821808800@www.canadinns.com
SUMMARY:🔵 Tavern United Daily Beverage Features - 2oz Carolina Iced Tea & 3oz Personal Pitcher
DESCRIPTION:
URL:https://www.canadinns.com/event/tavern-united-daily-beverage-features-2oz-carolina-iced-tea-3oz-personal-pitcher/2027-09-24/
LOCATION:Tavern United 🔵
CATEGORIES:TU Daily Deals
END:VEVENT
BEGIN:VEVENT
DTSTART;TZID=America/Winnipeg:20270925T100000
DTEND;TZID=America/Winnipeg:20270925T180000
DTSTAMP:20260420T120904
CREATED:20230327T120123Z
LAST-MODIFIED:20230327T120150Z
UID:10016988-1821866400-1821895200@www.canadinns.com
SUMMARY:🔵 Tavern United Daily Beverage Features -  2oz Long Island Iced Tea & 3oz Personal Pitcher
DESCRIPTION:
URL:https://www.canadinns.com/event/tavern-united-daily-beverage-features-2oz-long-island-iced-tea-3oz-personal-pitcher/2027-09-25/
LOCATION:Tavern United 🔵
CATEGORIES:TU Daily Deals
END:VEVENT
BEGIN:VEVENT
DTSTART;TZID=America/Winnipeg:20270926T100000
DTEND;TZID=America/Winnipeg:20270926T180000
DTSTAMP:20260420T120904
CREATED:20230327T120221Z
LAST-MODIFIED:20230327T120247Z
UID:10017511-1821952800-1821981600@www.canadinns.com
SUMMARY:🔵 Tavern United Daily Beverage Features - 2oz Canadian or Tequila Caesar
DESCRIPTION:
URL:https://www.canadinns.com/event/tavern-united-daily-beverage-features-2oz-canadian-or-tequila-caesar/2027-09-26/
LOCATION:Tavern United 🔵
CATEGORIES:TU Daily Deals
END:VEVENT
BEGIN:VEVENT
DTSTART;TZID=America/Winnipeg:20270927T100000
DTEND;TZID=America/Winnipeg:20270927T180000
DTSTAMP:20260420T120905
CREATED:20230327T115419Z
LAST-MODIFIED:20230327T115453Z
UID:10014373-1822039200-1822068000@www.canadinns.com
SUMMARY:🔵 Tavern United Daily Beverage Features - 14 oz Sangria
DESCRIPTION:
URL:https://www.canadinns.com/event/tavern-united-daily-beverage-features-14-oz-sangria/2027-09-27/
LOCATION:Tavern United 🔵
CATEGORIES:TU Daily Deals
END:VEVENT
BEGIN:VEVENT
DTSTART;TZID=America/Winnipeg:20270928T100000
DTEND;TZID=America/Winnipeg:20270928T180000
DTSTAMP:20260420T120905
CREATED:20230327T115616Z
LAST-MODIFIED:20230327T115638Z
UID:10014897-1822125600-1822154400@www.canadinns.com
SUMMARY:🔵 Tavern United Daily Beverage Features -  2 oz Signature Mules
DESCRIPTION:
URL:https://www.canadinns.com/event/tavern-united-daily-beverage-features-2-oz-signature-mules/2027-09-28/
LOCATION:Tavern United 🔵
CATEGORIES:TU Daily Deals
END:VEVENT
BEGIN:VEVENT
DTSTART;TZID=America/Winnipeg:20270929T100000
DTEND;TZID=America/Winnipeg:20270929T180000
DTSTAMP:20260420T120905
CREATED:20230327T115734Z
LAST-MODIFIED:20230327T115754Z
UID:10015420-1822212000-1822240800@www.canadinns.com
SUMMARY:🔵 Tavern United Daily Beverage Features - 2 oz Tropical Punch & 22oz PBR Draught
DESCRIPTION:
URL:https://www.canadinns.com/event/tavern-united-daily-beverage-features-2-oz-tropical-punch-22oz-pbr-draught/2027-09-29/
LOCATION:Tavern United 🔵
CATEGORIES:TU Daily Deals
END:VEVENT
BEGIN:VEVENT
DTSTART;TZID=America/Winnipeg:20270930T100000
DTEND;TZID=America/Winnipeg:20270930T180000
DTSTAMP:20260420T120905
CREATED:20230327T115852Z
LAST-MODIFIED:20230327T115922Z
UID:10015943-1822298400-1822327200@www.canadinns.com
SUMMARY:🔵 Tavern United Daily Beverage Features - 2 oz Kilted Kool-Aid & 22oz PBR Draught
DESCRIPTION:
URL:https://www.canadinns.com/event/tavern-united-daily-beverage-features-2-oz-kilted-kool-aid-22oz-pbr-draught/2027-09-30/
LOCATION:Tavern United 🔵
CATEGORIES:TU Daily Deals
END:VEVENT
BEGIN:VEVENT
DTSTART;TZID=America/Winnipeg:20271001T100000
DTEND;TZID=America/Winnipeg:20271001T180000
DTSTAMP:20260420T120905
CREATED:20230327T120012Z
LAST-MODIFIED:20230327T120029Z
UID:10016466-1822384800-1822413600@www.canadinns.com
SUMMARY:🔵 Tavern United Daily Beverage Features - 2oz Carolina Iced Tea & 3oz Personal Pitcher
DESCRIPTION:
URL:https://www.canadinns.com/event/tavern-united-daily-beverage-features-2oz-carolina-iced-tea-3oz-personal-pitcher/2027-10-01/
LOCATION:Tavern United 🔵
CATEGORIES:TU Daily Deals
END:VEVENT
BEGIN:VEVENT
DTSTART;TZID=America/Winnipeg:20271002T100000
DTEND;TZID=America/Winnipeg:20271002T180000
DTSTAMP:20260420T120905
CREATED:20230327T120123Z
LAST-MODIFIED:20230327T120150Z
UID:10016989-1822471200-1822500000@www.canadinns.com
SUMMARY:🔵 Tavern United Daily Beverage Features -  2oz Long Island Iced Tea & 3oz Personal Pitcher
DESCRIPTION:
URL:https://www.canadinns.com/event/tavern-united-daily-beverage-features-2oz-long-island-iced-tea-3oz-personal-pitcher/2027-10-02/
LOCATION:Tavern United 🔵
CATEGORIES:TU Daily Deals
END:VEVENT
BEGIN:VEVENT
DTSTART;TZID=America/Winnipeg:20271003T100000
DTEND;TZID=America/Winnipeg:20271003T180000
DTSTAMP:20260420T120905
CREATED:20230327T120221Z
LAST-MODIFIED:20230327T120247Z
UID:10017512-1822557600-1822586400@www.canadinns.com
SUMMARY:🔵 Tavern United Daily Beverage Features - 2oz Canadian or Tequila Caesar
DESCRIPTION:
URL:https://www.canadinns.com/event/tavern-united-daily-beverage-features-2oz-canadian-or-tequila-caesar/2027-10-03/
LOCATION:Tavern United 🔵
CATEGORIES:TU Daily Deals
END:VEVENT
BEGIN:VEVENT
DTSTART;TZID=America/Winnipeg:20271004T100000
DTEND;TZID=America/Winnipeg:20271004T180000
DTSTAMP:20260420T120905
CREATED:20230327T115419Z
LAST-MODIFIED:20230327T115453Z
UID:10014374-1822644000-1822672800@www.canadinns.com
SUMMARY:🔵 Tavern United Daily Beverage Features - 14 oz Sangria
DESCRIPTION:
URL:https://www.canadinns.com/event/tavern-united-daily-beverage-features-14-oz-sangria/2027-10-04/
LOCATION:Tavern United 🔵
CATEGORIES:TU Daily Deals
END:VEVENT
BEGIN:VEVENT
DTSTART;TZID=America/Winnipeg:20271005T100000
DTEND;TZID=America/Winnipeg:20271005T180000
DTSTAMP:20260420T120905
CREATED:20230327T115616Z
LAST-MODIFIED:20230327T115638Z
UID:10014898-1822730400-1822759200@www.canadinns.com
SUMMARY:🔵 Tavern United Daily Beverage Features -  2 oz Signature Mules
DESCRIPTION:
URL:https://www.canadinns.com/event/tavern-united-daily-beverage-features-2-oz-signature-mules/2027-10-05/
LOCATION:Tavern United 🔵
CATEGORIES:TU Daily Deals
END:VEVENT
BEGIN:VEVENT
DTSTART;TZID=America/Winnipeg:20271006T100000
DTEND;TZID=America/Winnipeg:20271006T180000
DTSTAMP:20260420T120905
CREATED:20230327T115734Z
LAST-MODIFIED:20230327T115754Z
UID:10015421-1822816800-1822845600@www.canadinns.com
SUMMARY:🔵 Tavern United Daily Beverage Features - 2 oz Tropical Punch & 22oz PBR Draught
DESCRIPTION:
URL:https://www.canadinns.com/event/tavern-united-daily-beverage-features-2-oz-tropical-punch-22oz-pbr-draught/2027-10-06/
LOCATION:Tavern United 🔵
CATEGORIES:TU Daily Deals
END:VEVENT
BEGIN:VEVENT
DTSTART;TZID=America/Winnipeg:20271007T100000
DTEND;TZID=America/Winnipeg:20271007T180000
DTSTAMP:20260420T120905
CREATED:20230327T115852Z
LAST-MODIFIED:20230327T115922Z
UID:10015944-1822903200-1822932000@www.canadinns.com
SUMMARY:🔵 Tavern United Daily Beverage Features - 2 oz Kilted Kool-Aid & 22oz PBR Draught
DESCRIPTION:
URL:https://www.canadinns.com/event/tavern-united-daily-beverage-features-2-oz-kilted-kool-aid-22oz-pbr-draught/2027-10-07/
LOCATION:Tavern United 🔵
CATEGORIES:TU Daily Deals
END:VEVENT
BEGIN:VEVENT
DTSTART;TZID=America/Winnipeg:20271008T100000
DTEND;TZID=America/Winnipeg:20271008T180000
DTSTAMP:20260420T120905
CREATED:20230327T120012Z
LAST-MODIFIED:20230327T120029Z
UID:10016467-1822989600-1823018400@www.canadinns.com
SUMMARY:🔵 Tavern United Daily Beverage Features - 2oz Carolina Iced Tea & 3oz Personal Pitcher
DESCRIPTION:
URL:https://www.canadinns.com/event/tavern-united-daily-beverage-features-2oz-carolina-iced-tea-3oz-personal-pitcher/2027-10-08/
LOCATION:Tavern United 🔵
CATEGORIES:TU Daily Deals
END:VEVENT
BEGIN:VEVENT
DTSTART;TZID=America/Winnipeg:20271009T100000
DTEND;TZID=America/Winnipeg:20271009T180000
DTSTAMP:20260420T120905
CREATED:20230327T120123Z
LAST-MODIFIED:20230327T120150Z
UID:10016990-1823076000-1823104800@www.canadinns.com
SUMMARY:🔵 Tavern United Daily Beverage Features -  2oz Long Island Iced Tea & 3oz Personal Pitcher
DESCRIPTION:
URL:https://www.canadinns.com/event/tavern-united-daily-beverage-features-2oz-long-island-iced-tea-3oz-personal-pitcher/2027-10-09/
LOCATION:Tavern United 🔵
CATEGORIES:TU Daily Deals
END:VEVENT
BEGIN:VEVENT
DTSTART;TZID=America/Winnipeg:20271010T100000
DTEND;TZID=America/Winnipeg:20271010T180000
DTSTAMP:20260420T120905
CREATED:20230327T120221Z
LAST-MODIFIED:20230327T120247Z
UID:10017513-1823162400-1823191200@www.canadinns.com
SUMMARY:🔵 Tavern United Daily Beverage Features - 2oz Canadian or Tequila Caesar
DESCRIPTION:
URL:https://www.canadinns.com/event/tavern-united-daily-beverage-features-2oz-canadian-or-tequila-caesar/2027-10-10/
LOCATION:Tavern United 🔵
CATEGORIES:TU Daily Deals
END:VEVENT
BEGIN:VEVENT
DTSTART;TZID=America/Winnipeg:20271011T100000
DTEND;TZID=America/Winnipeg:20271011T180000
DTSTAMP:20260420T120905
CREATED:20230327T115419Z
LAST-MODIFIED:20230327T115453Z
UID:10014375-1823248800-1823277600@www.canadinns.com
SUMMARY:🔵 Tavern United Daily Beverage Features - 14 oz Sangria
DESCRIPTION:
URL:https://www.canadinns.com/event/tavern-united-daily-beverage-features-14-oz-sangria/2027-10-11/
LOCATION:Tavern United 🔵
CATEGORIES:TU Daily Deals
END:VEVENT
BEGIN:VEVENT
DTSTART;TZID=America/Winnipeg:20271012T100000
DTEND;TZID=America/Winnipeg:20271012T180000
DTSTAMP:20260420T120905
CREATED:20230327T115616Z
LAST-MODIFIED:20230327T115638Z
UID:10014899-1823335200-1823364000@www.canadinns.com
SUMMARY:🔵 Tavern United Daily Beverage Features -  2 oz Signature Mules
DESCRIPTION:
URL:https://www.canadinns.com/event/tavern-united-daily-beverage-features-2-oz-signature-mules/2027-10-12/
LOCATION:Tavern United 🔵
CATEGORIES:TU Daily Deals
END:VEVENT
BEGIN:VEVENT
DTSTART;TZID=America/Winnipeg:20271013T100000
DTEND;TZID=America/Winnipeg:20271013T180000
DTSTAMP:20260420T120905
CREATED:20230327T115734Z
LAST-MODIFIED:20230327T115754Z
UID:10015422-1823421600-1823450400@www.canadinns.com
SUMMARY:🔵 Tavern United Daily Beverage Features - 2 oz Tropical Punch & 22oz PBR Draught
DESCRIPTION:
URL:https://www.canadinns.com/event/tavern-united-daily-beverage-features-2-oz-tropical-punch-22oz-pbr-draught/2027-10-13/
LOCATION:Tavern United 🔵
CATEGORIES:TU Daily Deals
END:VEVENT
BEGIN:VEVENT
DTSTART;TZID=America/Winnipeg:20271014T100000
DTEND;TZID=America/Winnipeg:20271014T180000
DTSTAMP:20260420T120905
CREATED:20230327T115852Z
LAST-MODIFIED:20230327T115922Z
UID:10015945-1823508000-1823536800@www.canadinns.com
SUMMARY:🔵 Tavern United Daily Beverage Features - 2 oz Kilted Kool-Aid & 22oz PBR Draught
DESCRIPTION:
URL:https://www.canadinns.com/event/tavern-united-daily-beverage-features-2-oz-kilted-kool-aid-22oz-pbr-draught/2027-10-14/
LOCATION:Tavern United 🔵
CATEGORIES:TU Daily Deals
END:VEVENT
BEGIN:VEVENT
DTSTART;TZID=America/Winnipeg:20271015T100000
DTEND;TZID=America/Winnipeg:20271015T180000
DTSTAMP:20260420T120905
CREATED:20230327T120012Z
LAST-MODIFIED:20230327T120029Z
UID:10016468-1823594400-1823623200@www.canadinns.com
SUMMARY:🔵 Tavern United Daily Beverage Features - 2oz Carolina Iced Tea & 3oz Personal Pitcher
DESCRIPTION:
URL:https://www.canadinns.com/event/tavern-united-daily-beverage-features-2oz-carolina-iced-tea-3oz-personal-pitcher/2027-10-15/
LOCATION:Tavern United 🔵
CATEGORIES:TU Daily Deals
END:VEVENT
BEGIN:VEVENT
DTSTART;TZID=America/Winnipeg:20271016T100000
DTEND;TZID=America/Winnipeg:20271016T180000
DTSTAMP:20260420T120905
CREATED:20230327T120123Z
LAST-MODIFIED:20230327T120150Z
UID:10016991-1823680800-1823709600@www.canadinns.com
SUMMARY:🔵 Tavern United Daily Beverage Features -  2oz Long Island Iced Tea & 3oz Personal Pitcher
DESCRIPTION:
URL:https://www.canadinns.com/event/tavern-united-daily-beverage-features-2oz-long-island-iced-tea-3oz-personal-pitcher/2027-10-16/
LOCATION:Tavern United 🔵
CATEGORIES:TU Daily Deals
END:VEVENT
BEGIN:VEVENT
DTSTART;TZID=America/Winnipeg:20271017T100000
DTEND;TZID=America/Winnipeg:20271017T180000
DTSTAMP:20260420T120905
CREATED:20230327T120221Z
LAST-MODIFIED:20230327T120247Z
UID:10017514-1823767200-1823796000@www.canadinns.com
SUMMARY:🔵 Tavern United Daily Beverage Features - 2oz Canadian or Tequila Caesar
DESCRIPTION:
URL:https://www.canadinns.com/event/tavern-united-daily-beverage-features-2oz-canadian-or-tequila-caesar/2027-10-17/
LOCATION:Tavern United 🔵
CATEGORIES:TU Daily Deals
END:VEVENT
BEGIN:VEVENT
DTSTART;TZID=America/Winnipeg:20271018T100000
DTEND;TZID=America/Winnipeg:20271018T180000
DTSTAMP:20260420T120905
CREATED:20230327T115419Z
LAST-MODIFIED:20230327T115453Z
UID:10014376-1823853600-1823882400@www.canadinns.com
SUMMARY:🔵 Tavern United Daily Beverage Features - 14 oz Sangria
DESCRIPTION:
URL:https://www.canadinns.com/event/tavern-united-daily-beverage-features-14-oz-sangria/2027-10-18/
LOCATION:Tavern United 🔵
CATEGORIES:TU Daily Deals
END:VEVENT
BEGIN:VEVENT
DTSTART;TZID=America/Winnipeg:20271019T100000
DTEND;TZID=America/Winnipeg:20271019T180000
DTSTAMP:20260420T120905
CREATED:20230327T115616Z
LAST-MODIFIED:20230327T115638Z
UID:10014900-1823940000-1823968800@www.canadinns.com
SUMMARY:🔵 Tavern United Daily Beverage Features -  2 oz Signature Mules
DESCRIPTION:
URL:https://www.canadinns.com/event/tavern-united-daily-beverage-features-2-oz-signature-mules/2027-10-19/
LOCATION:Tavern United 🔵
CATEGORIES:TU Daily Deals
END:VEVENT
BEGIN:VEVENT
DTSTART;TZID=America/Winnipeg:20271020T100000
DTEND;TZID=America/Winnipeg:20271020T180000
DTSTAMP:20260420T120905
CREATED:20230327T115734Z
LAST-MODIFIED:20230327T115754Z
UID:10015423-1824026400-1824055200@www.canadinns.com
SUMMARY:🔵 Tavern United Daily Beverage Features - 2 oz Tropical Punch & 22oz PBR Draught
DESCRIPTION:
URL:https://www.canadinns.com/event/tavern-united-daily-beverage-features-2-oz-tropical-punch-22oz-pbr-draught/2027-10-20/
LOCATION:Tavern United 🔵
CATEGORIES:TU Daily Deals
END:VEVENT
BEGIN:VEVENT
DTSTART;TZID=America/Winnipeg:20271021T100000
DTEND;TZID=America/Winnipeg:20271021T180000
DTSTAMP:20260420T120905
CREATED:20230327T115852Z
LAST-MODIFIED:20230327T115922Z
UID:10015946-1824112800-1824141600@www.canadinns.com
SUMMARY:🔵 Tavern United Daily Beverage Features - 2 oz Kilted Kool-Aid & 22oz PBR Draught
DESCRIPTION:
URL:https://www.canadinns.com/event/tavern-united-daily-beverage-features-2-oz-kilted-kool-aid-22oz-pbr-draught/2027-10-21/
LOCATION:Tavern United 🔵
CATEGORIES:TU Daily Deals
END:VEVENT
BEGIN:VEVENT
DTSTART;TZID=America/Winnipeg:20271022T100000
DTEND;TZID=America/Winnipeg:20271022T180000
DTSTAMP:20260420T120905
CREATED:20230327T120012Z
LAST-MODIFIED:20230327T120029Z
UID:10016469-1824199200-1824228000@www.canadinns.com
SUMMARY:🔵 Tavern United Daily Beverage Features - 2oz Carolina Iced Tea & 3oz Personal Pitcher
DESCRIPTION:
URL:https://www.canadinns.com/event/tavern-united-daily-beverage-features-2oz-carolina-iced-tea-3oz-personal-pitcher/2027-10-22/
LOCATION:Tavern United 🔵
CATEGORIES:TU Daily Deals
END:VEVENT
BEGIN:VEVENT
DTSTART;TZID=America/Winnipeg:20271023T100000
DTEND;TZID=America/Winnipeg:20271023T180000
DTSTAMP:20260420T120905
CREATED:20230327T120123Z
LAST-MODIFIED:20230327T120150Z
UID:10016992-1824285600-1824314400@www.canadinns.com
SUMMARY:🔵 Tavern United Daily Beverage Features -  2oz Long Island Iced Tea & 3oz Personal Pitcher
DESCRIPTION:
URL:https://www.canadinns.com/event/tavern-united-daily-beverage-features-2oz-long-island-iced-tea-3oz-personal-pitcher/2027-10-23/
LOCATION:Tavern United 🔵
CATEGORIES:TU Daily Deals
END:VEVENT
END:VCALENDAR