BEGIN:VCALENDAR
VERSION:2.0
PRODID:-//Canad Inns - ECPv6.15.17.1//NONSGML v1.0//EN
CALSCALE:GREGORIAN
METHOD:PUBLISH
X-ORIGINAL-URL:https://www.canadinns.com
X-WR-CALDESC:Events for Canad Inns
REFRESH-INTERVAL;VALUE=DURATION:PT1H
X-Robots-Tag:noindex
X-PUBLISHED-TTL:PT1H
BEGIN:VTIMEZONE
TZID:America/Winnipeg
BEGIN:DAYLIGHT
TZOFFSETFROM:-0600
TZOFFSETTO:-0500
TZNAME:CDT
DTSTART:20240310T080000
END:DAYLIGHT
BEGIN:STANDARD
TZOFFSETFROM:-0500
TZOFFSETTO:-0600
TZNAME:CST
DTSTART:20241103T070000
END:STANDARD
BEGIN:DAYLIGHT
TZOFFSETFROM:-0600
TZOFFSETTO:-0500
TZNAME:CDT
DTSTART:20250309T080000
END:DAYLIGHT
BEGIN:STANDARD
TZOFFSETFROM:-0500
TZOFFSETTO:-0600
TZNAME:CST
DTSTART:20251102T070000
END:STANDARD
BEGIN:DAYLIGHT
TZOFFSETFROM:-0600
TZOFFSETTO:-0500
TZNAME:CDT
DTSTART:20260308T080000
END:DAYLIGHT
BEGIN:STANDARD
TZOFFSETFROM:-0500
TZOFFSETTO:-0600
TZNAME:CST
DTSTART:20261101T070000
END:STANDARD
END:VTIMEZONE
BEGIN:VEVENT
DTSTART;TZID=America/Winnipeg:20250630T100000
DTEND;TZID=America/Winnipeg:20250630T180000
DTSTAMP:20260419T222619
CREATED:20230327T115419Z
LAST-MODIFIED:20230327T115453Z
UID:10014256-1751277600-1751306400@www.canadinns.com
SUMMARY:🔵 Tavern United Daily Beverage Features - 14 oz Sangria
DESCRIPTION:
URL:https://www.canadinns.com/event/tavern-united-daily-beverage-features-14-oz-sangria/2025-06-30/
LOCATION:Tavern United 🔵
CATEGORIES:TU Daily Deals
END:VEVENT
BEGIN:VEVENT
DTSTART;TZID=America/Winnipeg:20250701T100000
DTEND;TZID=America/Winnipeg:20250701T180000
DTSTAMP:20260419T222619
CREATED:20230327T115616Z
LAST-MODIFIED:20230327T115638Z
UID:10014780-1751364000-1751392800@www.canadinns.com
SUMMARY:🔵 Tavern United Daily Beverage Features -  2 oz Signature Mules
DESCRIPTION:
URL:https://www.canadinns.com/event/tavern-united-daily-beverage-features-2-oz-signature-mules/2025-07-01/
LOCATION:Tavern United 🔵
CATEGORIES:TU Daily Deals
END:VEVENT
BEGIN:VEVENT
DTSTART;TZID=America/Winnipeg:20250702T100000
DTEND;TZID=America/Winnipeg:20250702T180000
DTSTAMP:20260419T222619
CREATED:20230327T115734Z
LAST-MODIFIED:20230327T115754Z
UID:10015303-1751450400-1751479200@www.canadinns.com
SUMMARY:🔵 Tavern United Daily Beverage Features - 2 oz Tropical Punch & 22oz PBR Draught
DESCRIPTION:
URL:https://www.canadinns.com/event/tavern-united-daily-beverage-features-2-oz-tropical-punch-22oz-pbr-draught/2025-07-02/
LOCATION:Tavern United 🔵
CATEGORIES:TU Daily Deals
END:VEVENT
BEGIN:VEVENT
DTSTART;TZID=America/Winnipeg:20250703T100000
DTEND;TZID=America/Winnipeg:20250703T180000
DTSTAMP:20260419T222619
CREATED:20230327T115852Z
LAST-MODIFIED:20230327T115922Z
UID:10015826-1751536800-1751565600@www.canadinns.com
SUMMARY:🔵 Tavern United Daily Beverage Features - 2 oz Kilted Kool-Aid & 22oz PBR Draught
DESCRIPTION:
URL:https://www.canadinns.com/event/tavern-united-daily-beverage-features-2-oz-kilted-kool-aid-22oz-pbr-draught/2025-07-03/
LOCATION:Tavern United 🔵
CATEGORIES:TU Daily Deals
END:VEVENT
BEGIN:VEVENT
DTSTART;TZID=America/Winnipeg:20250704T100000
DTEND;TZID=America/Winnipeg:20250704T180000
DTSTAMP:20260419T222619
CREATED:20230327T120012Z
LAST-MODIFIED:20230327T120029Z
UID:10016349-1751623200-1751652000@www.canadinns.com
SUMMARY:🔵 Tavern United Daily Beverage Features - 2oz Carolina Iced Tea & 3oz Personal Pitcher
DESCRIPTION:
URL:https://www.canadinns.com/event/tavern-united-daily-beverage-features-2oz-carolina-iced-tea-3oz-personal-pitcher/2025-07-04/
LOCATION:Tavern United 🔵
CATEGORIES:TU Daily Deals
END:VEVENT
BEGIN:VEVENT
DTSTART;TZID=America/Winnipeg:20250705T100000
DTEND;TZID=America/Winnipeg:20250705T180000
DTSTAMP:20260419T222619
CREATED:20230327T120123Z
LAST-MODIFIED:20230327T120150Z
UID:10016872-1751709600-1751738400@www.canadinns.com
SUMMARY:🔵 Tavern United Daily Beverage Features -  2oz Long Island Iced Tea & 3oz Personal Pitcher
DESCRIPTION:
URL:https://www.canadinns.com/event/tavern-united-daily-beverage-features-2oz-long-island-iced-tea-3oz-personal-pitcher/2025-07-05/
LOCATION:Tavern United 🔵
CATEGORIES:TU Daily Deals
END:VEVENT
BEGIN:VEVENT
DTSTART;TZID=America/Winnipeg:20250706T100000
DTEND;TZID=America/Winnipeg:20250706T180000
DTSTAMP:20260419T222619
CREATED:20230327T120221Z
LAST-MODIFIED:20230327T120247Z
UID:10017395-1751796000-1751824800@www.canadinns.com
SUMMARY:🔵 Tavern United Daily Beverage Features - 2oz Canadian or Tequila Caesar
DESCRIPTION:
URL:https://www.canadinns.com/event/tavern-united-daily-beverage-features-2oz-canadian-or-tequila-caesar/2025-07-06/
LOCATION:Tavern United 🔵
CATEGORIES:TU Daily Deals
END:VEVENT
BEGIN:VEVENT
DTSTART;TZID=America/Winnipeg:20250707T100000
DTEND;TZID=America/Winnipeg:20250707T180000
DTSTAMP:20260419T222619
CREATED:20230327T115419Z
LAST-MODIFIED:20230327T115453Z
UID:10014257-1751882400-1751911200@www.canadinns.com
SUMMARY:🔵 Tavern United Daily Beverage Features - 14 oz Sangria
DESCRIPTION:
URL:https://www.canadinns.com/event/tavern-united-daily-beverage-features-14-oz-sangria/2025-07-07/
LOCATION:Tavern United 🔵
CATEGORIES:TU Daily Deals
END:VEVENT
BEGIN:VEVENT
DTSTART;TZID=America/Winnipeg:20250708T100000
DTEND;TZID=America/Winnipeg:20250708T180000
DTSTAMP:20260419T222619
CREATED:20230327T115616Z
LAST-MODIFIED:20230327T115638Z
UID:10014781-1751968800-1751997600@www.canadinns.com
SUMMARY:🔵 Tavern United Daily Beverage Features -  2 oz Signature Mules
DESCRIPTION:
URL:https://www.canadinns.com/event/tavern-united-daily-beverage-features-2-oz-signature-mules/2025-07-08/
LOCATION:Tavern United 🔵
CATEGORIES:TU Daily Deals
END:VEVENT
BEGIN:VEVENT
DTSTART;TZID=America/Winnipeg:20250709T100000
DTEND;TZID=America/Winnipeg:20250709T180000
DTSTAMP:20260419T222619
CREATED:20230327T115734Z
LAST-MODIFIED:20230327T115754Z
UID:10015304-1752055200-1752084000@www.canadinns.com
SUMMARY:🔵 Tavern United Daily Beverage Features - 2 oz Tropical Punch & 22oz PBR Draught
DESCRIPTION:
URL:https://www.canadinns.com/event/tavern-united-daily-beverage-features-2-oz-tropical-punch-22oz-pbr-draught/2025-07-09/
LOCATION:Tavern United 🔵
CATEGORIES:TU Daily Deals
END:VEVENT
BEGIN:VEVENT
DTSTART;TZID=America/Winnipeg:20250710T100000
DTEND;TZID=America/Winnipeg:20250710T180000
DTSTAMP:20260419T222619
CREATED:20230327T115852Z
LAST-MODIFIED:20230327T115922Z
UID:10015827-1752141600-1752170400@www.canadinns.com
SUMMARY:🔵 Tavern United Daily Beverage Features - 2 oz Kilted Kool-Aid & 22oz PBR Draught
DESCRIPTION:
URL:https://www.canadinns.com/event/tavern-united-daily-beverage-features-2-oz-kilted-kool-aid-22oz-pbr-draught/2025-07-10/
LOCATION:Tavern United 🔵
CATEGORIES:TU Daily Deals
END:VEVENT
BEGIN:VEVENT
DTSTART;TZID=America/Winnipeg:20250711T100000
DTEND;TZID=America/Winnipeg:20250711T180000
DTSTAMP:20260419T222619
CREATED:20230327T120012Z
LAST-MODIFIED:20230327T120029Z
UID:10016350-1752228000-1752256800@www.canadinns.com
SUMMARY:🔵 Tavern United Daily Beverage Features - 2oz Carolina Iced Tea & 3oz Personal Pitcher
DESCRIPTION:
URL:https://www.canadinns.com/event/tavern-united-daily-beverage-features-2oz-carolina-iced-tea-3oz-personal-pitcher/2025-07-11/
LOCATION:Tavern United 🔵
CATEGORIES:TU Daily Deals
END:VEVENT
BEGIN:VEVENT
DTSTART;TZID=America/Winnipeg:20250712T100000
DTEND;TZID=America/Winnipeg:20250712T180000
DTSTAMP:20260419T222619
CREATED:20230327T120123Z
LAST-MODIFIED:20230327T120150Z
UID:10016873-1752314400-1752343200@www.canadinns.com
SUMMARY:🔵 Tavern United Daily Beverage Features -  2oz Long Island Iced Tea & 3oz Personal Pitcher
DESCRIPTION:
URL:https://www.canadinns.com/event/tavern-united-daily-beverage-features-2oz-long-island-iced-tea-3oz-personal-pitcher/2025-07-12/
LOCATION:Tavern United 🔵
CATEGORIES:TU Daily Deals
END:VEVENT
BEGIN:VEVENT
DTSTART;TZID=America/Winnipeg:20250713T100000
DTEND;TZID=America/Winnipeg:20250713T180000
DTSTAMP:20260419T222619
CREATED:20230327T120221Z
LAST-MODIFIED:20230327T120247Z
UID:10017396-1752400800-1752429600@www.canadinns.com
SUMMARY:🔵 Tavern United Daily Beverage Features - 2oz Canadian or Tequila Caesar
DESCRIPTION:
URL:https://www.canadinns.com/event/tavern-united-daily-beverage-features-2oz-canadian-or-tequila-caesar/2025-07-13/
LOCATION:Tavern United 🔵
CATEGORIES:TU Daily Deals
END:VEVENT
BEGIN:VEVENT
DTSTART;TZID=America/Winnipeg:20250714T100000
DTEND;TZID=America/Winnipeg:20250714T180000
DTSTAMP:20260419T222619
CREATED:20230327T115419Z
LAST-MODIFIED:20230327T115453Z
UID:10014258-1752487200-1752516000@www.canadinns.com
SUMMARY:🔵 Tavern United Daily Beverage Features - 14 oz Sangria
DESCRIPTION:
URL:https://www.canadinns.com/event/tavern-united-daily-beverage-features-14-oz-sangria/2025-07-14/
LOCATION:Tavern United 🔵
CATEGORIES:TU Daily Deals
END:VEVENT
BEGIN:VEVENT
DTSTART;TZID=America/Winnipeg:20250715T100000
DTEND;TZID=America/Winnipeg:20250715T180000
DTSTAMP:20260419T222619
CREATED:20230327T115616Z
LAST-MODIFIED:20230327T115638Z
UID:10014782-1752573600-1752602400@www.canadinns.com
SUMMARY:🔵 Tavern United Daily Beverage Features -  2 oz Signature Mules
DESCRIPTION:
URL:https://www.canadinns.com/event/tavern-united-daily-beverage-features-2-oz-signature-mules/2025-07-15/
LOCATION:Tavern United 🔵
CATEGORIES:TU Daily Deals
END:VEVENT
BEGIN:VEVENT
DTSTART;TZID=America/Winnipeg:20250716T100000
DTEND;TZID=America/Winnipeg:20250716T180000
DTSTAMP:20260419T222619
CREATED:20230327T115734Z
LAST-MODIFIED:20230327T115754Z
UID:10015305-1752660000-1752688800@www.canadinns.com
SUMMARY:🔵 Tavern United Daily Beverage Features - 2 oz Tropical Punch & 22oz PBR Draught
DESCRIPTION:
URL:https://www.canadinns.com/event/tavern-united-daily-beverage-features-2-oz-tropical-punch-22oz-pbr-draught/2025-07-16/
LOCATION:Tavern United 🔵
CATEGORIES:TU Daily Deals
END:VEVENT
BEGIN:VEVENT
DTSTART;TZID=America/Winnipeg:20250717T100000
DTEND;TZID=America/Winnipeg:20250717T180000
DTSTAMP:20260419T222619
CREATED:20230327T115852Z
LAST-MODIFIED:20230327T115922Z
UID:10015828-1752746400-1752775200@www.canadinns.com
SUMMARY:🔵 Tavern United Daily Beverage Features - 2 oz Kilted Kool-Aid & 22oz PBR Draught
DESCRIPTION:
URL:https://www.canadinns.com/event/tavern-united-daily-beverage-features-2-oz-kilted-kool-aid-22oz-pbr-draught/2025-07-17/
LOCATION:Tavern United 🔵
CATEGORIES:TU Daily Deals
END:VEVENT
BEGIN:VEVENT
DTSTART;TZID=America/Winnipeg:20250718T100000
DTEND;TZID=America/Winnipeg:20250718T180000
DTSTAMP:20260419T222619
CREATED:20230327T120012Z
LAST-MODIFIED:20230327T120029Z
UID:10016351-1752832800-1752861600@www.canadinns.com
SUMMARY:🔵 Tavern United Daily Beverage Features - 2oz Carolina Iced Tea & 3oz Personal Pitcher
DESCRIPTION:
URL:https://www.canadinns.com/event/tavern-united-daily-beverage-features-2oz-carolina-iced-tea-3oz-personal-pitcher/2025-07-18/
LOCATION:Tavern United 🔵
CATEGORIES:TU Daily Deals
END:VEVENT
BEGIN:VEVENT
DTSTART;TZID=America/Winnipeg:20250719T100000
DTEND;TZID=America/Winnipeg:20250719T180000
DTSTAMP:20260419T222619
CREATED:20230327T120123Z
LAST-MODIFIED:20230327T120150Z
UID:10016874-1752919200-1752948000@www.canadinns.com
SUMMARY:🔵 Tavern United Daily Beverage Features -  2oz Long Island Iced Tea & 3oz Personal Pitcher
DESCRIPTION:
URL:https://www.canadinns.com/event/tavern-united-daily-beverage-features-2oz-long-island-iced-tea-3oz-personal-pitcher/2025-07-19/
LOCATION:Tavern United 🔵
CATEGORIES:TU Daily Deals
END:VEVENT
BEGIN:VEVENT
DTSTART;TZID=America/Winnipeg:20250720T100000
DTEND;TZID=America/Winnipeg:20250720T180000
DTSTAMP:20260419T222619
CREATED:20230327T120221Z
LAST-MODIFIED:20230327T120247Z
UID:10017397-1753005600-1753034400@www.canadinns.com
SUMMARY:🔵 Tavern United Daily Beverage Features - 2oz Canadian or Tequila Caesar
DESCRIPTION:
URL:https://www.canadinns.com/event/tavern-united-daily-beverage-features-2oz-canadian-or-tequila-caesar/2025-07-20/
LOCATION:Tavern United 🔵
CATEGORIES:TU Daily Deals
END:VEVENT
BEGIN:VEVENT
DTSTART;TZID=America/Winnipeg:20250721T100000
DTEND;TZID=America/Winnipeg:20250721T180000
DTSTAMP:20260419T222619
CREATED:20230327T115419Z
LAST-MODIFIED:20230327T115453Z
UID:10014259-1753092000-1753120800@www.canadinns.com
SUMMARY:🔵 Tavern United Daily Beverage Features - 14 oz Sangria
DESCRIPTION:
URL:https://www.canadinns.com/event/tavern-united-daily-beverage-features-14-oz-sangria/2025-07-21/
LOCATION:Tavern United 🔵
CATEGORIES:TU Daily Deals
END:VEVENT
BEGIN:VEVENT
DTSTART;TZID=America/Winnipeg:20250722T100000
DTEND;TZID=America/Winnipeg:20250722T180000
DTSTAMP:20260419T222619
CREATED:20230327T115616Z
LAST-MODIFIED:20230327T115638Z
UID:10014783-1753178400-1753207200@www.canadinns.com
SUMMARY:🔵 Tavern United Daily Beverage Features -  2 oz Signature Mules
DESCRIPTION:
URL:https://www.canadinns.com/event/tavern-united-daily-beverage-features-2-oz-signature-mules/2025-07-22/
LOCATION:Tavern United 🔵
CATEGORIES:TU Daily Deals
END:VEVENT
BEGIN:VEVENT
DTSTART;TZID=America/Winnipeg:20250723T100000
DTEND;TZID=America/Winnipeg:20250723T180000
DTSTAMP:20260419T222619
CREATED:20230327T115734Z
LAST-MODIFIED:20230327T115754Z
UID:10015306-1753264800-1753293600@www.canadinns.com
SUMMARY:🔵 Tavern United Daily Beverage Features - 2 oz Tropical Punch & 22oz PBR Draught
DESCRIPTION:
URL:https://www.canadinns.com/event/tavern-united-daily-beverage-features-2-oz-tropical-punch-22oz-pbr-draught/2025-07-23/
LOCATION:Tavern United 🔵
CATEGORIES:TU Daily Deals
END:VEVENT
BEGIN:VEVENT
DTSTART;TZID=America/Winnipeg:20250724T100000
DTEND;TZID=America/Winnipeg:20250724T180000
DTSTAMP:20260419T222619
CREATED:20230327T115852Z
LAST-MODIFIED:20230327T115922Z
UID:10015829-1753351200-1753380000@www.canadinns.com
SUMMARY:🔵 Tavern United Daily Beverage Features - 2 oz Kilted Kool-Aid & 22oz PBR Draught
DESCRIPTION:
URL:https://www.canadinns.com/event/tavern-united-daily-beverage-features-2-oz-kilted-kool-aid-22oz-pbr-draught/2025-07-24/
LOCATION:Tavern United 🔵
CATEGORIES:TU Daily Deals
END:VEVENT
BEGIN:VEVENT
DTSTART;TZID=America/Winnipeg:20250725T100000
DTEND;TZID=America/Winnipeg:20250725T180000
DTSTAMP:20260419T222619
CREATED:20230327T120012Z
LAST-MODIFIED:20230327T120029Z
UID:10016352-1753437600-1753466400@www.canadinns.com
SUMMARY:🔵 Tavern United Daily Beverage Features - 2oz Carolina Iced Tea & 3oz Personal Pitcher
DESCRIPTION:
URL:https://www.canadinns.com/event/tavern-united-daily-beverage-features-2oz-carolina-iced-tea-3oz-personal-pitcher/2025-07-25/
LOCATION:Tavern United 🔵
CATEGORIES:TU Daily Deals
END:VEVENT
BEGIN:VEVENT
DTSTART;TZID=America/Winnipeg:20250726T100000
DTEND;TZID=America/Winnipeg:20250726T180000
DTSTAMP:20260419T222619
CREATED:20230327T120123Z
LAST-MODIFIED:20230327T120150Z
UID:10016875-1753524000-1753552800@www.canadinns.com
SUMMARY:🔵 Tavern United Daily Beverage Features -  2oz Long Island Iced Tea & 3oz Personal Pitcher
DESCRIPTION:
URL:https://www.canadinns.com/event/tavern-united-daily-beverage-features-2oz-long-island-iced-tea-3oz-personal-pitcher/2025-07-26/
LOCATION:Tavern United 🔵
CATEGORIES:TU Daily Deals
END:VEVENT
BEGIN:VEVENT
DTSTART;TZID=America/Winnipeg:20250727T100000
DTEND;TZID=America/Winnipeg:20250727T180000
DTSTAMP:20260419T222619
CREATED:20230327T120221Z
LAST-MODIFIED:20230327T120247Z
UID:10017398-1753610400-1753639200@www.canadinns.com
SUMMARY:🔵 Tavern United Daily Beverage Features - 2oz Canadian or Tequila Caesar
DESCRIPTION:
URL:https://www.canadinns.com/event/tavern-united-daily-beverage-features-2oz-canadian-or-tequila-caesar/2025-07-27/
LOCATION:Tavern United 🔵
CATEGORIES:TU Daily Deals
END:VEVENT
BEGIN:VEVENT
DTSTART;TZID=America/Winnipeg:20250728T100000
DTEND;TZID=America/Winnipeg:20250728T180000
DTSTAMP:20260419T222619
CREATED:20230327T115419Z
LAST-MODIFIED:20230327T115453Z
UID:10014260-1753696800-1753725600@www.canadinns.com
SUMMARY:🔵 Tavern United Daily Beverage Features - 14 oz Sangria
DESCRIPTION:
URL:https://www.canadinns.com/event/tavern-united-daily-beverage-features-14-oz-sangria/2025-07-28/
LOCATION:Tavern United 🔵
CATEGORIES:TU Daily Deals
END:VEVENT
BEGIN:VEVENT
DTSTART;TZID=America/Winnipeg:20250729T100000
DTEND;TZID=America/Winnipeg:20250729T180000
DTSTAMP:20260419T222619
CREATED:20230327T115616Z
LAST-MODIFIED:20230327T115638Z
UID:10014784-1753783200-1753812000@www.canadinns.com
SUMMARY:🔵 Tavern United Daily Beverage Features -  2 oz Signature Mules
DESCRIPTION:
URL:https://www.canadinns.com/event/tavern-united-daily-beverage-features-2-oz-signature-mules/2025-07-29/
LOCATION:Tavern United 🔵
CATEGORIES:TU Daily Deals
END:VEVENT
END:VCALENDAR