BEGIN:VCALENDAR
VERSION:2.0
PRODID:-//Canad Inns - ECPv6.15.17.1//NONSGML v1.0//EN
CALSCALE:GREGORIAN
METHOD:PUBLISH
X-ORIGINAL-URL:https://www.canadinns.com
X-WR-CALDESC:Events for Canad Inns
REFRESH-INTERVAL;VALUE=DURATION:PT1H
X-Robots-Tag:noindex
X-PUBLISHED-TTL:PT1H
BEGIN:VTIMEZONE
TZID:America/Winnipeg
BEGIN:DAYLIGHT
TZOFFSETFROM:-0600
TZOFFSETTO:-0500
TZNAME:CDT
DTSTART:20260308T080000
END:DAYLIGHT
BEGIN:STANDARD
TZOFFSETFROM:-0500
TZOFFSETTO:-0600
TZNAME:CST
DTSTART:20261101T070000
END:STANDARD
BEGIN:DAYLIGHT
TZOFFSETFROM:-0600
TZOFFSETTO:-0500
TZNAME:CDT
DTSTART:20270314T080000
END:DAYLIGHT
BEGIN:STANDARD
TZOFFSETFROM:-0500
TZOFFSETTO:-0600
TZNAME:CST
DTSTART:20271107T070000
END:STANDARD
BEGIN:DAYLIGHT
TZOFFSETFROM:-0600
TZOFFSETTO:-0500
TZNAME:CDT
DTSTART:20280312T080000
END:DAYLIGHT
BEGIN:STANDARD
TZOFFSETFROM:-0500
TZOFFSETTO:-0600
TZNAME:CST
DTSTART:20281105T070000
END:STANDARD
BEGIN:DAYLIGHT
TZOFFSETFROM:-0600
TZOFFSETTO:-0500
TZNAME:CDT
DTSTART:20290311T080000
END:DAYLIGHT
BEGIN:STANDARD
TZOFFSETFROM:-0500
TZOFFSETTO:-0600
TZNAME:CST
DTSTART:20291104T070000
END:STANDARD
END:VTIMEZONE
BEGIN:VEVENT
DTSTART;TZID=America/Winnipeg:20271225T100000
DTEND;TZID=America/Winnipeg:20271225T180000
DTSTAMP:20260422T063248
CREATED:20230327T120123Z
LAST-MODIFIED:20230327T120150Z
UID:10017001-1829728800-1829757600@www.canadinns.com
SUMMARY:🔵 Tavern United Daily Beverage Features -  2oz Long Island Iced Tea & 3oz Personal Pitcher
DESCRIPTION:
URL:https://www.canadinns.com/event/tavern-united-daily-beverage-features-2oz-long-island-iced-tea-3oz-personal-pitcher/2027-12-25/
LOCATION:Tavern United 🔵
CATEGORIES:TU Daily Deals
END:VEVENT
BEGIN:VEVENT
DTSTART;TZID=America/Winnipeg:20271226T100000
DTEND;TZID=America/Winnipeg:20271226T180000
DTSTAMP:20260422T063248
CREATED:20230327T120221Z
LAST-MODIFIED:20230327T120247Z
UID:10017524-1829815200-1829844000@www.canadinns.com
SUMMARY:🔵 Tavern United Daily Beverage Features - 2oz Canadian or Tequila Caesar
DESCRIPTION:
URL:https://www.canadinns.com/event/tavern-united-daily-beverage-features-2oz-canadian-or-tequila-caesar/2027-12-26/
LOCATION:Tavern United 🔵
CATEGORIES:TU Daily Deals
END:VEVENT
BEGIN:VEVENT
DTSTART;TZID=America/Winnipeg:20271227T100000
DTEND;TZID=America/Winnipeg:20271227T180000
DTSTAMP:20260422T063248
CREATED:20230327T115419Z
LAST-MODIFIED:20230327T115453Z
UID:10014386-1829901600-1829930400@www.canadinns.com
SUMMARY:🔵 Tavern United Daily Beverage Features - 14 oz Sangria
DESCRIPTION:
URL:https://www.canadinns.com/event/tavern-united-daily-beverage-features-14-oz-sangria/2027-12-27/
LOCATION:Tavern United 🔵
CATEGORIES:TU Daily Deals
END:VEVENT
BEGIN:VEVENT
DTSTART;TZID=America/Winnipeg:20271228T100000
DTEND;TZID=America/Winnipeg:20271228T180000
DTSTAMP:20260422T063248
CREATED:20230327T115616Z
LAST-MODIFIED:20230327T115638Z
UID:10014910-1829988000-1830016800@www.canadinns.com
SUMMARY:🔵 Tavern United Daily Beverage Features -  2 oz Signature Mules
DESCRIPTION:
URL:https://www.canadinns.com/event/tavern-united-daily-beverage-features-2-oz-signature-mules/2027-12-28/
LOCATION:Tavern United 🔵
CATEGORIES:TU Daily Deals
END:VEVENT
BEGIN:VEVENT
DTSTART;TZID=America/Winnipeg:20271229T100000
DTEND;TZID=America/Winnipeg:20271229T180000
DTSTAMP:20260422T063248
CREATED:20230327T115734Z
LAST-MODIFIED:20230327T115754Z
UID:10015433-1830074400-1830103200@www.canadinns.com
SUMMARY:🔵 Tavern United Daily Beverage Features - 2 oz Tropical Punch & 22oz PBR Draught
DESCRIPTION:
URL:https://www.canadinns.com/event/tavern-united-daily-beverage-features-2-oz-tropical-punch-22oz-pbr-draught/2027-12-29/
LOCATION:Tavern United 🔵
CATEGORIES:TU Daily Deals
END:VEVENT
BEGIN:VEVENT
DTSTART;TZID=America/Winnipeg:20271230T100000
DTEND;TZID=America/Winnipeg:20271230T180000
DTSTAMP:20260422T063248
CREATED:20230327T115852Z
LAST-MODIFIED:20230327T115922Z
UID:10015956-1830160800-1830189600@www.canadinns.com
SUMMARY:🔵 Tavern United Daily Beverage Features - 2 oz Kilted Kool-Aid & 22oz PBR Draught
DESCRIPTION:
URL:https://www.canadinns.com/event/tavern-united-daily-beverage-features-2-oz-kilted-kool-aid-22oz-pbr-draught/2027-12-30/
LOCATION:Tavern United 🔵
CATEGORIES:TU Daily Deals
END:VEVENT
BEGIN:VEVENT
DTSTART;TZID=America/Winnipeg:20271231T100000
DTEND;TZID=America/Winnipeg:20271231T180000
DTSTAMP:20260422T063248
CREATED:20230327T120012Z
LAST-MODIFIED:20230327T120029Z
UID:10016479-1830247200-1830276000@www.canadinns.com
SUMMARY:🔵 Tavern United Daily Beverage Features - 2oz Carolina Iced Tea & 3oz Personal Pitcher
DESCRIPTION:
URL:https://www.canadinns.com/event/tavern-united-daily-beverage-features-2oz-carolina-iced-tea-3oz-personal-pitcher/2027-12-31/
LOCATION:Tavern United 🔵
CATEGORIES:TU Daily Deals
END:VEVENT
BEGIN:VEVENT
DTSTART;TZID=America/Winnipeg:20280101T100000
DTEND;TZID=America/Winnipeg:20280101T180000
DTSTAMP:20260422T063248
CREATED:20230327T120123Z
LAST-MODIFIED:20230327T120150Z
UID:10017002-1830333600-1830362400@www.canadinns.com
SUMMARY:🔵 Tavern United Daily Beverage Features -  2oz Long Island Iced Tea & 3oz Personal Pitcher
DESCRIPTION:
URL:https://www.canadinns.com/event/tavern-united-daily-beverage-features-2oz-long-island-iced-tea-3oz-personal-pitcher/2028-01-01/
LOCATION:Tavern United 🔵
CATEGORIES:TU Daily Deals
END:VEVENT
BEGIN:VEVENT
DTSTART;TZID=America/Winnipeg:20280102T100000
DTEND;TZID=America/Winnipeg:20280102T180000
DTSTAMP:20260422T063248
CREATED:20230327T120221Z
LAST-MODIFIED:20230327T120247Z
UID:10017525-1830420000-1830448800@www.canadinns.com
SUMMARY:🔵 Tavern United Daily Beverage Features - 2oz Canadian or Tequila Caesar
DESCRIPTION:
URL:https://www.canadinns.com/event/tavern-united-daily-beverage-features-2oz-canadian-or-tequila-caesar/2028-01-02/
LOCATION:Tavern United 🔵
CATEGORIES:TU Daily Deals
END:VEVENT
BEGIN:VEVENT
DTSTART;TZID=America/Winnipeg:20280103T100000
DTEND;TZID=America/Winnipeg:20280103T180000
DTSTAMP:20260422T063248
CREATED:20230327T115419Z
LAST-MODIFIED:20230327T115453Z
UID:10014387-1830506400-1830535200@www.canadinns.com
SUMMARY:🔵 Tavern United Daily Beverage Features - 14 oz Sangria
DESCRIPTION:
URL:https://www.canadinns.com/event/tavern-united-daily-beverage-features-14-oz-sangria/2028-01-03/
LOCATION:Tavern United 🔵
CATEGORIES:TU Daily Deals
END:VEVENT
BEGIN:VEVENT
DTSTART;TZID=America/Winnipeg:20280104T100000
DTEND;TZID=America/Winnipeg:20280104T180000
DTSTAMP:20260422T063248
CREATED:20230327T115616Z
LAST-MODIFIED:20230327T115638Z
UID:10014911-1830592800-1830621600@www.canadinns.com
SUMMARY:🔵 Tavern United Daily Beverage Features -  2 oz Signature Mules
DESCRIPTION:
URL:https://www.canadinns.com/event/tavern-united-daily-beverage-features-2-oz-signature-mules/2028-01-04/
LOCATION:Tavern United 🔵
CATEGORIES:TU Daily Deals
END:VEVENT
BEGIN:VEVENT
DTSTART;TZID=America/Winnipeg:20280105T100000
DTEND;TZID=America/Winnipeg:20280105T180000
DTSTAMP:20260422T063248
CREATED:20230327T115734Z
LAST-MODIFIED:20230327T115754Z
UID:10015434-1830679200-1830708000@www.canadinns.com
SUMMARY:🔵 Tavern United Daily Beverage Features - 2 oz Tropical Punch & 22oz PBR Draught
DESCRIPTION:
URL:https://www.canadinns.com/event/tavern-united-daily-beverage-features-2-oz-tropical-punch-22oz-pbr-draught/2028-01-05/
LOCATION:Tavern United 🔵
CATEGORIES:TU Daily Deals
END:VEVENT
BEGIN:VEVENT
DTSTART;TZID=America/Winnipeg:20280106T100000
DTEND;TZID=America/Winnipeg:20280106T180000
DTSTAMP:20260422T063248
CREATED:20230327T115852Z
LAST-MODIFIED:20230327T115922Z
UID:10015957-1830765600-1830794400@www.canadinns.com
SUMMARY:🔵 Tavern United Daily Beverage Features - 2 oz Kilted Kool-Aid & 22oz PBR Draught
DESCRIPTION:
URL:https://www.canadinns.com/event/tavern-united-daily-beverage-features-2-oz-kilted-kool-aid-22oz-pbr-draught/2028-01-06/
LOCATION:Tavern United 🔵
CATEGORIES:TU Daily Deals
END:VEVENT
BEGIN:VEVENT
DTSTART;TZID=America/Winnipeg:20280107T100000
DTEND;TZID=America/Winnipeg:20280107T180000
DTSTAMP:20260422T063248
CREATED:20230327T120012Z
LAST-MODIFIED:20230327T120029Z
UID:10016480-1830852000-1830880800@www.canadinns.com
SUMMARY:🔵 Tavern United Daily Beverage Features - 2oz Carolina Iced Tea & 3oz Personal Pitcher
DESCRIPTION:
URL:https://www.canadinns.com/event/tavern-united-daily-beverage-features-2oz-carolina-iced-tea-3oz-personal-pitcher/2028-01-07/
LOCATION:Tavern United 🔵
CATEGORIES:TU Daily Deals
END:VEVENT
BEGIN:VEVENT
DTSTART;TZID=America/Winnipeg:20280108T100000
DTEND;TZID=America/Winnipeg:20280108T180000
DTSTAMP:20260422T063248
CREATED:20230327T120123Z
LAST-MODIFIED:20230327T120150Z
UID:10017003-1830938400-1830967200@www.canadinns.com
SUMMARY:🔵 Tavern United Daily Beverage Features -  2oz Long Island Iced Tea & 3oz Personal Pitcher
DESCRIPTION:
URL:https://www.canadinns.com/event/tavern-united-daily-beverage-features-2oz-long-island-iced-tea-3oz-personal-pitcher/2028-01-08/
LOCATION:Tavern United 🔵
CATEGORIES:TU Daily Deals
END:VEVENT
BEGIN:VEVENT
DTSTART;TZID=America/Winnipeg:20280109T100000
DTEND;TZID=America/Winnipeg:20280109T180000
DTSTAMP:20260422T063248
CREATED:20230327T120221Z
LAST-MODIFIED:20230327T120247Z
UID:10017526-1831024800-1831053600@www.canadinns.com
SUMMARY:🔵 Tavern United Daily Beverage Features - 2oz Canadian or Tequila Caesar
DESCRIPTION:
URL:https://www.canadinns.com/event/tavern-united-daily-beverage-features-2oz-canadian-or-tequila-caesar/2028-01-09/
LOCATION:Tavern United 🔵
CATEGORIES:TU Daily Deals
END:VEVENT
BEGIN:VEVENT
DTSTART;TZID=America/Winnipeg:20280110T100000
DTEND;TZID=America/Winnipeg:20280110T180000
DTSTAMP:20260422T063248
CREATED:20230327T115419Z
LAST-MODIFIED:20230327T115453Z
UID:10014388-1831111200-1831140000@www.canadinns.com
SUMMARY:🔵 Tavern United Daily Beverage Features - 14 oz Sangria
DESCRIPTION:
URL:https://www.canadinns.com/event/tavern-united-daily-beverage-features-14-oz-sangria/2028-01-10/
LOCATION:Tavern United 🔵
CATEGORIES:TU Daily Deals
END:VEVENT
BEGIN:VEVENT
DTSTART;TZID=America/Winnipeg:20280111T100000
DTEND;TZID=America/Winnipeg:20280111T180000
DTSTAMP:20260422T063248
CREATED:20230327T115616Z
LAST-MODIFIED:20230327T115638Z
UID:10014912-1831197600-1831226400@www.canadinns.com
SUMMARY:🔵 Tavern United Daily Beverage Features -  2 oz Signature Mules
DESCRIPTION:
URL:https://www.canadinns.com/event/tavern-united-daily-beverage-features-2-oz-signature-mules/2028-01-11/
LOCATION:Tavern United 🔵
CATEGORIES:TU Daily Deals
END:VEVENT
BEGIN:VEVENT
DTSTART;TZID=America/Winnipeg:20280112T100000
DTEND;TZID=America/Winnipeg:20280112T180000
DTSTAMP:20260422T063248
CREATED:20230327T115734Z
LAST-MODIFIED:20230327T115754Z
UID:10015435-1831284000-1831312800@www.canadinns.com
SUMMARY:🔵 Tavern United Daily Beverage Features - 2 oz Tropical Punch & 22oz PBR Draught
DESCRIPTION:
URL:https://www.canadinns.com/event/tavern-united-daily-beverage-features-2-oz-tropical-punch-22oz-pbr-draught/2028-01-12/
LOCATION:Tavern United 🔵
CATEGORIES:TU Daily Deals
END:VEVENT
BEGIN:VEVENT
DTSTART;TZID=America/Winnipeg:20280113T100000
DTEND;TZID=America/Winnipeg:20280113T180000
DTSTAMP:20260422T063248
CREATED:20230327T115852Z
LAST-MODIFIED:20230327T115922Z
UID:10015958-1831370400-1831399200@www.canadinns.com
SUMMARY:🔵 Tavern United Daily Beverage Features - 2 oz Kilted Kool-Aid & 22oz PBR Draught
DESCRIPTION:
URL:https://www.canadinns.com/event/tavern-united-daily-beverage-features-2-oz-kilted-kool-aid-22oz-pbr-draught/2028-01-13/
LOCATION:Tavern United 🔵
CATEGORIES:TU Daily Deals
END:VEVENT
BEGIN:VEVENT
DTSTART;TZID=America/Winnipeg:20280114T100000
DTEND;TZID=America/Winnipeg:20280114T180000
DTSTAMP:20260422T063248
CREATED:20230327T120012Z
LAST-MODIFIED:20230327T120029Z
UID:10016481-1831456800-1831485600@www.canadinns.com
SUMMARY:🔵 Tavern United Daily Beverage Features - 2oz Carolina Iced Tea & 3oz Personal Pitcher
DESCRIPTION:
URL:https://www.canadinns.com/event/tavern-united-daily-beverage-features-2oz-carolina-iced-tea-3oz-personal-pitcher/2028-01-14/
LOCATION:Tavern United 🔵
CATEGORIES:TU Daily Deals
END:VEVENT
BEGIN:VEVENT
DTSTART;TZID=America/Winnipeg:20280115T100000
DTEND;TZID=America/Winnipeg:20280115T180000
DTSTAMP:20260422T063248
CREATED:20230327T120123Z
LAST-MODIFIED:20230327T120150Z
UID:10017004-1831543200-1831572000@www.canadinns.com
SUMMARY:🔵 Tavern United Daily Beverage Features -  2oz Long Island Iced Tea & 3oz Personal Pitcher
DESCRIPTION:
URL:https://www.canadinns.com/event/tavern-united-daily-beverage-features-2oz-long-island-iced-tea-3oz-personal-pitcher/2028-01-15/
LOCATION:Tavern United 🔵
CATEGORIES:TU Daily Deals
END:VEVENT
BEGIN:VEVENT
DTSTART;TZID=America/Winnipeg:20280116T100000
DTEND;TZID=America/Winnipeg:20280116T180000
DTSTAMP:20260422T063248
CREATED:20230327T120221Z
LAST-MODIFIED:20230327T120247Z
UID:10017527-1831629600-1831658400@www.canadinns.com
SUMMARY:🔵 Tavern United Daily Beverage Features - 2oz Canadian or Tequila Caesar
DESCRIPTION:
URL:https://www.canadinns.com/event/tavern-united-daily-beverage-features-2oz-canadian-or-tequila-caesar/2028-01-16/
LOCATION:Tavern United 🔵
CATEGORIES:TU Daily Deals
END:VEVENT
BEGIN:VEVENT
DTSTART;TZID=America/Winnipeg:20280117T100000
DTEND;TZID=America/Winnipeg:20280117T180000
DTSTAMP:20260422T063248
CREATED:20230327T115419Z
LAST-MODIFIED:20230327T115453Z
UID:10014389-1831716000-1831744800@www.canadinns.com
SUMMARY:🔵 Tavern United Daily Beverage Features - 14 oz Sangria
DESCRIPTION:
URL:https://www.canadinns.com/event/tavern-united-daily-beverage-features-14-oz-sangria/2028-01-17/
LOCATION:Tavern United 🔵
CATEGORIES:TU Daily Deals
END:VEVENT
BEGIN:VEVENT
DTSTART;TZID=America/Winnipeg:20280118T100000
DTEND;TZID=America/Winnipeg:20280118T180000
DTSTAMP:20260422T063248
CREATED:20230327T115616Z
LAST-MODIFIED:20230327T115638Z
UID:10014913-1831802400-1831831200@www.canadinns.com
SUMMARY:🔵 Tavern United Daily Beverage Features -  2 oz Signature Mules
DESCRIPTION:
URL:https://www.canadinns.com/event/tavern-united-daily-beverage-features-2-oz-signature-mules/2028-01-18/
LOCATION:Tavern United 🔵
CATEGORIES:TU Daily Deals
END:VEVENT
BEGIN:VEVENT
DTSTART;TZID=America/Winnipeg:20280119T100000
DTEND;TZID=America/Winnipeg:20280119T180000
DTSTAMP:20260422T063248
CREATED:20230327T115734Z
LAST-MODIFIED:20230327T115754Z
UID:10015436-1831888800-1831917600@www.canadinns.com
SUMMARY:🔵 Tavern United Daily Beverage Features - 2 oz Tropical Punch & 22oz PBR Draught
DESCRIPTION:
URL:https://www.canadinns.com/event/tavern-united-daily-beverage-features-2-oz-tropical-punch-22oz-pbr-draught/2028-01-19/
LOCATION:Tavern United 🔵
CATEGORIES:TU Daily Deals
END:VEVENT
BEGIN:VEVENT
DTSTART;TZID=America/Winnipeg:20280120T100000
DTEND;TZID=America/Winnipeg:20280120T180000
DTSTAMP:20260422T063248
CREATED:20230327T115852Z
LAST-MODIFIED:20230327T115922Z
UID:10015959-1831975200-1832004000@www.canadinns.com
SUMMARY:🔵 Tavern United Daily Beverage Features - 2 oz Kilted Kool-Aid & 22oz PBR Draught
DESCRIPTION:
URL:https://www.canadinns.com/event/tavern-united-daily-beverage-features-2-oz-kilted-kool-aid-22oz-pbr-draught/2028-01-20/
LOCATION:Tavern United 🔵
CATEGORIES:TU Daily Deals
END:VEVENT
BEGIN:VEVENT
DTSTART;TZID=America/Winnipeg:20280121T100000
DTEND;TZID=America/Winnipeg:20280121T180000
DTSTAMP:20260422T063248
CREATED:20230327T120012Z
LAST-MODIFIED:20230327T120029Z
UID:10016482-1832061600-1832090400@www.canadinns.com
SUMMARY:🔵 Tavern United Daily Beverage Features - 2oz Carolina Iced Tea & 3oz Personal Pitcher
DESCRIPTION:
URL:https://www.canadinns.com/event/tavern-united-daily-beverage-features-2oz-carolina-iced-tea-3oz-personal-pitcher/2028-01-21/
LOCATION:Tavern United 🔵
CATEGORIES:TU Daily Deals
END:VEVENT
BEGIN:VEVENT
DTSTART;TZID=America/Winnipeg:20280122T100000
DTEND;TZID=America/Winnipeg:20280122T180000
DTSTAMP:20260422T063248
CREATED:20230327T120123Z
LAST-MODIFIED:20230327T120150Z
UID:10017005-1832148000-1832176800@www.canadinns.com
SUMMARY:🔵 Tavern United Daily Beverage Features -  2oz Long Island Iced Tea & 3oz Personal Pitcher
DESCRIPTION:
URL:https://www.canadinns.com/event/tavern-united-daily-beverage-features-2oz-long-island-iced-tea-3oz-personal-pitcher/2028-01-22/
LOCATION:Tavern United 🔵
CATEGORIES:TU Daily Deals
END:VEVENT
BEGIN:VEVENT
DTSTART;TZID=America/Winnipeg:20280123T100000
DTEND;TZID=America/Winnipeg:20280123T180000
DTSTAMP:20260422T063248
CREATED:20230327T120221Z
LAST-MODIFIED:20230327T120247Z
UID:10017528-1832234400-1832263200@www.canadinns.com
SUMMARY:🔵 Tavern United Daily Beverage Features - 2oz Canadian or Tequila Caesar
DESCRIPTION:
URL:https://www.canadinns.com/event/tavern-united-daily-beverage-features-2oz-canadian-or-tequila-caesar/2028-01-23/
LOCATION:Tavern United 🔵
CATEGORIES:TU Daily Deals
END:VEVENT
END:VCALENDAR