BEGIN:VCALENDAR
VERSION:2.0
PRODID:-//Canad Inns - ECPv6.15.17.1//NONSGML v1.0//EN
CALSCALE:GREGORIAN
METHOD:PUBLISH
X-WR-CALNAME:Canad Inns
X-ORIGINAL-URL:https://www.canadinns.com
X-WR-CALDESC:Events for Canad Inns
REFRESH-INTERVAL;VALUE=DURATION:PT1H
X-Robots-Tag:noindex
X-PUBLISHED-TTL:PT1H
BEGIN:VTIMEZONE
TZID:America/Winnipeg
BEGIN:DAYLIGHT
TZOFFSETFROM:-0600
TZOFFSETTO:-0500
TZNAME:CDT
DTSTART:20260308T080000
END:DAYLIGHT
BEGIN:STANDARD
TZOFFSETFROM:-0500
TZOFFSETTO:-0600
TZNAME:CST
DTSTART:20261101T070000
END:STANDARD
BEGIN:DAYLIGHT
TZOFFSETFROM:-0600
TZOFFSETTO:-0500
TZNAME:CDT
DTSTART:20270314T080000
END:DAYLIGHT
BEGIN:STANDARD
TZOFFSETFROM:-0500
TZOFFSETTO:-0600
TZNAME:CST
DTSTART:20271107T070000
END:STANDARD
BEGIN:DAYLIGHT
TZOFFSETFROM:-0600
TZOFFSETTO:-0500
TZNAME:CDT
DTSTART:20280312T080000
END:DAYLIGHT
BEGIN:STANDARD
TZOFFSETFROM:-0500
TZOFFSETTO:-0600
TZNAME:CST
DTSTART:20281105T070000
END:STANDARD
END:VTIMEZONE
BEGIN:VEVENT
DTSTART;TZID=America/Winnipeg:20270625T100000
DTEND;TZID=America/Winnipeg:20270625T180000
DTSTAMP:20260419T113838
CREATED:20230327T120012Z
LAST-MODIFIED:20230327T120029Z
UID:10016452-1813917600-1813946400@www.canadinns.com
SUMMARY:🔵 Tavern United Daily Beverage Features - 2oz Carolina Iced Tea & 3oz Personal Pitcher
DESCRIPTION:
URL:https://www.canadinns.com/event/tavern-united-daily-beverage-features-2oz-carolina-iced-tea-3oz-personal-pitcher/2027-06-25/
LOCATION:Tavern United 🔵
CATEGORIES:TU Daily Deals
END:VEVENT
BEGIN:VEVENT
DTSTART;TZID=America/Winnipeg:20270626T100000
DTEND;TZID=America/Winnipeg:20270626T180000
DTSTAMP:20260419T113838
CREATED:20230327T120123Z
LAST-MODIFIED:20230327T120150Z
UID:10016975-1814004000-1814032800@www.canadinns.com
SUMMARY:🔵 Tavern United Daily Beverage Features -  2oz Long Island Iced Tea & 3oz Personal Pitcher
DESCRIPTION:
URL:https://www.canadinns.com/event/tavern-united-daily-beverage-features-2oz-long-island-iced-tea-3oz-personal-pitcher/2027-06-26/
LOCATION:Tavern United 🔵
CATEGORIES:TU Daily Deals
END:VEVENT
BEGIN:VEVENT
DTSTART;TZID=America/Winnipeg:20270627T100000
DTEND;TZID=America/Winnipeg:20270627T180000
DTSTAMP:20260419T113838
CREATED:20230327T120221Z
LAST-MODIFIED:20230327T120247Z
UID:10017498-1814090400-1814119200@www.canadinns.com
SUMMARY:🔵 Tavern United Daily Beverage Features - 2oz Canadian or Tequila Caesar
DESCRIPTION:
URL:https://www.canadinns.com/event/tavern-united-daily-beverage-features-2oz-canadian-or-tequila-caesar/2027-06-27/
LOCATION:Tavern United 🔵
CATEGORIES:TU Daily Deals
END:VEVENT
BEGIN:VEVENT
DTSTART;TZID=America/Winnipeg:20270628T100000
DTEND;TZID=America/Winnipeg:20270628T180000
DTSTAMP:20260419T113838
CREATED:20230327T115419Z
LAST-MODIFIED:20230327T115453Z
UID:10014360-1814176800-1814205600@www.canadinns.com
SUMMARY:🔵 Tavern United Daily Beverage Features - 14 oz Sangria
DESCRIPTION:
URL:https://www.canadinns.com/event/tavern-united-daily-beverage-features-14-oz-sangria/2027-06-28/
LOCATION:Tavern United 🔵
CATEGORIES:TU Daily Deals
END:VEVENT
BEGIN:VEVENT
DTSTART;TZID=America/Winnipeg:20270629T100000
DTEND;TZID=America/Winnipeg:20270629T180000
DTSTAMP:20260419T113838
CREATED:20230327T115616Z
LAST-MODIFIED:20230327T115638Z
UID:10014884-1814263200-1814292000@www.canadinns.com
SUMMARY:🔵 Tavern United Daily Beverage Features -  2 oz Signature Mules
DESCRIPTION:
URL:https://www.canadinns.com/event/tavern-united-daily-beverage-features-2-oz-signature-mules/2027-06-29/
LOCATION:Tavern United 🔵
CATEGORIES:TU Daily Deals
END:VEVENT
BEGIN:VEVENT
DTSTART;TZID=America/Winnipeg:20270630T100000
DTEND;TZID=America/Winnipeg:20270630T180000
DTSTAMP:20260419T113838
CREATED:20230327T115734Z
LAST-MODIFIED:20230327T115754Z
UID:10015407-1814349600-1814378400@www.canadinns.com
SUMMARY:🔵 Tavern United Daily Beverage Features - 2 oz Tropical Punch & 22oz PBR Draught
DESCRIPTION:
URL:https://www.canadinns.com/event/tavern-united-daily-beverage-features-2-oz-tropical-punch-22oz-pbr-draught/2027-06-30/
LOCATION:Tavern United 🔵
CATEGORIES:TU Daily Deals
END:VEVENT
BEGIN:VEVENT
DTSTART;TZID=America/Winnipeg:20270701T100000
DTEND;TZID=America/Winnipeg:20270701T180000
DTSTAMP:20260419T113838
CREATED:20230327T115852Z
LAST-MODIFIED:20230327T115922Z
UID:10015930-1814436000-1814464800@www.canadinns.com
SUMMARY:🔵 Tavern United Daily Beverage Features - 2 oz Kilted Kool-Aid & 22oz PBR Draught
DESCRIPTION:
URL:https://www.canadinns.com/event/tavern-united-daily-beverage-features-2-oz-kilted-kool-aid-22oz-pbr-draught/2027-07-01/
LOCATION:Tavern United 🔵
CATEGORIES:TU Daily Deals
END:VEVENT
BEGIN:VEVENT
DTSTART;TZID=America/Winnipeg:20270702T100000
DTEND;TZID=America/Winnipeg:20270702T180000
DTSTAMP:20260419T113838
CREATED:20230327T120012Z
LAST-MODIFIED:20230327T120029Z
UID:10016453-1814522400-1814551200@www.canadinns.com
SUMMARY:🔵 Tavern United Daily Beverage Features - 2oz Carolina Iced Tea & 3oz Personal Pitcher
DESCRIPTION:
URL:https://www.canadinns.com/event/tavern-united-daily-beverage-features-2oz-carolina-iced-tea-3oz-personal-pitcher/2027-07-02/
LOCATION:Tavern United 🔵
CATEGORIES:TU Daily Deals
END:VEVENT
BEGIN:VEVENT
DTSTART;TZID=America/Winnipeg:20270703T100000
DTEND;TZID=America/Winnipeg:20270703T180000
DTSTAMP:20260419T113838
CREATED:20230327T120123Z
LAST-MODIFIED:20230327T120150Z
UID:10016976-1814608800-1814637600@www.canadinns.com
SUMMARY:🔵 Tavern United Daily Beverage Features -  2oz Long Island Iced Tea & 3oz Personal Pitcher
DESCRIPTION:
URL:https://www.canadinns.com/event/tavern-united-daily-beverage-features-2oz-long-island-iced-tea-3oz-personal-pitcher/2027-07-03/
LOCATION:Tavern United 🔵
CATEGORIES:TU Daily Deals
END:VEVENT
BEGIN:VEVENT
DTSTART;TZID=America/Winnipeg:20270704T100000
DTEND;TZID=America/Winnipeg:20270704T180000
DTSTAMP:20260419T113838
CREATED:20230327T120221Z
LAST-MODIFIED:20230327T120247Z
UID:10017499-1814695200-1814724000@www.canadinns.com
SUMMARY:🔵 Tavern United Daily Beverage Features - 2oz Canadian or Tequila Caesar
DESCRIPTION:
URL:https://www.canadinns.com/event/tavern-united-daily-beverage-features-2oz-canadian-or-tequila-caesar/2027-07-04/
LOCATION:Tavern United 🔵
CATEGORIES:TU Daily Deals
END:VEVENT
BEGIN:VEVENT
DTSTART;TZID=America/Winnipeg:20270705T100000
DTEND;TZID=America/Winnipeg:20270705T180000
DTSTAMP:20260419T113838
CREATED:20230327T115419Z
LAST-MODIFIED:20230327T115453Z
UID:10014361-1814781600-1814810400@www.canadinns.com
SUMMARY:🔵 Tavern United Daily Beverage Features - 14 oz Sangria
DESCRIPTION:
URL:https://www.canadinns.com/event/tavern-united-daily-beverage-features-14-oz-sangria/2027-07-05/
LOCATION:Tavern United 🔵
CATEGORIES:TU Daily Deals
END:VEVENT
BEGIN:VEVENT
DTSTART;TZID=America/Winnipeg:20270706T100000
DTEND;TZID=America/Winnipeg:20270706T180000
DTSTAMP:20260419T113838
CREATED:20230327T115616Z
LAST-MODIFIED:20230327T115638Z
UID:10014885-1814868000-1814896800@www.canadinns.com
SUMMARY:🔵 Tavern United Daily Beverage Features -  2 oz Signature Mules
DESCRIPTION:
URL:https://www.canadinns.com/event/tavern-united-daily-beverage-features-2-oz-signature-mules/2027-07-06/
LOCATION:Tavern United 🔵
CATEGORIES:TU Daily Deals
END:VEVENT
BEGIN:VEVENT
DTSTART;TZID=America/Winnipeg:20270707T100000
DTEND;TZID=America/Winnipeg:20270707T180000
DTSTAMP:20260419T113838
CREATED:20230327T115734Z
LAST-MODIFIED:20230327T115754Z
UID:10015408-1814954400-1814983200@www.canadinns.com
SUMMARY:🔵 Tavern United Daily Beverage Features - 2 oz Tropical Punch & 22oz PBR Draught
DESCRIPTION:
URL:https://www.canadinns.com/event/tavern-united-daily-beverage-features-2-oz-tropical-punch-22oz-pbr-draught/2027-07-07/
LOCATION:Tavern United 🔵
CATEGORIES:TU Daily Deals
END:VEVENT
BEGIN:VEVENT
DTSTART;TZID=America/Winnipeg:20270708T100000
DTEND;TZID=America/Winnipeg:20270708T180000
DTSTAMP:20260419T113838
CREATED:20230327T115852Z
LAST-MODIFIED:20230327T115922Z
UID:10015931-1815040800-1815069600@www.canadinns.com
SUMMARY:🔵 Tavern United Daily Beverage Features - 2 oz Kilted Kool-Aid & 22oz PBR Draught
DESCRIPTION:
URL:https://www.canadinns.com/event/tavern-united-daily-beverage-features-2-oz-kilted-kool-aid-22oz-pbr-draught/2027-07-08/
LOCATION:Tavern United 🔵
CATEGORIES:TU Daily Deals
END:VEVENT
BEGIN:VEVENT
DTSTART;TZID=America/Winnipeg:20270709T100000
DTEND;TZID=America/Winnipeg:20270709T180000
DTSTAMP:20260419T113838
CREATED:20230327T120012Z
LAST-MODIFIED:20230327T120029Z
UID:10016454-1815127200-1815156000@www.canadinns.com
SUMMARY:🔵 Tavern United Daily Beverage Features - 2oz Carolina Iced Tea & 3oz Personal Pitcher
DESCRIPTION:
URL:https://www.canadinns.com/event/tavern-united-daily-beverage-features-2oz-carolina-iced-tea-3oz-personal-pitcher/2027-07-09/
LOCATION:Tavern United 🔵
CATEGORIES:TU Daily Deals
END:VEVENT
BEGIN:VEVENT
DTSTART;TZID=America/Winnipeg:20270710T100000
DTEND;TZID=America/Winnipeg:20270710T180000
DTSTAMP:20260419T113838
CREATED:20230327T120123Z
LAST-MODIFIED:20230327T120150Z
UID:10016977-1815213600-1815242400@www.canadinns.com
SUMMARY:🔵 Tavern United Daily Beverage Features -  2oz Long Island Iced Tea & 3oz Personal Pitcher
DESCRIPTION:
URL:https://www.canadinns.com/event/tavern-united-daily-beverage-features-2oz-long-island-iced-tea-3oz-personal-pitcher/2027-07-10/
LOCATION:Tavern United 🔵
CATEGORIES:TU Daily Deals
END:VEVENT
BEGIN:VEVENT
DTSTART;TZID=America/Winnipeg:20270711T100000
DTEND;TZID=America/Winnipeg:20270711T180000
DTSTAMP:20260419T113838
CREATED:20230327T120221Z
LAST-MODIFIED:20230327T120247Z
UID:10017500-1815300000-1815328800@www.canadinns.com
SUMMARY:🔵 Tavern United Daily Beverage Features - 2oz Canadian or Tequila Caesar
DESCRIPTION:
URL:https://www.canadinns.com/event/tavern-united-daily-beverage-features-2oz-canadian-or-tequila-caesar/2027-07-11/
LOCATION:Tavern United 🔵
CATEGORIES:TU Daily Deals
END:VEVENT
BEGIN:VEVENT
DTSTART;TZID=America/Winnipeg:20270712T100000
DTEND;TZID=America/Winnipeg:20270712T180000
DTSTAMP:20260419T113838
CREATED:20230327T115419Z
LAST-MODIFIED:20230327T115453Z
UID:10014362-1815386400-1815415200@www.canadinns.com
SUMMARY:🔵 Tavern United Daily Beverage Features - 14 oz Sangria
DESCRIPTION:
URL:https://www.canadinns.com/event/tavern-united-daily-beverage-features-14-oz-sangria/2027-07-12/
LOCATION:Tavern United 🔵
CATEGORIES:TU Daily Deals
END:VEVENT
BEGIN:VEVENT
DTSTART;TZID=America/Winnipeg:20270713T100000
DTEND;TZID=America/Winnipeg:20270713T180000
DTSTAMP:20260419T113838
CREATED:20230327T115616Z
LAST-MODIFIED:20230327T115638Z
UID:10014886-1815472800-1815501600@www.canadinns.com
SUMMARY:🔵 Tavern United Daily Beverage Features -  2 oz Signature Mules
DESCRIPTION:
URL:https://www.canadinns.com/event/tavern-united-daily-beverage-features-2-oz-signature-mules/2027-07-13/
LOCATION:Tavern United 🔵
CATEGORIES:TU Daily Deals
END:VEVENT
BEGIN:VEVENT
DTSTART;TZID=America/Winnipeg:20270714T100000
DTEND;TZID=America/Winnipeg:20270714T180000
DTSTAMP:20260419T113838
CREATED:20230327T115734Z
LAST-MODIFIED:20230327T115754Z
UID:10015409-1815559200-1815588000@www.canadinns.com
SUMMARY:🔵 Tavern United Daily Beverage Features - 2 oz Tropical Punch & 22oz PBR Draught
DESCRIPTION:
URL:https://www.canadinns.com/event/tavern-united-daily-beverage-features-2-oz-tropical-punch-22oz-pbr-draught/2027-07-14/
LOCATION:Tavern United 🔵
CATEGORIES:TU Daily Deals
END:VEVENT
BEGIN:VEVENT
DTSTART;TZID=America/Winnipeg:20270715T100000
DTEND;TZID=America/Winnipeg:20270715T180000
DTSTAMP:20260419T113838
CREATED:20230327T115852Z
LAST-MODIFIED:20230327T115922Z
UID:10015932-1815645600-1815674400@www.canadinns.com
SUMMARY:🔵 Tavern United Daily Beverage Features - 2 oz Kilted Kool-Aid & 22oz PBR Draught
DESCRIPTION:
URL:https://www.canadinns.com/event/tavern-united-daily-beverage-features-2-oz-kilted-kool-aid-22oz-pbr-draught/2027-07-15/
LOCATION:Tavern United 🔵
CATEGORIES:TU Daily Deals
END:VEVENT
BEGIN:VEVENT
DTSTART;TZID=America/Winnipeg:20270716T100000
DTEND;TZID=America/Winnipeg:20270716T180000
DTSTAMP:20260419T113838
CREATED:20230327T120012Z
LAST-MODIFIED:20230327T120029Z
UID:10016455-1815732000-1815760800@www.canadinns.com
SUMMARY:🔵 Tavern United Daily Beverage Features - 2oz Carolina Iced Tea & 3oz Personal Pitcher
DESCRIPTION:
URL:https://www.canadinns.com/event/tavern-united-daily-beverage-features-2oz-carolina-iced-tea-3oz-personal-pitcher/2027-07-16/
LOCATION:Tavern United 🔵
CATEGORIES:TU Daily Deals
END:VEVENT
BEGIN:VEVENT
DTSTART;TZID=America/Winnipeg:20270717T100000
DTEND;TZID=America/Winnipeg:20270717T180000
DTSTAMP:20260419T113838
CREATED:20230327T120123Z
LAST-MODIFIED:20230327T120150Z
UID:10016978-1815818400-1815847200@www.canadinns.com
SUMMARY:🔵 Tavern United Daily Beverage Features -  2oz Long Island Iced Tea & 3oz Personal Pitcher
DESCRIPTION:
URL:https://www.canadinns.com/event/tavern-united-daily-beverage-features-2oz-long-island-iced-tea-3oz-personal-pitcher/2027-07-17/
LOCATION:Tavern United 🔵
CATEGORIES:TU Daily Deals
END:VEVENT
BEGIN:VEVENT
DTSTART;TZID=America/Winnipeg:20270718T100000
DTEND;TZID=America/Winnipeg:20270718T180000
DTSTAMP:20260419T113838
CREATED:20230327T120221Z
LAST-MODIFIED:20230327T120247Z
UID:10017501-1815904800-1815933600@www.canadinns.com
SUMMARY:🔵 Tavern United Daily Beverage Features - 2oz Canadian or Tequila Caesar
DESCRIPTION:
URL:https://www.canadinns.com/event/tavern-united-daily-beverage-features-2oz-canadian-or-tequila-caesar/2027-07-18/
LOCATION:Tavern United 🔵
CATEGORIES:TU Daily Deals
END:VEVENT
BEGIN:VEVENT
DTSTART;TZID=America/Winnipeg:20270719T100000
DTEND;TZID=America/Winnipeg:20270719T180000
DTSTAMP:20260419T113838
CREATED:20230327T115419Z
LAST-MODIFIED:20230327T115453Z
UID:10014363-1815991200-1816020000@www.canadinns.com
SUMMARY:🔵 Tavern United Daily Beverage Features - 14 oz Sangria
DESCRIPTION:
URL:https://www.canadinns.com/event/tavern-united-daily-beverage-features-14-oz-sangria/2027-07-19/
LOCATION:Tavern United 🔵
CATEGORIES:TU Daily Deals
END:VEVENT
BEGIN:VEVENT
DTSTART;TZID=America/Winnipeg:20270720T100000
DTEND;TZID=America/Winnipeg:20270720T180000
DTSTAMP:20260419T113838
CREATED:20230327T115616Z
LAST-MODIFIED:20230327T115638Z
UID:10014887-1816077600-1816106400@www.canadinns.com
SUMMARY:🔵 Tavern United Daily Beverage Features -  2 oz Signature Mules
DESCRIPTION:
URL:https://www.canadinns.com/event/tavern-united-daily-beverage-features-2-oz-signature-mules/2027-07-20/
LOCATION:Tavern United 🔵
CATEGORIES:TU Daily Deals
END:VEVENT
BEGIN:VEVENT
DTSTART;TZID=America/Winnipeg:20270721T100000
DTEND;TZID=America/Winnipeg:20270721T180000
DTSTAMP:20260419T113838
CREATED:20230327T115734Z
LAST-MODIFIED:20230327T115754Z
UID:10015410-1816164000-1816192800@www.canadinns.com
SUMMARY:🔵 Tavern United Daily Beverage Features - 2 oz Tropical Punch & 22oz PBR Draught
DESCRIPTION:
URL:https://www.canadinns.com/event/tavern-united-daily-beverage-features-2-oz-tropical-punch-22oz-pbr-draught/2027-07-21/
LOCATION:Tavern United 🔵
CATEGORIES:TU Daily Deals
END:VEVENT
BEGIN:VEVENT
DTSTART;TZID=America/Winnipeg:20270722T100000
DTEND;TZID=America/Winnipeg:20270722T180000
DTSTAMP:20260419T113838
CREATED:20230327T115852Z
LAST-MODIFIED:20230327T115922Z
UID:10015933-1816250400-1816279200@www.canadinns.com
SUMMARY:🔵 Tavern United Daily Beverage Features - 2 oz Kilted Kool-Aid & 22oz PBR Draught
DESCRIPTION:
URL:https://www.canadinns.com/event/tavern-united-daily-beverage-features-2-oz-kilted-kool-aid-22oz-pbr-draught/2027-07-22/
LOCATION:Tavern United 🔵
CATEGORIES:TU Daily Deals
END:VEVENT
BEGIN:VEVENT
DTSTART;TZID=America/Winnipeg:20270723T100000
DTEND;TZID=America/Winnipeg:20270723T180000
DTSTAMP:20260419T113838
CREATED:20230327T120012Z
LAST-MODIFIED:20230327T120029Z
UID:10016456-1816336800-1816365600@www.canadinns.com
SUMMARY:🔵 Tavern United Daily Beverage Features - 2oz Carolina Iced Tea & 3oz Personal Pitcher
DESCRIPTION:
URL:https://www.canadinns.com/event/tavern-united-daily-beverage-features-2oz-carolina-iced-tea-3oz-personal-pitcher/2027-07-23/
LOCATION:Tavern United 🔵
CATEGORIES:TU Daily Deals
END:VEVENT
BEGIN:VEVENT
DTSTART;TZID=America/Winnipeg:20270724T100000
DTEND;TZID=America/Winnipeg:20270724T180000
DTSTAMP:20260419T113838
CREATED:20230327T120123Z
LAST-MODIFIED:20230327T120150Z
UID:10016979-1816423200-1816452000@www.canadinns.com
SUMMARY:🔵 Tavern United Daily Beverage Features -  2oz Long Island Iced Tea & 3oz Personal Pitcher
DESCRIPTION:
URL:https://www.canadinns.com/event/tavern-united-daily-beverage-features-2oz-long-island-iced-tea-3oz-personal-pitcher/2027-07-24/
LOCATION:Tavern United 🔵
CATEGORIES:TU Daily Deals
END:VEVENT
END:VCALENDAR