BEGIN:VCALENDAR
VERSION:2.0
PRODID:-//Canad Inns - ECPv6.15.17.1//NONSGML v1.0//EN
CALSCALE:GREGORIAN
METHOD:PUBLISH
X-ORIGINAL-URL:https://www.canadinns.com
X-WR-CALDESC:Events for Canad Inns
REFRESH-INTERVAL;VALUE=DURATION:PT1H
X-Robots-Tag:noindex
X-PUBLISHED-TTL:PT1H
BEGIN:VTIMEZONE
TZID:America/Winnipeg
BEGIN:DAYLIGHT
TZOFFSETFROM:-0600
TZOFFSETTO:-0500
TZNAME:CDT
DTSTART:20240310T080000
END:DAYLIGHT
BEGIN:STANDARD
TZOFFSETFROM:-0500
TZOFFSETTO:-0600
TZNAME:CST
DTSTART:20241103T070000
END:STANDARD
BEGIN:DAYLIGHT
TZOFFSETFROM:-0600
TZOFFSETTO:-0500
TZNAME:CDT
DTSTART:20250309T080000
END:DAYLIGHT
BEGIN:STANDARD
TZOFFSETFROM:-0500
TZOFFSETTO:-0600
TZNAME:CST
DTSTART:20251102T070000
END:STANDARD
BEGIN:DAYLIGHT
TZOFFSETFROM:-0600
TZOFFSETTO:-0500
TZNAME:CDT
DTSTART:20260308T080000
END:DAYLIGHT
BEGIN:STANDARD
TZOFFSETFROM:-0500
TZOFFSETTO:-0600
TZNAME:CST
DTSTART:20261101T070000
END:STANDARD
END:VTIMEZONE
BEGIN:VEVENT
DTSTART;TZID=America/Winnipeg:20250423T100000
DTEND;TZID=America/Winnipeg:20250423T180000
DTSTAMP:20260419T195327
CREATED:20230213T175050Z
LAST-MODIFIED:20250623T194203Z
UID:10000804-1745402400-1745431200@www.canadinns.com
SUMMARY:🔵 Tavern United - The Even Happier Meal Deal
DESCRIPTION:content
URL:https://www.canadinns.com/event/tavern-united-the-even-happier-meal-deal/2025-04-23/
LOCATION:Tavern United 🔵
CATEGORIES:TU Daily Deals
ATTACH;FMTTYPE=image/jpeg:https://www.canadinns.com/wp-content/uploads/2022-08-30-CI-MealDeals1080x1080-FNL-17346-1.jpg
END:VEVENT
BEGIN:VEVENT
DTSTART;TZID=America/Winnipeg:20250423T100000
DTEND;TZID=America/Winnipeg:20250423T180000
DTSTAMP:20260419T195327
CREATED:20230327T115734Z
LAST-MODIFIED:20230327T115754Z
UID:10015293-1745402400-1745431200@www.canadinns.com
SUMMARY:🔵 Tavern United Daily Beverage Features - 2 oz Tropical Punch & 22oz PBR Draught
DESCRIPTION:
URL:https://www.canadinns.com/event/tavern-united-daily-beverage-features-2-oz-tropical-punch-22oz-pbr-draught/2025-04-23/
LOCATION:Tavern United 🔵
CATEGORIES:TU Daily Deals
END:VEVENT
BEGIN:VEVENT
DTSTART;TZID=America/Winnipeg:20250424T100000
DTEND;TZID=America/Winnipeg:20250424T180000
DTSTAMP:20260419T195327
CREATED:20230213T175050Z
LAST-MODIFIED:20250623T194203Z
UID:10000805-1745488800-1745517600@www.canadinns.com
SUMMARY:🔵 Tavern United - The Even Happier Meal Deal
DESCRIPTION:content
URL:https://www.canadinns.com/event/tavern-united-the-even-happier-meal-deal/2025-04-24/
LOCATION:Tavern United 🔵
CATEGORIES:TU Daily Deals
ATTACH;FMTTYPE=image/jpeg:https://www.canadinns.com/wp-content/uploads/2022-08-30-CI-MealDeals1080x1080-FNL-17346-1.jpg
END:VEVENT
BEGIN:VEVENT
DTSTART;TZID=America/Winnipeg:20250424T100000
DTEND;TZID=America/Winnipeg:20250424T180000
DTSTAMP:20260419T195327
CREATED:20230327T115852Z
LAST-MODIFIED:20230327T115922Z
UID:10015816-1745488800-1745517600@www.canadinns.com
SUMMARY:🔵 Tavern United Daily Beverage Features - 2 oz Kilted Kool-Aid & 22oz PBR Draught
DESCRIPTION:
URL:https://www.canadinns.com/event/tavern-united-daily-beverage-features-2-oz-kilted-kool-aid-22oz-pbr-draught/2025-04-24/
LOCATION:Tavern United 🔵
CATEGORIES:TU Daily Deals
END:VEVENT
BEGIN:VEVENT
DTSTART;TZID=America/Winnipeg:20250425T100000
DTEND;TZID=America/Winnipeg:20250425T180000
DTSTAMP:20260419T195327
CREATED:20230213T175050Z
LAST-MODIFIED:20250623T194203Z
UID:10000806-1745575200-1745604000@www.canadinns.com
SUMMARY:🔵 Tavern United - The Even Happier Meal Deal
DESCRIPTION:content
URL:https://www.canadinns.com/event/tavern-united-the-even-happier-meal-deal/2025-04-25/
LOCATION:Tavern United 🔵
CATEGORIES:TU Daily Deals
ATTACH;FMTTYPE=image/jpeg:https://www.canadinns.com/wp-content/uploads/2022-08-30-CI-MealDeals1080x1080-FNL-17346-1.jpg
END:VEVENT
BEGIN:VEVENT
DTSTART;TZID=America/Winnipeg:20250425T100000
DTEND;TZID=America/Winnipeg:20250425T180000
DTSTAMP:20260419T195327
CREATED:20230327T120012Z
LAST-MODIFIED:20230327T120029Z
UID:10016339-1745575200-1745604000@www.canadinns.com
SUMMARY:🔵 Tavern United Daily Beverage Features - 2oz Carolina Iced Tea & 3oz Personal Pitcher
DESCRIPTION:
URL:https://www.canadinns.com/event/tavern-united-daily-beverage-features-2oz-carolina-iced-tea-3oz-personal-pitcher/2025-04-25/
LOCATION:Tavern United 🔵
CATEGORIES:TU Daily Deals
END:VEVENT
BEGIN:VEVENT
DTSTART;TZID=America/Winnipeg:20250426T100000
DTEND;TZID=America/Winnipeg:20250426T180000
DTSTAMP:20260419T195327
CREATED:20230213T175050Z
LAST-MODIFIED:20250623T194203Z
UID:10000807-1745661600-1745690400@www.canadinns.com
SUMMARY:🔵 Tavern United - The Even Happier Meal Deal
DESCRIPTION:content
URL:https://www.canadinns.com/event/tavern-united-the-even-happier-meal-deal/2025-04-26/
LOCATION:Tavern United 🔵
CATEGORIES:TU Daily Deals
ATTACH;FMTTYPE=image/jpeg:https://www.canadinns.com/wp-content/uploads/2022-08-30-CI-MealDeals1080x1080-FNL-17346-1.jpg
END:VEVENT
BEGIN:VEVENT
DTSTART;TZID=America/Winnipeg:20250426T100000
DTEND;TZID=America/Winnipeg:20250426T180000
DTSTAMP:20260419T195327
CREATED:20230327T120123Z
LAST-MODIFIED:20230327T120150Z
UID:10016862-1745661600-1745690400@www.canadinns.com
SUMMARY:🔵 Tavern United Daily Beverage Features -  2oz Long Island Iced Tea & 3oz Personal Pitcher
DESCRIPTION:
URL:https://www.canadinns.com/event/tavern-united-daily-beverage-features-2oz-long-island-iced-tea-3oz-personal-pitcher/2025-04-26/
LOCATION:Tavern United 🔵
CATEGORIES:TU Daily Deals
END:VEVENT
BEGIN:VEVENT
DTSTART;TZID=America/Winnipeg:20250427T100000
DTEND;TZID=America/Winnipeg:20250427T180000
DTSTAMP:20260419T195327
CREATED:20230213T175050Z
LAST-MODIFIED:20250623T194203Z
UID:10000808-1745748000-1745776800@www.canadinns.com
SUMMARY:🔵 Tavern United - The Even Happier Meal Deal
DESCRIPTION:content
URL:https://www.canadinns.com/event/tavern-united-the-even-happier-meal-deal/2025-04-27/
LOCATION:Tavern United 🔵
CATEGORIES:TU Daily Deals
ATTACH;FMTTYPE=image/jpeg:https://www.canadinns.com/wp-content/uploads/2022-08-30-CI-MealDeals1080x1080-FNL-17346-1.jpg
END:VEVENT
BEGIN:VEVENT
DTSTART;TZID=America/Winnipeg:20250427T100000
DTEND;TZID=America/Winnipeg:20250427T180000
DTSTAMP:20260419T195327
CREATED:20230327T120221Z
LAST-MODIFIED:20230327T120247Z
UID:10017385-1745748000-1745776800@www.canadinns.com
SUMMARY:🔵 Tavern United Daily Beverage Features - 2oz Canadian or Tequila Caesar
DESCRIPTION:
URL:https://www.canadinns.com/event/tavern-united-daily-beverage-features-2oz-canadian-or-tequila-caesar/2025-04-27/
LOCATION:Tavern United 🔵
CATEGORIES:TU Daily Deals
END:VEVENT
BEGIN:VEVENT
DTSTART;TZID=America/Winnipeg:20250428T100000
DTEND;TZID=America/Winnipeg:20250428T180000
DTSTAMP:20260419T195327
CREATED:20230213T175050Z
LAST-MODIFIED:20250623T194203Z
UID:10000809-1745834400-1745863200@www.canadinns.com
SUMMARY:🔵 Tavern United - The Even Happier Meal Deal
DESCRIPTION:content
URL:https://www.canadinns.com/event/tavern-united-the-even-happier-meal-deal/2025-04-28/
LOCATION:Tavern United 🔵
CATEGORIES:TU Daily Deals
ATTACH;FMTTYPE=image/jpeg:https://www.canadinns.com/wp-content/uploads/2022-08-30-CI-MealDeals1080x1080-FNL-17346-1.jpg
END:VEVENT
BEGIN:VEVENT
DTSTART;TZID=America/Winnipeg:20250428T100000
DTEND;TZID=America/Winnipeg:20250428T180000
DTSTAMP:20260419T195327
CREATED:20230327T115419Z
LAST-MODIFIED:20230327T115453Z
UID:10014247-1745834400-1745863200@www.canadinns.com
SUMMARY:🔵 Tavern United Daily Beverage Features - 14 oz Sangria
DESCRIPTION:
URL:https://www.canadinns.com/event/tavern-united-daily-beverage-features-14-oz-sangria/2025-04-28/
LOCATION:Tavern United 🔵
CATEGORIES:TU Daily Deals
END:VEVENT
BEGIN:VEVENT
DTSTART;TZID=America/Winnipeg:20250429T100000
DTEND;TZID=America/Winnipeg:20250429T180000
DTSTAMP:20260419T195327
CREATED:20230213T175050Z
LAST-MODIFIED:20250623T194203Z
UID:10000810-1745920800-1745949600@www.canadinns.com
SUMMARY:🔵 Tavern United - The Even Happier Meal Deal
DESCRIPTION:content
URL:https://www.canadinns.com/event/tavern-united-the-even-happier-meal-deal/2025-04-29/
LOCATION:Tavern United 🔵
CATEGORIES:TU Daily Deals
ATTACH;FMTTYPE=image/jpeg:https://www.canadinns.com/wp-content/uploads/2022-08-30-CI-MealDeals1080x1080-FNL-17346-1.jpg
END:VEVENT
BEGIN:VEVENT
DTSTART;TZID=America/Winnipeg:20250429T100000
DTEND;TZID=America/Winnipeg:20250429T180000
DTSTAMP:20260419T195327
CREATED:20230327T115616Z
LAST-MODIFIED:20230327T115638Z
UID:10014771-1745920800-1745949600@www.canadinns.com
SUMMARY:🔵 Tavern United Daily Beverage Features -  2 oz Signature Mules
DESCRIPTION:
URL:https://www.canadinns.com/event/tavern-united-daily-beverage-features-2-oz-signature-mules/2025-04-29/
LOCATION:Tavern United 🔵
CATEGORIES:TU Daily Deals
END:VEVENT
BEGIN:VEVENT
DTSTART;TZID=America/Winnipeg:20250430T100000
DTEND;TZID=America/Winnipeg:20250430T180000
DTSTAMP:20260419T195327
CREATED:20230213T175050Z
LAST-MODIFIED:20250623T194203Z
UID:10000811-1746007200-1746036000@www.canadinns.com
SUMMARY:🔵 Tavern United - The Even Happier Meal Deal
DESCRIPTION:content
URL:https://www.canadinns.com/event/tavern-united-the-even-happier-meal-deal/2025-04-30/
LOCATION:Tavern United 🔵
CATEGORIES:TU Daily Deals
ATTACH;FMTTYPE=image/jpeg:https://www.canadinns.com/wp-content/uploads/2022-08-30-CI-MealDeals1080x1080-FNL-17346-1.jpg
END:VEVENT
BEGIN:VEVENT
DTSTART;TZID=America/Winnipeg:20250430T100000
DTEND;TZID=America/Winnipeg:20250430T180000
DTSTAMP:20260419T195327
CREATED:20230327T115734Z
LAST-MODIFIED:20230327T115754Z
UID:10015294-1746007200-1746036000@www.canadinns.com
SUMMARY:🔵 Tavern United Daily Beverage Features - 2 oz Tropical Punch & 22oz PBR Draught
DESCRIPTION:
URL:https://www.canadinns.com/event/tavern-united-daily-beverage-features-2-oz-tropical-punch-22oz-pbr-draught/2025-04-30/
LOCATION:Tavern United 🔵
CATEGORIES:TU Daily Deals
END:VEVENT
BEGIN:VEVENT
DTSTART;TZID=America/Winnipeg:20250501T100000
DTEND;TZID=America/Winnipeg:20250501T180000
DTSTAMP:20260419T195327
CREATED:20230213T175050Z
LAST-MODIFIED:20250623T194203Z
UID:10000812-1746093600-1746122400@www.canadinns.com
SUMMARY:🔵 Tavern United - The Even Happier Meal Deal
DESCRIPTION:content
URL:https://www.canadinns.com/event/tavern-united-the-even-happier-meal-deal/2025-05-01/
LOCATION:Tavern United 🔵
CATEGORIES:TU Daily Deals
ATTACH;FMTTYPE=image/jpeg:https://www.canadinns.com/wp-content/uploads/2022-08-30-CI-MealDeals1080x1080-FNL-17346-1.jpg
END:VEVENT
BEGIN:VEVENT
DTSTART;TZID=America/Winnipeg:20250501T100000
DTEND;TZID=America/Winnipeg:20250501T180000
DTSTAMP:20260419T195327
CREATED:20230327T115852Z
LAST-MODIFIED:20230327T115922Z
UID:10015817-1746093600-1746122400@www.canadinns.com
SUMMARY:🔵 Tavern United Daily Beverage Features - 2 oz Kilted Kool-Aid & 22oz PBR Draught
DESCRIPTION:
URL:https://www.canadinns.com/event/tavern-united-daily-beverage-features-2-oz-kilted-kool-aid-22oz-pbr-draught/2025-05-01/
LOCATION:Tavern United 🔵
CATEGORIES:TU Daily Deals
END:VEVENT
BEGIN:VEVENT
DTSTART;TZID=America/Winnipeg:20250502T100000
DTEND;TZID=America/Winnipeg:20250502T180000
DTSTAMP:20260419T195327
CREATED:20230213T175050Z
LAST-MODIFIED:20250623T194203Z
UID:10000813-1746180000-1746208800@www.canadinns.com
SUMMARY:🔵 Tavern United - The Even Happier Meal Deal
DESCRIPTION:content
URL:https://www.canadinns.com/event/tavern-united-the-even-happier-meal-deal/2025-05-02/
LOCATION:Tavern United 🔵
CATEGORIES:TU Daily Deals
ATTACH;FMTTYPE=image/jpeg:https://www.canadinns.com/wp-content/uploads/2022-08-30-CI-MealDeals1080x1080-FNL-17346-1.jpg
END:VEVENT
BEGIN:VEVENT
DTSTART;TZID=America/Winnipeg:20250502T100000
DTEND;TZID=America/Winnipeg:20250502T180000
DTSTAMP:20260419T195327
CREATED:20230327T120012Z
LAST-MODIFIED:20230327T120029Z
UID:10016340-1746180000-1746208800@www.canadinns.com
SUMMARY:🔵 Tavern United Daily Beverage Features - 2oz Carolina Iced Tea & 3oz Personal Pitcher
DESCRIPTION:
URL:https://www.canadinns.com/event/tavern-united-daily-beverage-features-2oz-carolina-iced-tea-3oz-personal-pitcher/2025-05-02/
LOCATION:Tavern United 🔵
CATEGORIES:TU Daily Deals
END:VEVENT
BEGIN:VEVENT
DTSTART;TZID=America/Winnipeg:20250503T100000
DTEND;TZID=America/Winnipeg:20250503T180000
DTSTAMP:20260419T195327
CREATED:20230213T175050Z
LAST-MODIFIED:20250623T194203Z
UID:10000814-1746266400-1746295200@www.canadinns.com
SUMMARY:🔵 Tavern United - The Even Happier Meal Deal
DESCRIPTION:content
URL:https://www.canadinns.com/event/tavern-united-the-even-happier-meal-deal/2025-05-03/
LOCATION:Tavern United 🔵
CATEGORIES:TU Daily Deals
ATTACH;FMTTYPE=image/jpeg:https://www.canadinns.com/wp-content/uploads/2022-08-30-CI-MealDeals1080x1080-FNL-17346-1.jpg
END:VEVENT
BEGIN:VEVENT
DTSTART;TZID=America/Winnipeg:20250503T100000
DTEND;TZID=America/Winnipeg:20250503T180000
DTSTAMP:20260419T195327
CREATED:20230327T120123Z
LAST-MODIFIED:20230327T120150Z
UID:10016863-1746266400-1746295200@www.canadinns.com
SUMMARY:🔵 Tavern United Daily Beverage Features -  2oz Long Island Iced Tea & 3oz Personal Pitcher
DESCRIPTION:
URL:https://www.canadinns.com/event/tavern-united-daily-beverage-features-2oz-long-island-iced-tea-3oz-personal-pitcher/2025-05-03/
LOCATION:Tavern United 🔵
CATEGORIES:TU Daily Deals
END:VEVENT
BEGIN:VEVENT
DTSTART;TZID=America/Winnipeg:20250504T100000
DTEND;TZID=America/Winnipeg:20250504T180000
DTSTAMP:20260419T195327
CREATED:20230213T175050Z
LAST-MODIFIED:20250623T194203Z
UID:10000815-1746352800-1746381600@www.canadinns.com
SUMMARY:🔵 Tavern United - The Even Happier Meal Deal
DESCRIPTION:content
URL:https://www.canadinns.com/event/tavern-united-the-even-happier-meal-deal/2025-05-04/
LOCATION:Tavern United 🔵
CATEGORIES:TU Daily Deals
ATTACH;FMTTYPE=image/jpeg:https://www.canadinns.com/wp-content/uploads/2022-08-30-CI-MealDeals1080x1080-FNL-17346-1.jpg
END:VEVENT
BEGIN:VEVENT
DTSTART;TZID=America/Winnipeg:20250504T100000
DTEND;TZID=America/Winnipeg:20250504T180000
DTSTAMP:20260419T195327
CREATED:20230327T120221Z
LAST-MODIFIED:20230327T120247Z
UID:10017386-1746352800-1746381600@www.canadinns.com
SUMMARY:🔵 Tavern United Daily Beverage Features - 2oz Canadian or Tequila Caesar
DESCRIPTION:
URL:https://www.canadinns.com/event/tavern-united-daily-beverage-features-2oz-canadian-or-tequila-caesar/2025-05-04/
LOCATION:Tavern United 🔵
CATEGORIES:TU Daily Deals
END:VEVENT
BEGIN:VEVENT
DTSTART;TZID=America/Winnipeg:20250505T100000
DTEND;TZID=America/Winnipeg:20250505T180000
DTSTAMP:20260419T195327
CREATED:20230213T175050Z
LAST-MODIFIED:20250623T194203Z
UID:10000816-1746439200-1746468000@www.canadinns.com
SUMMARY:🔵 Tavern United - The Even Happier Meal Deal
DESCRIPTION:content
URL:https://www.canadinns.com/event/tavern-united-the-even-happier-meal-deal/2025-05-05/
LOCATION:Tavern United 🔵
CATEGORIES:TU Daily Deals
ATTACH;FMTTYPE=image/jpeg:https://www.canadinns.com/wp-content/uploads/2022-08-30-CI-MealDeals1080x1080-FNL-17346-1.jpg
END:VEVENT
BEGIN:VEVENT
DTSTART;TZID=America/Winnipeg:20250505T100000
DTEND;TZID=America/Winnipeg:20250505T180000
DTSTAMP:20260419T195327
CREATED:20230327T115419Z
LAST-MODIFIED:20230327T115453Z
UID:10014248-1746439200-1746468000@www.canadinns.com
SUMMARY:🔵 Tavern United Daily Beverage Features - 14 oz Sangria
DESCRIPTION:
URL:https://www.canadinns.com/event/tavern-united-daily-beverage-features-14-oz-sangria/2025-05-05/
LOCATION:Tavern United 🔵
CATEGORIES:TU Daily Deals
END:VEVENT
BEGIN:VEVENT
DTSTART;TZID=America/Winnipeg:20250506T100000
DTEND;TZID=America/Winnipeg:20250506T180000
DTSTAMP:20260419T195327
CREATED:20230213T175050Z
LAST-MODIFIED:20250623T194203Z
UID:10000817-1746525600-1746554400@www.canadinns.com
SUMMARY:🔵 Tavern United - The Even Happier Meal Deal
DESCRIPTION:content
URL:https://www.canadinns.com/event/tavern-united-the-even-happier-meal-deal/2025-05-06/
LOCATION:Tavern United 🔵
CATEGORIES:TU Daily Deals
ATTACH;FMTTYPE=image/jpeg:https://www.canadinns.com/wp-content/uploads/2022-08-30-CI-MealDeals1080x1080-FNL-17346-1.jpg
END:VEVENT
BEGIN:VEVENT
DTSTART;TZID=America/Winnipeg:20250506T100000
DTEND;TZID=America/Winnipeg:20250506T180000
DTSTAMP:20260419T195327
CREATED:20230327T115616Z
LAST-MODIFIED:20230327T115638Z
UID:10014772-1746525600-1746554400@www.canadinns.com
SUMMARY:🔵 Tavern United Daily Beverage Features -  2 oz Signature Mules
DESCRIPTION:
URL:https://www.canadinns.com/event/tavern-united-daily-beverage-features-2-oz-signature-mules/2025-05-06/
LOCATION:Tavern United 🔵
CATEGORIES:TU Daily Deals
END:VEVENT
BEGIN:VEVENT
DTSTART;TZID=America/Winnipeg:20250507T100000
DTEND;TZID=America/Winnipeg:20250507T180000
DTSTAMP:20260419T195327
CREATED:20230213T175050Z
LAST-MODIFIED:20250623T194203Z
UID:10000818-1746612000-1746640800@www.canadinns.com
SUMMARY:🔵 Tavern United - The Even Happier Meal Deal
DESCRIPTION:content
URL:https://www.canadinns.com/event/tavern-united-the-even-happier-meal-deal/2025-05-07/
LOCATION:Tavern United 🔵
CATEGORIES:TU Daily Deals
ATTACH;FMTTYPE=image/jpeg:https://www.canadinns.com/wp-content/uploads/2022-08-30-CI-MealDeals1080x1080-FNL-17346-1.jpg
END:VEVENT
BEGIN:VEVENT
DTSTART;TZID=America/Winnipeg:20250507T100000
DTEND;TZID=America/Winnipeg:20250507T180000
DTSTAMP:20260419T195327
CREATED:20230327T115734Z
LAST-MODIFIED:20230327T115754Z
UID:10015295-1746612000-1746640800@www.canadinns.com
SUMMARY:🔵 Tavern United Daily Beverage Features - 2 oz Tropical Punch & 22oz PBR Draught
DESCRIPTION:
URL:https://www.canadinns.com/event/tavern-united-daily-beverage-features-2-oz-tropical-punch-22oz-pbr-draught/2025-05-07/
LOCATION:Tavern United 🔵
CATEGORIES:TU Daily Deals
END:VEVENT
END:VCALENDAR