BEGIN:VCALENDAR
VERSION:2.0
PRODID:-//Canad Inns - ECPv6.15.17.1//NONSGML v1.0//EN
CALSCALE:GREGORIAN
METHOD:PUBLISH
X-ORIGINAL-URL:https://www.canadinns.com
X-WR-CALDESC:Events for Canad Inns
REFRESH-INTERVAL;VALUE=DURATION:PT1H
X-Robots-Tag:noindex
X-PUBLISHED-TTL:PT1H
BEGIN:VTIMEZONE
TZID:America/Winnipeg
BEGIN:DAYLIGHT
TZOFFSETFROM:-0600
TZOFFSETTO:-0500
TZNAME:CDT
DTSTART:20240310T080000
END:DAYLIGHT
BEGIN:STANDARD
TZOFFSETFROM:-0500
TZOFFSETTO:-0600
TZNAME:CST
DTSTART:20241103T070000
END:STANDARD
BEGIN:DAYLIGHT
TZOFFSETFROM:-0600
TZOFFSETTO:-0500
TZNAME:CDT
DTSTART:20250309T080000
END:DAYLIGHT
BEGIN:STANDARD
TZOFFSETFROM:-0500
TZOFFSETTO:-0600
TZNAME:CST
DTSTART:20251102T070000
END:STANDARD
BEGIN:DAYLIGHT
TZOFFSETFROM:-0600
TZOFFSETTO:-0500
TZNAME:CDT
DTSTART:20260308T080000
END:DAYLIGHT
BEGIN:STANDARD
TZOFFSETFROM:-0500
TZOFFSETTO:-0600
TZNAME:CST
DTSTART:20261101T070000
END:STANDARD
END:VTIMEZONE
BEGIN:VEVENT
DTSTART;TZID=America/Winnipeg:20250326T100000
DTEND;TZID=America/Winnipeg:20250326T180000
DTSTAMP:20260419T173330
CREATED:20230213T175050Z
LAST-MODIFIED:20250623T194203Z
UID:10000776-1742983200-1743012000@www.canadinns.com
SUMMARY:🔵 Tavern United - The Even Happier Meal Deal
DESCRIPTION:content
URL:https://www.canadinns.com/event/tavern-united-the-even-happier-meal-deal/2025-03-26/
LOCATION:Tavern United 🔵
CATEGORIES:TU Daily Deals
ATTACH;FMTTYPE=image/jpeg:https://www.canadinns.com/wp-content/uploads/2022-08-30-CI-MealDeals1080x1080-FNL-17346-1.jpg
END:VEVENT
BEGIN:VEVENT
DTSTART;TZID=America/Winnipeg:20250326T100000
DTEND;TZID=America/Winnipeg:20250326T180000
DTSTAMP:20260419T173330
CREATED:20230327T115734Z
LAST-MODIFIED:20230327T115754Z
UID:10015289-1742983200-1743012000@www.canadinns.com
SUMMARY:🔵 Tavern United Daily Beverage Features - 2 oz Tropical Punch & 22oz PBR Draught
DESCRIPTION:
URL:https://www.canadinns.com/event/tavern-united-daily-beverage-features-2-oz-tropical-punch-22oz-pbr-draught/2025-03-26/
LOCATION:Tavern United 🔵
CATEGORIES:TU Daily Deals
END:VEVENT
BEGIN:VEVENT
DTSTART;TZID=America/Winnipeg:20250326T160000
DTEND;TZID=America/Winnipeg:20250326T233000
DTSTAMP:20260419T173330
CREATED:20230214T171659Z
LAST-MODIFIED:20230327T202643Z
UID:10003896-1743004800-1743031800@www.canadinns.com
SUMMARY:🔵 Tavern United - Wing Nights
DESCRIPTION:content
URL:https://www.canadinns.com/event/tavern-united-wing-nights/2025-03-26/
LOCATION:Tavern United 🔵
CATEGORIES:TU Daily Deals
ATTACH;FMTTYPE=image/jpeg:https://www.canadinns.com/wp-content/uploads/2023-03-17-CI-TU-MealDeals1080x1080WingNights-FNL-18168.jpg
END:VEVENT
BEGIN:VEVENT
DTSTART;TZID=America/Winnipeg:20250327T100000
DTEND;TZID=America/Winnipeg:20250327T180000
DTSTAMP:20260419T173330
CREATED:20230213T175050Z
LAST-MODIFIED:20250623T194203Z
UID:10000777-1743069600-1743098400@www.canadinns.com
SUMMARY:🔵 Tavern United - The Even Happier Meal Deal
DESCRIPTION:content
URL:https://www.canadinns.com/event/tavern-united-the-even-happier-meal-deal/2025-03-27/
LOCATION:Tavern United 🔵
CATEGORIES:TU Daily Deals
ATTACH;FMTTYPE=image/jpeg:https://www.canadinns.com/wp-content/uploads/2022-08-30-CI-MealDeals1080x1080-FNL-17346-1.jpg
END:VEVENT
BEGIN:VEVENT
DTSTART;TZID=America/Winnipeg:20250327T100000
DTEND;TZID=America/Winnipeg:20250327T180000
DTSTAMP:20260419T173330
CREATED:20230327T115852Z
LAST-MODIFIED:20230327T115922Z
UID:10015812-1743069600-1743098400@www.canadinns.com
SUMMARY:🔵 Tavern United Daily Beverage Features - 2 oz Kilted Kool-Aid & 22oz PBR Draught
DESCRIPTION:
URL:https://www.canadinns.com/event/tavern-united-daily-beverage-features-2-oz-kilted-kool-aid-22oz-pbr-draught/2025-03-27/
LOCATION:Tavern United 🔵
CATEGORIES:TU Daily Deals
END:VEVENT
BEGIN:VEVENT
DTSTART;TZID=America/Winnipeg:20250327T160000
DTEND;TZID=America/Winnipeg:20250327T233000
DTSTAMP:20260419T173330
CREATED:20230214T171659Z
LAST-MODIFIED:20230327T202643Z
UID:10003897-1743091200-1743118200@www.canadinns.com
SUMMARY:🔵 Tavern United - Wing Nights
DESCRIPTION:content
URL:https://www.canadinns.com/event/tavern-united-wing-nights/2025-03-27/
LOCATION:Tavern United 🔵
CATEGORIES:TU Daily Deals
ATTACH;FMTTYPE=image/jpeg:https://www.canadinns.com/wp-content/uploads/2023-03-17-CI-TU-MealDeals1080x1080WingNights-FNL-18168.jpg
END:VEVENT
BEGIN:VEVENT
DTSTART;TZID=America/Winnipeg:20250328T100000
DTEND;TZID=America/Winnipeg:20250328T180000
DTSTAMP:20260419T173330
CREATED:20230213T175050Z
LAST-MODIFIED:20250623T194203Z
UID:10000778-1743156000-1743184800@www.canadinns.com
SUMMARY:🔵 Tavern United - The Even Happier Meal Deal
DESCRIPTION:content
URL:https://www.canadinns.com/event/tavern-united-the-even-happier-meal-deal/2025-03-28/
LOCATION:Tavern United 🔵
CATEGORIES:TU Daily Deals
ATTACH;FMTTYPE=image/jpeg:https://www.canadinns.com/wp-content/uploads/2022-08-30-CI-MealDeals1080x1080-FNL-17346-1.jpg
END:VEVENT
BEGIN:VEVENT
DTSTART;TZID=America/Winnipeg:20250328T100000
DTEND;TZID=America/Winnipeg:20250328T180000
DTSTAMP:20260419T173330
CREATED:20230327T120012Z
LAST-MODIFIED:20230327T120029Z
UID:10016335-1743156000-1743184800@www.canadinns.com
SUMMARY:🔵 Tavern United Daily Beverage Features - 2oz Carolina Iced Tea & 3oz Personal Pitcher
DESCRIPTION:
URL:https://www.canadinns.com/event/tavern-united-daily-beverage-features-2oz-carolina-iced-tea-3oz-personal-pitcher/2025-03-28/
LOCATION:Tavern United 🔵
CATEGORIES:TU Daily Deals
END:VEVENT
BEGIN:VEVENT
DTSTART;TZID=America/Winnipeg:20250329T100000
DTEND;TZID=America/Winnipeg:20250329T180000
DTSTAMP:20260419T173330
CREATED:20230213T175050Z
LAST-MODIFIED:20250623T194203Z
UID:10000779-1743242400-1743271200@www.canadinns.com
SUMMARY:🔵 Tavern United - The Even Happier Meal Deal
DESCRIPTION:content
URL:https://www.canadinns.com/event/tavern-united-the-even-happier-meal-deal/2025-03-29/
LOCATION:Tavern United 🔵
CATEGORIES:TU Daily Deals
ATTACH;FMTTYPE=image/jpeg:https://www.canadinns.com/wp-content/uploads/2022-08-30-CI-MealDeals1080x1080-FNL-17346-1.jpg
END:VEVENT
BEGIN:VEVENT
DTSTART;TZID=America/Winnipeg:20250329T100000
DTEND;TZID=America/Winnipeg:20250329T180000
DTSTAMP:20260419T173330
CREATED:20230327T120123Z
LAST-MODIFIED:20230327T120150Z
UID:10016858-1743242400-1743271200@www.canadinns.com
SUMMARY:🔵 Tavern United Daily Beverage Features -  2oz Long Island Iced Tea & 3oz Personal Pitcher
DESCRIPTION:
URL:https://www.canadinns.com/event/tavern-united-daily-beverage-features-2oz-long-island-iced-tea-3oz-personal-pitcher/2025-03-29/
LOCATION:Tavern United 🔵
CATEGORIES:TU Daily Deals
END:VEVENT
BEGIN:VEVENT
DTSTART;TZID=America/Winnipeg:20250330T100000
DTEND;TZID=America/Winnipeg:20250330T180000
DTSTAMP:20260419T173330
CREATED:20230213T175050Z
LAST-MODIFIED:20250623T194203Z
UID:10000780-1743328800-1743357600@www.canadinns.com
SUMMARY:🔵 Tavern United - The Even Happier Meal Deal
DESCRIPTION:content
URL:https://www.canadinns.com/event/tavern-united-the-even-happier-meal-deal/2025-03-30/
LOCATION:Tavern United 🔵
CATEGORIES:TU Daily Deals
ATTACH;FMTTYPE=image/jpeg:https://www.canadinns.com/wp-content/uploads/2022-08-30-CI-MealDeals1080x1080-FNL-17346-1.jpg
END:VEVENT
BEGIN:VEVENT
DTSTART;TZID=America/Winnipeg:20250330T100000
DTEND;TZID=America/Winnipeg:20250330T180000
DTSTAMP:20260419T173330
CREATED:20230327T120221Z
LAST-MODIFIED:20230327T120247Z
UID:10017381-1743328800-1743357600@www.canadinns.com
SUMMARY:🔵 Tavern United Daily Beverage Features - 2oz Canadian or Tequila Caesar
DESCRIPTION:
URL:https://www.canadinns.com/event/tavern-united-daily-beverage-features-2oz-canadian-or-tequila-caesar/2025-03-30/
LOCATION:Tavern United 🔵
CATEGORIES:TU Daily Deals
END:VEVENT
BEGIN:VEVENT
DTSTART;TZID=America/Winnipeg:20250331T100000
DTEND;TZID=America/Winnipeg:20250331T180000
DTSTAMP:20260419T173330
CREATED:20230213T175050Z
LAST-MODIFIED:20250623T194203Z
UID:10000781-1743415200-1743444000@www.canadinns.com
SUMMARY:🔵 Tavern United - The Even Happier Meal Deal
DESCRIPTION:content
URL:https://www.canadinns.com/event/tavern-united-the-even-happier-meal-deal/2025-03-31/
LOCATION:Tavern United 🔵
CATEGORIES:TU Daily Deals
ATTACH;FMTTYPE=image/jpeg:https://www.canadinns.com/wp-content/uploads/2022-08-30-CI-MealDeals1080x1080-FNL-17346-1.jpg
END:VEVENT
BEGIN:VEVENT
DTSTART;TZID=America/Winnipeg:20250331T100000
DTEND;TZID=America/Winnipeg:20250331T180000
DTSTAMP:20260419T173330
CREATED:20230327T115419Z
LAST-MODIFIED:20230327T115453Z
UID:10014243-1743415200-1743444000@www.canadinns.com
SUMMARY:🔵 Tavern United Daily Beverage Features - 14 oz Sangria
DESCRIPTION:
URL:https://www.canadinns.com/event/tavern-united-daily-beverage-features-14-oz-sangria/2025-03-31/
LOCATION:Tavern United 🔵
CATEGORIES:TU Daily Deals
END:VEVENT
BEGIN:VEVENT
DTSTART;TZID=America/Winnipeg:20250401T100000
DTEND;TZID=America/Winnipeg:20250401T180000
DTSTAMP:20260419T173330
CREATED:20230213T175050Z
LAST-MODIFIED:20250623T194203Z
UID:10000782-1743501600-1743530400@www.canadinns.com
SUMMARY:🔵 Tavern United - The Even Happier Meal Deal
DESCRIPTION:content
URL:https://www.canadinns.com/event/tavern-united-the-even-happier-meal-deal/2025-04-01/
LOCATION:Tavern United 🔵
CATEGORIES:TU Daily Deals
ATTACH;FMTTYPE=image/jpeg:https://www.canadinns.com/wp-content/uploads/2022-08-30-CI-MealDeals1080x1080-FNL-17346-1.jpg
END:VEVENT
BEGIN:VEVENT
DTSTART;TZID=America/Winnipeg:20250401T100000
DTEND;TZID=America/Winnipeg:20250401T180000
DTSTAMP:20260419T173330
CREATED:20230327T115616Z
LAST-MODIFIED:20230327T115638Z
UID:10014767-1743501600-1743530400@www.canadinns.com
SUMMARY:🔵 Tavern United Daily Beverage Features -  2 oz Signature Mules
DESCRIPTION:
URL:https://www.canadinns.com/event/tavern-united-daily-beverage-features-2-oz-signature-mules/2025-04-01/
LOCATION:Tavern United 🔵
CATEGORIES:TU Daily Deals
END:VEVENT
BEGIN:VEVENT
DTSTART;TZID=America/Winnipeg:20250402T100000
DTEND;TZID=America/Winnipeg:20250402T180000
DTSTAMP:20260419T173330
CREATED:20230213T175050Z
LAST-MODIFIED:20250623T194203Z
UID:10000783-1743588000-1743616800@www.canadinns.com
SUMMARY:🔵 Tavern United - The Even Happier Meal Deal
DESCRIPTION:content
URL:https://www.canadinns.com/event/tavern-united-the-even-happier-meal-deal/2025-04-02/
LOCATION:Tavern United 🔵
CATEGORIES:TU Daily Deals
ATTACH;FMTTYPE=image/jpeg:https://www.canadinns.com/wp-content/uploads/2022-08-30-CI-MealDeals1080x1080-FNL-17346-1.jpg
END:VEVENT
BEGIN:VEVENT
DTSTART;TZID=America/Winnipeg:20250402T100000
DTEND;TZID=America/Winnipeg:20250402T180000
DTSTAMP:20260419T173330
CREATED:20230327T115734Z
LAST-MODIFIED:20230327T115754Z
UID:10015290-1743588000-1743616800@www.canadinns.com
SUMMARY:🔵 Tavern United Daily Beverage Features - 2 oz Tropical Punch & 22oz PBR Draught
DESCRIPTION:
URL:https://www.canadinns.com/event/tavern-united-daily-beverage-features-2-oz-tropical-punch-22oz-pbr-draught/2025-04-02/
LOCATION:Tavern United 🔵
CATEGORIES:TU Daily Deals
END:VEVENT
BEGIN:VEVENT
DTSTART;TZID=America/Winnipeg:20250403T100000
DTEND;TZID=America/Winnipeg:20250403T180000
DTSTAMP:20260419T173330
CREATED:20230213T175050Z
LAST-MODIFIED:20250623T194203Z
UID:10000784-1743674400-1743703200@www.canadinns.com
SUMMARY:🔵 Tavern United - The Even Happier Meal Deal
DESCRIPTION:content
URL:https://www.canadinns.com/event/tavern-united-the-even-happier-meal-deal/2025-04-03/
LOCATION:Tavern United 🔵
CATEGORIES:TU Daily Deals
ATTACH;FMTTYPE=image/jpeg:https://www.canadinns.com/wp-content/uploads/2022-08-30-CI-MealDeals1080x1080-FNL-17346-1.jpg
END:VEVENT
BEGIN:VEVENT
DTSTART;TZID=America/Winnipeg:20250403T100000
DTEND;TZID=America/Winnipeg:20250403T180000
DTSTAMP:20260419T173330
CREATED:20230327T115852Z
LAST-MODIFIED:20230327T115922Z
UID:10015813-1743674400-1743703200@www.canadinns.com
SUMMARY:🔵 Tavern United Daily Beverage Features - 2 oz Kilted Kool-Aid & 22oz PBR Draught
DESCRIPTION:
URL:https://www.canadinns.com/event/tavern-united-daily-beverage-features-2-oz-kilted-kool-aid-22oz-pbr-draught/2025-04-03/
LOCATION:Tavern United 🔵
CATEGORIES:TU Daily Deals
END:VEVENT
BEGIN:VEVENT
DTSTART;TZID=America/Winnipeg:20250404T100000
DTEND;TZID=America/Winnipeg:20250404T180000
DTSTAMP:20260419T173330
CREATED:20230213T175050Z
LAST-MODIFIED:20250623T194203Z
UID:10000785-1743760800-1743789600@www.canadinns.com
SUMMARY:🔵 Tavern United - The Even Happier Meal Deal
DESCRIPTION:content
URL:https://www.canadinns.com/event/tavern-united-the-even-happier-meal-deal/2025-04-04/
LOCATION:Tavern United 🔵
CATEGORIES:TU Daily Deals
ATTACH;FMTTYPE=image/jpeg:https://www.canadinns.com/wp-content/uploads/2022-08-30-CI-MealDeals1080x1080-FNL-17346-1.jpg
END:VEVENT
BEGIN:VEVENT
DTSTART;TZID=America/Winnipeg:20250404T100000
DTEND;TZID=America/Winnipeg:20250404T180000
DTSTAMP:20260419T173330
CREATED:20230327T120012Z
LAST-MODIFIED:20230327T120029Z
UID:10016336-1743760800-1743789600@www.canadinns.com
SUMMARY:🔵 Tavern United Daily Beverage Features - 2oz Carolina Iced Tea & 3oz Personal Pitcher
DESCRIPTION:
URL:https://www.canadinns.com/event/tavern-united-daily-beverage-features-2oz-carolina-iced-tea-3oz-personal-pitcher/2025-04-04/
LOCATION:Tavern United 🔵
CATEGORIES:TU Daily Deals
END:VEVENT
BEGIN:VEVENT
DTSTART;TZID=America/Winnipeg:20250405T100000
DTEND;TZID=America/Winnipeg:20250405T180000
DTSTAMP:20260419T173330
CREATED:20230213T175050Z
LAST-MODIFIED:20250623T194203Z
UID:10000786-1743847200-1743876000@www.canadinns.com
SUMMARY:🔵 Tavern United - The Even Happier Meal Deal
DESCRIPTION:content
URL:https://www.canadinns.com/event/tavern-united-the-even-happier-meal-deal/2025-04-05/
LOCATION:Tavern United 🔵
CATEGORIES:TU Daily Deals
ATTACH;FMTTYPE=image/jpeg:https://www.canadinns.com/wp-content/uploads/2022-08-30-CI-MealDeals1080x1080-FNL-17346-1.jpg
END:VEVENT
BEGIN:VEVENT
DTSTART;TZID=America/Winnipeg:20250405T100000
DTEND;TZID=America/Winnipeg:20250405T180000
DTSTAMP:20260419T173330
CREATED:20230327T120123Z
LAST-MODIFIED:20230327T120150Z
UID:10016859-1743847200-1743876000@www.canadinns.com
SUMMARY:🔵 Tavern United Daily Beverage Features -  2oz Long Island Iced Tea & 3oz Personal Pitcher
DESCRIPTION:
URL:https://www.canadinns.com/event/tavern-united-daily-beverage-features-2oz-long-island-iced-tea-3oz-personal-pitcher/2025-04-05/
LOCATION:Tavern United 🔵
CATEGORIES:TU Daily Deals
END:VEVENT
BEGIN:VEVENT
DTSTART;TZID=America/Winnipeg:20250406T100000
DTEND;TZID=America/Winnipeg:20250406T180000
DTSTAMP:20260419T173330
CREATED:20230213T175050Z
LAST-MODIFIED:20250623T194203Z
UID:10000787-1743933600-1743962400@www.canadinns.com
SUMMARY:🔵 Tavern United - The Even Happier Meal Deal
DESCRIPTION:content
URL:https://www.canadinns.com/event/tavern-united-the-even-happier-meal-deal/2025-04-06/
LOCATION:Tavern United 🔵
CATEGORIES:TU Daily Deals
ATTACH;FMTTYPE=image/jpeg:https://www.canadinns.com/wp-content/uploads/2022-08-30-CI-MealDeals1080x1080-FNL-17346-1.jpg
END:VEVENT
BEGIN:VEVENT
DTSTART;TZID=America/Winnipeg:20250406T100000
DTEND;TZID=America/Winnipeg:20250406T180000
DTSTAMP:20260419T173330
CREATED:20230327T120221Z
LAST-MODIFIED:20230327T120247Z
UID:10017382-1743933600-1743962400@www.canadinns.com
SUMMARY:🔵 Tavern United Daily Beverage Features - 2oz Canadian or Tequila Caesar
DESCRIPTION:
URL:https://www.canadinns.com/event/tavern-united-daily-beverage-features-2oz-canadian-or-tequila-caesar/2025-04-06/
LOCATION:Tavern United 🔵
CATEGORIES:TU Daily Deals
END:VEVENT
BEGIN:VEVENT
DTSTART;TZID=America/Winnipeg:20250407T100000
DTEND;TZID=America/Winnipeg:20250407T180000
DTSTAMP:20260419T173330
CREATED:20230213T175050Z
LAST-MODIFIED:20250623T194203Z
UID:10000788-1744020000-1744048800@www.canadinns.com
SUMMARY:🔵 Tavern United - The Even Happier Meal Deal
DESCRIPTION:content
URL:https://www.canadinns.com/event/tavern-united-the-even-happier-meal-deal/2025-04-07/
LOCATION:Tavern United 🔵
CATEGORIES:TU Daily Deals
ATTACH;FMTTYPE=image/jpeg:https://www.canadinns.com/wp-content/uploads/2022-08-30-CI-MealDeals1080x1080-FNL-17346-1.jpg
END:VEVENT
BEGIN:VEVENT
DTSTART;TZID=America/Winnipeg:20250407T100000
DTEND;TZID=America/Winnipeg:20250407T180000
DTSTAMP:20260419T173330
CREATED:20230327T115419Z
LAST-MODIFIED:20230327T115453Z
UID:10014244-1744020000-1744048800@www.canadinns.com
SUMMARY:🔵 Tavern United Daily Beverage Features - 14 oz Sangria
DESCRIPTION:
URL:https://www.canadinns.com/event/tavern-united-daily-beverage-features-14-oz-sangria/2025-04-07/
LOCATION:Tavern United 🔵
CATEGORIES:TU Daily Deals
END:VEVENT
BEGIN:VEVENT
DTSTART;TZID=America/Winnipeg:20250408T100000
DTEND;TZID=America/Winnipeg:20250408T180000
DTSTAMP:20260419T173330
CREATED:20230213T175050Z
LAST-MODIFIED:20250623T194203Z
UID:10000789-1744106400-1744135200@www.canadinns.com
SUMMARY:🔵 Tavern United - The Even Happier Meal Deal
DESCRIPTION:content
URL:https://www.canadinns.com/event/tavern-united-the-even-happier-meal-deal/2025-04-08/
LOCATION:Tavern United 🔵
CATEGORIES:TU Daily Deals
ATTACH;FMTTYPE=image/jpeg:https://www.canadinns.com/wp-content/uploads/2022-08-30-CI-MealDeals1080x1080-FNL-17346-1.jpg
END:VEVENT
BEGIN:VEVENT
DTSTART;TZID=America/Winnipeg:20250408T100000
DTEND;TZID=America/Winnipeg:20250408T180000
DTSTAMP:20260419T173330
CREATED:20230327T115616Z
LAST-MODIFIED:20230327T115638Z
UID:10014768-1744106400-1744135200@www.canadinns.com
SUMMARY:🔵 Tavern United Daily Beverage Features -  2 oz Signature Mules
DESCRIPTION:
URL:https://www.canadinns.com/event/tavern-united-daily-beverage-features-2-oz-signature-mules/2025-04-08/
LOCATION:Tavern United 🔵
CATEGORIES:TU Daily Deals
END:VEVENT
END:VCALENDAR