BEGIN:VCALENDAR
VERSION:2.0
PRODID:-//Canad Inns - ECPv6.15.17.1//NONSGML v1.0//EN
CALSCALE:GREGORIAN
METHOD:PUBLISH
X-WR-CALNAME:Canad Inns
X-ORIGINAL-URL:https://www.canadinns.com
X-WR-CALDESC:Events for Canad Inns
REFRESH-INTERVAL;VALUE=DURATION:PT1H
X-Robots-Tag:noindex
X-PUBLISHED-TTL:PT1H
BEGIN:VTIMEZONE
TZID:America/Winnipeg
BEGIN:DAYLIGHT
TZOFFSETFROM:-0600
TZOFFSETTO:-0500
TZNAME:CDT
DTSTART:20240310T080000
END:DAYLIGHT
BEGIN:STANDARD
TZOFFSETFROM:-0500
TZOFFSETTO:-0600
TZNAME:CST
DTSTART:20241103T070000
END:STANDARD
BEGIN:DAYLIGHT
TZOFFSETFROM:-0600
TZOFFSETTO:-0500
TZNAME:CDT
DTSTART:20250309T080000
END:DAYLIGHT
BEGIN:STANDARD
TZOFFSETFROM:-0500
TZOFFSETTO:-0600
TZNAME:CST
DTSTART:20251102T070000
END:STANDARD
BEGIN:DAYLIGHT
TZOFFSETFROM:-0600
TZOFFSETTO:-0500
TZNAME:CDT
DTSTART:20260308T080000
END:DAYLIGHT
BEGIN:STANDARD
TZOFFSETFROM:-0500
TZOFFSETTO:-0600
TZNAME:CST
DTSTART:20261101T070000
END:STANDARD
END:VTIMEZONE
BEGIN:VEVENT
DTSTART;VALUE=DATE:20250511
DTEND;VALUE=DATE:20250512
DTSTAMP:20260419T215647
CREATED:20250411T212114Z
LAST-MODIFIED:20250414T141210Z
UID:10047301-1746921600-1747007999@www.canadinns.com
SUMMARY:Happy Mother's Day!
DESCRIPTION:Today\, we celebrate the incredible women who shape our lives with love\, strength\, and wisdom. To all the mothers\, grandmothers\, and mother figures\, thank you for unwavering support and endless love. \nWishing you a day filled with joy\, love\, and the appreciation you truly deserve.❤️
URL:https://www.canadinns.com/event/happy-mothers-day/
CATEGORIES:Special Events
ATTACH;FMTTYPE=image/png:https://www.canadinns.com/wp-content/uploads/2025-05-11-CI-Happy-Mothers-Day-Social-Media-1080x1080-1.png
END:VEVENT
BEGIN:VEVENT
DTSTART;TZID=America/Winnipeg:20250511T170000
DTEND;TZID=America/Winnipeg:20250511T200000
DTSTAMP:20260419T215647
CREATED:20240904T165546Z
LAST-MODIFIED:20250310T191046Z
UID:10047187-1746982800-1746993600@www.canadinns.com
SUMMARY:🎭Destination Dinner Stage - Grease Lightning 🚗
DESCRIPTION:🎶🚗 Grease Lightning 💃🕺\nGreetings Winnipeg High class of 1959\, you are all invited to the biggest Rock and Roll reunion this town has ever seen! It’s been 20 years since Danny\, Sandy and the gang graduated and much has changed. Did Danny and Sandy get married and live happily ever after? Did they ever give up drag racing? Join us at Destination Dinner Stage as we look in on everyone’s favorite greasers and find out what they are up to in the fabulous 70’s as we pay respectful homage to this well-known story and of course add a twist or two of our own! Grease Lightening\, a flash from the past and a celebration of rock and roll! \nBook your tickets today at ticketmaster.ca!
URL:https://www.canadinns.com/event/destination-dinner-stage-grease-lightning/2025-05-11/
LOCATION:Destination Dinner Stage 🎭
CATEGORIES:Special Events
ATTACH;FMTTYPE=image/jpeg:https://www.canadinns.com/wp-content/uploads/2025-01-29-CI-DDS-Grease-Graphics-update-2160x2160-FNL-20563.jpg
END:VEVENT
BEGIN:VEVENT
DTSTART;TZID=America/Winnipeg:20250512T080000
DTEND;TZID=America/Winnipeg:20250512T170000
DTSTAMP:20260419T215647
CREATED:20240315T202122Z
LAST-MODIFIED:20250414T141549Z
UID:10029303-1747036800-1747069200@www.canadinns.com
SUMMARY:Manitoba Day
DESCRIPTION:Today\, we celebrate the beautiful province of Manitoba—its rich history\, diverse culture\, and the incredible people who call it home. \nAs a Manitoba-owned\, Manitoba-grown\, and Manitoba-proud business\, we’re proud to be part of this vibrant community.
URL:https://www.canadinns.com/event/manitoba-day/
CATEGORIES:Special Events
ATTACH;FMTTYPE=image/png:https://www.canadinns.com/wp-content/uploads/2025-05-12-CI-Happy-Manitoba-Day-with-CI-Logo-Social-Media1080x1350.png
END:VEVENT
BEGIN:VEVENT
DTSTART;TZID=America/Winnipeg:20250512T080000
DTEND;TZID=America/Winnipeg:20250518T170000
DTSTAMP:20260419T215647
CREATED:20250414T141125Z
LAST-MODIFIED:20250414T141127Z
UID:10047304-1747036800-1747587600@www.canadinns.com
SUMMARY:Happy Nurses Week
DESCRIPTION:Happy Nurses Week! \nThis week\, we recognize the incredible contributions of nurses across the world. Thank you for your hard work\, your passion\, and your commitment to improving lives in our communities.
URL:https://www.canadinns.com/event/happy-nurses-week-2/2025-05-12/
CATEGORIES:Special Events
ATTACH;FMTTYPE=image/png:https://www.canadinns.com/wp-content/uploads/2025-05-12-CI-Happy-Nurses-Week.png
END:VEVENT
BEGIN:VEVENT
DTSTART;TZID=America/Winnipeg:20250515T110000
DTEND;TZID=America/Winnipeg:20250515T220000
DTSTAMP:20260419T215647
CREATED:20250411T213217Z
LAST-MODIFIED:20250411T213241Z
UID:10047310-1747306800-1747346400@www.canadinns.com
SUMMARY:🔵 National Caesar Day
DESCRIPTION:Happy National Caesar Day! \nWhat better way to celebrate this Canadian classic with a refreshing Caesar in hand? \nCome on over to Tavern United and try The Caesar: a true symbol of Canadian pride! \nReserve your table now!\n#nationalcaesarday #supportlocal #buylocal
URL:https://www.canadinns.com/event/tavernunited-national-caesar-day-2025/
LOCATION:Tavern United 🔵
CATEGORIES:Special Events
ATTACH;FMTTYPE=image/png:https://www.canadinns.com/wp-content/uploads/2025-05-16-TU-GSP-National-Caesar-Day-SocialMedia1080x1350.png
END:VEVENT
BEGIN:VEVENT
DTSTART;TZID=America/Winnipeg:20250515T160000
DTEND;TZID=America/Winnipeg:20250515T220000
DTSTAMP:20260419T215647
CREATED:20250411T212853Z
LAST-MODIFIED:20250411T212955Z
UID:10047309-1747324800-1747346400@www.canadinns.com
SUMMARY:🟠 National Caesar Day
DESCRIPTION:Happy National Caesar Day! \nWhat better way to celebrate this Canadian classic with a refreshing Caesar in hand? \nCome on over to Tavern United/Garbonzo’s Sports Pub and try The Caesar: a true symbol of Canadian pride! \nReserve your table now!\n#nationalcaesarday #supportlocal #buylocal
URL:https://www.canadinns.com/event/national-caesar-day-2025/
LOCATION:Garbonzo’s 🟠
CATEGORIES:Special Events
ATTACH;FMTTYPE=image/png:https://www.canadinns.com/wp-content/uploads/2025-05-16-TU-GSP-National-Caesar-Day-SocialMedia1080x1350.png
END:VEVENT
BEGIN:VEVENT
DTSTART;TZID=America/Winnipeg:20250515T180000
DTEND;TZID=America/Winnipeg:20250515T210000
DTSTAMP:20260419T215647
CREATED:20240904T203703Z
LAST-MODIFIED:20250224T193544Z
UID:10047211-1747332000-1747342800@www.canadinns.com
SUMMARY:🎭Destination Dinner Stage - Grease Lightning 🚗
DESCRIPTION:🎶🚗 Grease Lightning 💃🕺\nGreetings Winnipeg High class of 1959\, you are all invited to the biggest Rock and Roll reunion this town has ever seen! It’s been 20 years since Danny\, Sandy and the gang graduated and much has changed. Did Danny and Sandy get married and live happily ever after? Did they ever give up drag racing? Join us at Destination Dinner Stage as we look in on everyone’s favorite greasers and find out what they are up to in the fabulous 70’s as we pay respectful homage to this well-known story and of course add a twist or two of our own! Grease Lightening\, a flash from the past and a celebration of rock and roll! \nBook your tickets today at ticketmaster.ca!
URL:https://www.canadinns.com/event/destination-dinner-stage-grease-lightning-2/2025-05-15/
LOCATION:Destination Dinner Stage 🎭
CATEGORIES:Special Events
ATTACH;FMTTYPE=image/jpeg:https://www.canadinns.com/wp-content/uploads/2025-01-29-CI-DDS-Grease-Graphics-update-2160x2160-FNL-20563.jpg
END:VEVENT
BEGIN:VEVENT
DTSTART;TZID=America/Winnipeg:20250517T180000
DTEND;TZID=America/Winnipeg:20250517T210000
DTSTAMP:20260419T215647
CREATED:20240904T203703Z
LAST-MODIFIED:20250224T193544Z
UID:10047212-1747504800-1747515600@www.canadinns.com
SUMMARY:🎭Destination Dinner Stage - Grease Lightning 🚗
DESCRIPTION:🎶🚗 Grease Lightning 💃🕺\nGreetings Winnipeg High class of 1959\, you are all invited to the biggest Rock and Roll reunion this town has ever seen! It’s been 20 years since Danny\, Sandy and the gang graduated and much has changed. Did Danny and Sandy get married and live happily ever after? Did they ever give up drag racing? Join us at Destination Dinner Stage as we look in on everyone’s favorite greasers and find out what they are up to in the fabulous 70’s as we pay respectful homage to this well-known story and of course add a twist or two of our own! Grease Lightening\, a flash from the past and a celebration of rock and roll! \nBook your tickets today at ticketmaster.ca!
URL:https://www.canadinns.com/event/destination-dinner-stage-grease-lightning-2/2025-05-17/
LOCATION:Destination Dinner Stage 🎭
CATEGORIES:Special Events
ATTACH;FMTTYPE=image/jpeg:https://www.canadinns.com/wp-content/uploads/2025-01-29-CI-DDS-Grease-Graphics-update-2160x2160-FNL-20563.jpg
END:VEVENT
END:VCALENDAR