BEGIN:VCALENDAR
VERSION:2.0
PRODID:-//Canad Inns - ECPv6.15.17.1//NONSGML v1.0//EN
CALSCALE:GREGORIAN
METHOD:PUBLISH
X-ORIGINAL-URL:https://www.canadinns.com
X-WR-CALDESC:Events for Canad Inns
REFRESH-INTERVAL;VALUE=DURATION:PT1H
X-Robots-Tag:noindex
X-PUBLISHED-TTL:PT1H
BEGIN:VTIMEZONE
TZID:America/Winnipeg
BEGIN:DAYLIGHT
TZOFFSETFROM:-0600
TZOFFSETTO:-0500
TZNAME:CDT
DTSTART:20240310T080000
END:DAYLIGHT
BEGIN:STANDARD
TZOFFSETFROM:-0500
TZOFFSETTO:-0600
TZNAME:CST
DTSTART:20241103T070000
END:STANDARD
BEGIN:DAYLIGHT
TZOFFSETFROM:-0600
TZOFFSETTO:-0500
TZNAME:CDT
DTSTART:20250309T080000
END:DAYLIGHT
BEGIN:STANDARD
TZOFFSETFROM:-0500
TZOFFSETTO:-0600
TZNAME:CST
DTSTART:20251102T070000
END:STANDARD
BEGIN:DAYLIGHT
TZOFFSETFROM:-0600
TZOFFSETTO:-0500
TZNAME:CDT
DTSTART:20260308T080000
END:DAYLIGHT
BEGIN:STANDARD
TZOFFSETFROM:-0500
TZOFFSETTO:-0600
TZNAME:CST
DTSTART:20261101T070000
END:STANDARD
END:VTIMEZONE
BEGIN:VEVENT
DTSTART;TZID=America/Winnipeg:20250422T080000
DTEND;TZID=America/Winnipeg:20250422T170000
DTSTAMP:20260420T013746
CREATED:20250225T142831Z
LAST-MODIFIED:20250225T142831Z
UID:10047287-1745308800-1745341200@www.canadinns.com
SUMMARY:Earth Day
DESCRIPTION:Happy Earth Day! \nTogether\, we can drive positive environmental change.  At Canad Inns we are committed to sustainability for a brighter tomorrow.
URL:https://www.canadinns.com/event/earth-day-2/
CATEGORIES:Special Events
ATTACH;FMTTYPE=image/png:https://www.canadinns.com/wp-content/uploads/2025-04-22-CI-Dates-of-Significance-Earth-Day.png
END:VEVENT
BEGIN:VEVENT
DTSTART;TZID=America/Winnipeg:20250423T080000
DTEND;TZID=America/Winnipeg:20250423T170000
DTSTAMP:20260420T013746
CREATED:20250225T143048Z
LAST-MODIFIED:20250225T143048Z
UID:10047288-1745395200-1745427600@www.canadinns.com
SUMMARY:Administrative Professionals Day
DESCRIPTION:Today\, we recognize and celebrate the incredible contributions of administrative professionals who keep our workplaces running smoothly. \nAt Canad Inns\, we are grateful for the administrative professionals who go above and beyond every day.  Your efforts do not go unnoticed\, and we appreciate all that you do!   Thank you!
URL:https://www.canadinns.com/event/administrative-professionals-day-2/
CATEGORIES:Special Events
ATTACH;FMTTYPE=image/png:https://www.canadinns.com/wp-content/uploads/2025-04-22-CI-Dates-of-Significance-Admin-Professionals-Day.png
END:VEVENT
END:VCALENDAR