BEGIN:VCALENDAR
VERSION:2.0
PRODID:-//Canad Inns - ECPv6.15.17.1//NONSGML v1.0//EN
CALSCALE:GREGORIAN
METHOD:PUBLISH
X-ORIGINAL-URL:https://www.canadinns.com
X-WR-CALDESC:Events for Canad Inns
REFRESH-INTERVAL;VALUE=DURATION:PT1H
X-Robots-Tag:noindex
X-PUBLISHED-TTL:PT1H
BEGIN:VTIMEZONE
TZID:America/Winnipeg
BEGIN:DAYLIGHT
TZOFFSETFROM:-0600
TZOFFSETTO:-0500
TZNAME:CDT
DTSTART:20240310T080000
END:DAYLIGHT
BEGIN:STANDARD
TZOFFSETFROM:-0500
TZOFFSETTO:-0600
TZNAME:CST
DTSTART:20241103T070000
END:STANDARD
BEGIN:DAYLIGHT
TZOFFSETFROM:-0600
TZOFFSETTO:-0500
TZNAME:CDT
DTSTART:20250309T080000
END:DAYLIGHT
BEGIN:STANDARD
TZOFFSETFROM:-0500
TZOFFSETTO:-0600
TZNAME:CST
DTSTART:20251102T070000
END:STANDARD
BEGIN:DAYLIGHT
TZOFFSETFROM:-0600
TZOFFSETTO:-0500
TZNAME:CDT
DTSTART:20260308T080000
END:DAYLIGHT
BEGIN:STANDARD
TZOFFSETFROM:-0500
TZOFFSETTO:-0600
TZNAME:CST
DTSTART:20261101T070000
END:STANDARD
END:VTIMEZONE
BEGIN:VEVENT
DTSTART;TZID=America/Winnipeg:20250407T080000
DTEND;TZID=America/Winnipeg:20250407T170000
DTSTAMP:20260419T234304
CREATED:20250225T142331Z
LAST-MODIFIED:20250225T142331Z
UID:10047285-1744012800-1744045200@www.canadinns.com
SUMMARY:World Health Day
DESCRIPTION:Celebrating World Health Day 2025: Health is Wealth. \nToday\, we join the world in celebrating World Health Day – a reminder that good health is the foundation of a prosperous future.
URL:https://www.canadinns.com/event/world-health-day-2/
CATEGORIES:Special Events
ATTACH;FMTTYPE=image/png:https://www.canadinns.com/wp-content/uploads/2025-04-07-CI-Dates-of-Significance-World-Health-Day.png
END:VEVENT
BEGIN:VEVENT
DTSTART;TZID=America/Winnipeg:20250407T160000
DTEND;TZID=America/Winnipeg:20250407T220000
DTSTAMP:20260419T234304
CREATED:20240313T194046Z
LAST-MODIFIED:20250328T150219Z
UID:10029295-1744041600-1744063200@www.canadinns.com
SUMMARY:🔵  National Beer Day
DESCRIPTION:Nothing brings people together like a cold beer and good conversation. \nOn National Beer Day\, we raise our glasses to the timeless tradition of brewing and enjoying great beer. \n📍 Join us today at Tavern United\, grab a pint\, and let’s cheers to the love of beer! 🍻
URL:https://www.canadinns.com/event/national-beer-day-2/
LOCATION:Tavern United 🔵
CATEGORIES:Special Events
ATTACH;FMTTYPE=image/png:https://www.canadinns.com/wp-content/uploads/2025-04-07-CI-Dates-of-Significance-National-Beer-Day_V1.png
END:VEVENT
BEGIN:VEVENT
DTSTART;TZID=America/Winnipeg:20250407T160000
DTEND;TZID=America/Winnipeg:20250407T220000
DTSTAMP:20260419T234304
CREATED:20250328T145708Z
LAST-MODIFIED:20250328T145708Z
UID:10047299-1744041600-1744063200@www.canadinns.com
SUMMARY:🟠 National Beer Day
DESCRIPTION:Nothing brings people together like a cold beer and good conversation. 🍻 \nOn National Beer Day\, we raise our glasses to the timeless tradition of brewing and enjoying great beer. \n📍 Join us today\, grab a pint\, and let’s cheers to the love of beer! 🍻
URL:https://www.canadinns.com/event/%f0%9f%9f%a0-national-beer-day/
LOCATION:Garbonzo’s 🟠
CATEGORIES:Special Events
ATTACH;FMTTYPE=image/png:https://www.canadinns.com/wp-content/uploads/2025-04-07-CI-Dates-of-Significance-National-Beer-Day_V1.png
END:VEVENT
BEGIN:VEVENT
DTSTART;TZID=America/Winnipeg:20250409T080000
DTEND;TZID=America/Winnipeg:20250409T170000
DTSTAMP:20260419T234304
CREATED:20250225T142609Z
LAST-MODIFIED:20250225T142609Z
UID:10047286-1744185600-1744218000@www.canadinns.com
SUMMARY:International Day of Pink
DESCRIPTION:International Day of Pink reminds us that inclusion\, diversity\, and respect make our communities and workplaces stronger. \nToday and every day\, we encourage our employees\, partners\, and community members to continue championing inclusivity and respect.
URL:https://www.canadinns.com/event/international-day-of-pink-2/
CATEGORIES:Special Events
ATTACH;FMTTYPE=image/jpeg:https://www.canadinns.com/wp-content/uploads/2025-04-09-CI-Dates-of-Significance-InternationalDayOfPink.jpg
END:VEVENT
BEGIN:VEVENT
DTSTART;TZID=America/Winnipeg:20250412T080000
DTEND;TZID=America/Winnipeg:20250412T170000
DTSTAMP:20260419T234304
CREATED:20250411T212609Z
LAST-MODIFIED:20250411T212609Z
UID:10047302-1744444800-1744477200@www.canadinns.com
SUMMARY:Happy Nurses Week
DESCRIPTION:Happy Nurses Week! \nThis week\, we recognize the incredible contributions of nurses across the world. Thank you for your hard work\, your passion\, and your commitment to improving lives in our communities.
URL:https://www.canadinns.com/event/happy-nurses-week/2025-04-12/
CATEGORIES:Special Events
ATTACH;FMTTYPE=image/png:https://www.canadinns.com/wp-content/uploads/2025-05-12-CI-Happy-Nurses-Week.png
END:VEVENT
END:VCALENDAR