BEGIN:VCALENDAR
VERSION:2.0
PRODID:-//Canad Inns - ECPv6.15.17.1//NONSGML v1.0//EN
CALSCALE:GREGORIAN
METHOD:PUBLISH
X-ORIGINAL-URL:https://www.canadinns.com
X-WR-CALDESC:Events for Canad Inns
REFRESH-INTERVAL;VALUE=DURATION:PT1H
X-Robots-Tag:noindex
X-PUBLISHED-TTL:PT1H
BEGIN:VTIMEZONE
TZID:America/Winnipeg
BEGIN:DAYLIGHT
TZOFFSETFROM:-0600
TZOFFSETTO:-0500
TZNAME:CDT
DTSTART:20220313T080000
END:DAYLIGHT
BEGIN:STANDARD
TZOFFSETFROM:-0500
TZOFFSETTO:-0600
TZNAME:CST
DTSTART:20221106T070000
END:STANDARD
BEGIN:DAYLIGHT
TZOFFSETFROM:-0600
TZOFFSETTO:-0500
TZNAME:CDT
DTSTART:20230312T080000
END:DAYLIGHT
BEGIN:STANDARD
TZOFFSETFROM:-0500
TZOFFSETTO:-0600
TZNAME:CST
DTSTART:20231105T070000
END:STANDARD
BEGIN:DAYLIGHT
TZOFFSETFROM:-0600
TZOFFSETTO:-0500
TZNAME:CDT
DTSTART:20240310T080000
END:DAYLIGHT
BEGIN:STANDARD
TZOFFSETFROM:-0500
TZOFFSETTO:-0600
TZNAME:CST
DTSTART:20241103T070000
END:STANDARD
END:VTIMEZONE
BEGIN:VEVENT
DTSTART;TZID=America/Winnipeg:20231030T163000
DTEND;TZID=America/Winnipeg:20231030T193000
DTSTAMP:20260420T002717
CREATED:20231013T165149Z
LAST-MODIFIED:20231013T165149Z
UID:10028631-1698683400-1698694200@www.canadinns.com
SUMMARY:⚪ Resto 12 Home Game Day Buffet
DESCRIPTION:
URL:https://www.canadinns.com/event/resto-12-home-game-day-buffet-2-3/
LOCATION:Resto 12 ⚪
CATEGORIES:Special Events
ATTACH;FMTTYPE=image/jpeg:https://www.canadinns.com/wp-content/uploads/2023-10-05-CI-Resto12-Game-Day-Poster11x17-Sept2023-FNL-18939-1-scaled.jpg
END:VEVENT
BEGIN:VEVENT
DTSTART;TZID=America/Winnipeg:20231030T163000
DTEND;TZID=America/Winnipeg:20231030T203000
DTSTAMP:20260420T002717
CREATED:20231013T191436Z
LAST-MODIFIED:20231013T191436Z
UID:10028650-1698683400-1698697800@www.canadinns.com
SUMMARY:⚪ Resto 12 Home Game Beverage Special
DESCRIPTION:
URL:https://www.canadinns.com/event/resto-12-home-game-beverage-special-5/
LOCATION:Resto 12 ⚪
CATEGORIES:Special Events
ATTACH;FMTTYPE=image/jpeg:https://www.canadinns.com/wp-content/uploads/RESTO-12-DIGITAL_page-0001-scaled.jpg
END:VEVENT
BEGIN:VEVENT
DTSTART;TZID=America/Winnipeg:20231031T000000
DTEND;TZID=America/Winnipeg:20231031T235900
DTSTAMP:20260420T002717
CREATED:20240920T210238Z
LAST-MODIFIED:20240920T210238Z
UID:10043205-1698710400-1698796740@www.canadinns.com
SUMMARY:Halloween
DESCRIPTION:🎃 Happy Halloween! 👻 \nIt’s that spooky time of the year!Whether you’re dressing up enjoying some treats or spending time with friends and family\, we hope your Halloween is filled with frights\, and fantastic memories. \nStay safe and enjoy all the spooky festivities!
URL:https://www.canadinns.com/event/halloween-2/
CATEGORIES:Special Events
ATTACH;FMTTYPE=image/png:https://www.canadinns.com/wp-content/uploads/Happy-Halloween-2024.png
END:VEVENT
BEGIN:VEVENT
DTSTART;VALUE=DATE:20231031
DTEND;VALUE=DATE:20231101
DTSTAMP:20260420T002717
CREATED:20231005T142721Z
LAST-MODIFIED:20231005T142721Z
UID:10028626-1698710400-1698796799@www.canadinns.com
SUMMARY:Halloween
DESCRIPTION:
URL:https://www.canadinns.com/event/halloween/
CATEGORIES:Special Events
ATTACH;FMTTYPE=image/png:https://www.canadinns.com/wp-content/uploads/Halloween.png
END:VEVENT
BEGIN:VEVENT
DTSTART;TZID=America/Winnipeg:20231102T190000
DTEND;TZID=America/Winnipeg:20231102T220000
DTSTAMP:20260420T002717
CREATED:20230920T193814Z
LAST-MODIFIED:20230920T193826Z
UID:10028615-1698951600-1698962400@www.canadinns.com
SUMMARY:🟠 Garbonzo’s Sports Pub – Trivia Thursdays
DESCRIPTION:
URL:https://www.canadinns.com/event/garbonzos-sports-pub-trivia-thursdays-9/2023-11-02/
LOCATION:Garbonzo’s 🟠
CATEGORIES:Special Events
ATTACH;FMTTYPE=image/jpeg:https://www.canadinns.com/wp-content/uploads/2023-11-18-CI-GSP-TriviaNights-SocialMedia-1080x1080-FNLNoBleed-18881.jpg
END:VEVENT
END:VCALENDAR