BEGIN:VCALENDAR
VERSION:2.0
PRODID:-//Canad Inns - ECPv6.15.17.1//NONSGML v1.0//EN
CALSCALE:GREGORIAN
METHOD:PUBLISH
X-WR-CALNAME:Canad Inns
X-ORIGINAL-URL:https://www.canadinns.com
X-WR-CALDESC:Events for Canad Inns
REFRESH-INTERVAL;VALUE=DURATION:PT1H
X-Robots-Tag:noindex
X-PUBLISHED-TTL:PT1H
BEGIN:VTIMEZONE
TZID:America/Winnipeg
BEGIN:DAYLIGHT
TZOFFSETFROM:-0600
TZOFFSETTO:-0500
TZNAME:CDT
DTSTART:20220313T080000
END:DAYLIGHT
BEGIN:STANDARD
TZOFFSETFROM:-0500
TZOFFSETTO:-0600
TZNAME:CST
DTSTART:20221106T070000
END:STANDARD
BEGIN:DAYLIGHT
TZOFFSETFROM:-0600
TZOFFSETTO:-0500
TZNAME:CDT
DTSTART:20230312T080000
END:DAYLIGHT
BEGIN:STANDARD
TZOFFSETFROM:-0500
TZOFFSETTO:-0600
TZNAME:CST
DTSTART:20231105T070000
END:STANDARD
BEGIN:DAYLIGHT
TZOFFSETFROM:-0600
TZOFFSETTO:-0500
TZNAME:CDT
DTSTART:20240310T080000
END:DAYLIGHT
BEGIN:STANDARD
TZOFFSETFROM:-0500
TZOFFSETTO:-0600
TZNAME:CST
DTSTART:20241103T070000
END:STANDARD
END:VTIMEZONE
BEGIN:VEVENT
DTSTART;VALUE=DATE:20230508
DTEND;VALUE=DATE:20230515
DTSTAMP:20260423T055700
CREATED:20230509T214536Z
LAST-MODIFIED:20230509T214545Z
UID:10028097-1683504000-1684108799@www.canadinns.com
SUMMARY:Nurses Week
DESCRIPTION:
URL:https://www.canadinns.com/event/nurses-week/
LOCATION:Special Dates
CATEGORIES:Special Events
ATTACH;FMTTYPE=image/jpeg:https://www.canadinns.com/wp-content/uploads/2023-02-03-CI-SocialMediaGraphicsLouisRielDay-FNL-18012.jpg
END:VEVENT
BEGIN:VEVENT
DTSTART;TZID=America/Winnipeg:20230518T190000
DTEND;TZID=America/Winnipeg:20230518T220000
DTSTAMP:20260423T055700
CREATED:20230420T151418Z
LAST-MODIFIED:20230420T151837Z
UID:10028083-1684436400-1684447200@www.canadinns.com
SUMMARY:🟠 Garbonzo’s Sports Pub – Trivia Thursdays
DESCRIPTION:
URL:https://www.canadinns.com/event/garbonzos-sports-pub-trivia-thursdays-2/2023-05-18/
LOCATION:Garbonzo’s 🟠
CATEGORIES:Special Events
ATTACH;FMTTYPE=image/jpeg:https://www.canadinns.com/wp-content/uploads/2023-04-13-CI-GSP-GarbonzosTriviaNights-FNL-18363.jpg
END:VEVENT
END:VCALENDAR