BEGIN:VCALENDAR
VERSION:2.0
PRODID:-//Canad Inns - ECPv6.15.17.1//NONSGML v1.0//EN
CALSCALE:GREGORIAN
METHOD:PUBLISH
X-ORIGINAL-URL:https://www.canadinns.com
X-WR-CALDESC:Events for Canad Inns
REFRESH-INTERVAL;VALUE=DURATION:PT1H
X-Robots-Tag:noindex
X-PUBLISHED-TTL:PT1H
BEGIN:VTIMEZONE
TZID:America/Winnipeg
BEGIN:DAYLIGHT
TZOFFSETFROM:-0600
TZOFFSETTO:-0500
TZNAME:CDT
DTSTART:20220313T080000
END:DAYLIGHT
BEGIN:STANDARD
TZOFFSETFROM:-0500
TZOFFSETTO:-0600
TZNAME:CST
DTSTART:20221106T070000
END:STANDARD
BEGIN:DAYLIGHT
TZOFFSETFROM:-0600
TZOFFSETTO:-0500
TZNAME:CDT
DTSTART:20230312T080000
END:DAYLIGHT
BEGIN:STANDARD
TZOFFSETFROM:-0500
TZOFFSETTO:-0600
TZNAME:CST
DTSTART:20231105T070000
END:STANDARD
BEGIN:DAYLIGHT
TZOFFSETFROM:-0600
TZOFFSETTO:-0500
TZNAME:CDT
DTSTART:20240310T080000
END:DAYLIGHT
BEGIN:STANDARD
TZOFFSETFROM:-0500
TZOFFSETTO:-0600
TZNAME:CST
DTSTART:20241103T070000
END:STANDARD
END:VTIMEZONE
BEGIN:VEVENT
DTSTART;TZID=America/Winnipeg:20231202T163000
DTEND;TZID=America/Winnipeg:20231202T193000
DTSTAMP:20260419T190204
CREATED:20231013T175229Z
LAST-MODIFIED:20231013T175229Z
UID:10028639-1701534600-1701545400@www.canadinns.com
SUMMARY:⚪ Resto 12 Home Game Day Buffet
DESCRIPTION:
URL:https://www.canadinns.com/event/resto-12-home-game-day-buffet-3-5/
LOCATION:Resto 12 ⚪
CATEGORIES:Special Events
ATTACH;FMTTYPE=image/jpeg:https://www.canadinns.com/wp-content/uploads/2023-10-05-CI-Resto12-Game-Day-Poster11x17-Sept2023-FNL-18939-1-scaled.jpg
END:VEVENT
BEGIN:VEVENT
DTSTART;TZID=America/Winnipeg:20231202T163000
DTEND;TZID=America/Winnipeg:20231202T203000
DTSTAMP:20260419T190204
CREATED:20231013T194707Z
LAST-MODIFIED:20231013T194707Z
UID:10028660-1701534600-1701549000@www.canadinns.com
SUMMARY:⚪ Resto 12 Home Game Beverage Special
DESCRIPTION:
URL:https://www.canadinns.com/event/resto-12-home-game-beverage-special-13/
LOCATION:Resto 12 ⚪
CATEGORIES:Special Events
ATTACH;FMTTYPE=image/jpeg:https://www.canadinns.com/wp-content/uploads/RESTO-12-DIGITAL_page-0001-scaled.jpg
END:VEVENT
BEGIN:VEVENT
DTSTART;TZID=America/Winnipeg:20231202T180000
DTEND;TZID=America/Winnipeg:20231202T220000
DTSTAMP:20260419T190204
CREATED:20231102T195933Z
LAST-MODIFIED:20231102T195943Z
UID:10028684-1701540000-1701554400@www.canadinns.com
SUMMARY:❄️ Canad Inns Winter Wonderland
DESCRIPTION:
URL:https://www.canadinns.com/event/canad-inns-winter-wonderland/2023-12-02/
LOCATION:Canad Inns Winter Wonderland ❄️
CATEGORIES:Special Events
ATTACH;FMTTYPE=image/jpeg:https://www.canadinns.com/wp-content/uploads/2023-11-01-CI-WinterWonderlandUpdates-IG1080x1080-FNL-19068.jpg
END:VEVENT
BEGIN:VEVENT
DTSTART;TZID=America/Winnipeg:20231203T180000
DTEND;TZID=America/Winnipeg:20231203T220000
DTSTAMP:20260419T190204
CREATED:20231102T195933Z
LAST-MODIFIED:20231102T195943Z
UID:10028685-1701626400-1701640800@www.canadinns.com
SUMMARY:❄️ Canad Inns Winter Wonderland
DESCRIPTION:
URL:https://www.canadinns.com/event/canad-inns-winter-wonderland/2023-12-03/
LOCATION:Canad Inns Winter Wonderland ❄️
CATEGORIES:Special Events
ATTACH;FMTTYPE=image/jpeg:https://www.canadinns.com/wp-content/uploads/2023-11-01-CI-WinterWonderlandUpdates-IG1080x1080-FNL-19068.jpg
END:VEVENT
BEGIN:VEVENT
DTSTART;TZID=America/Winnipeg:20231204T163000
DTEND;TZID=America/Winnipeg:20231204T193000
DTSTAMP:20260419T190204
CREATED:20231013T175520Z
LAST-MODIFIED:20231013T175844Z
UID:10028640-1701707400-1701718200@www.canadinns.com
SUMMARY:⚪ Resto 12 Home Game Day Buffet
DESCRIPTION:
URL:https://www.canadinns.com/event/resto-12-home-game-day-buffet-3-6/
LOCATION:Resto 12 ⚪
CATEGORIES:Special Events
ATTACH;FMTTYPE=image/jpeg:https://www.canadinns.com/wp-content/uploads/2023-10-05-CI-Resto12-Game-Day-Poster11x17-Sept2023-FNL-18939-1-scaled.jpg
END:VEVENT
BEGIN:VEVENT
DTSTART;TZID=America/Winnipeg:20231204T163000
DTEND;TZID=America/Winnipeg:20231204T203000
DTSTAMP:20260419T190204
CREATED:20231013T195128Z
LAST-MODIFIED:20231013T195128Z
UID:10028661-1701707400-1701721800@www.canadinns.com
SUMMARY:⚪ Resto 12 Home Game Beverage Special
DESCRIPTION:
URL:https://www.canadinns.com/event/resto-12-home-game-beverage-special-14/
LOCATION:Resto 12 ⚪
CATEGORIES:Special Events
ATTACH;FMTTYPE=image/jpeg:https://www.canadinns.com/wp-content/uploads/RESTO-12-DIGITAL_page-0001-scaled.jpg
END:VEVENT
BEGIN:VEVENT
DTSTART;TZID=America/Winnipeg:20231204T180000
DTEND;TZID=America/Winnipeg:20231204T220000
DTSTAMP:20260419T190204
CREATED:20231102T195933Z
LAST-MODIFIED:20231102T195943Z
UID:10028686-1701712800-1701727200@www.canadinns.com
SUMMARY:❄️ Canad Inns Winter Wonderland
DESCRIPTION:
URL:https://www.canadinns.com/event/canad-inns-winter-wonderland/2023-12-04/
LOCATION:Canad Inns Winter Wonderland ❄️
CATEGORIES:Special Events
ATTACH;FMTTYPE=image/jpeg:https://www.canadinns.com/wp-content/uploads/2023-11-01-CI-WinterWonderlandUpdates-IG1080x1080-FNL-19068.jpg
END:VEVENT
BEGIN:VEVENT
DTSTART;TZID=America/Winnipeg:20231205T180000
DTEND;TZID=America/Winnipeg:20231205T220000
DTSTAMP:20260419T190204
CREATED:20231102T195933Z
LAST-MODIFIED:20231102T195943Z
UID:10028687-1701799200-1701813600@www.canadinns.com
SUMMARY:❄️ Canad Inns Winter Wonderland
DESCRIPTION:
URL:https://www.canadinns.com/event/canad-inns-winter-wonderland/2023-12-05/
LOCATION:Canad Inns Winter Wonderland ❄️
CATEGORIES:Special Events
ATTACH;FMTTYPE=image/jpeg:https://www.canadinns.com/wp-content/uploads/2023-11-01-CI-WinterWonderlandUpdates-IG1080x1080-FNL-19068.jpg
END:VEVENT
BEGIN:VEVENT
DTSTART;TZID=America/Winnipeg:20231206T180000
DTEND;TZID=America/Winnipeg:20231206T220000
DTSTAMP:20260419T190204
CREATED:20231102T195933Z
LAST-MODIFIED:20231102T195943Z
UID:10028688-1701885600-1701900000@www.canadinns.com
SUMMARY:❄️ Canad Inns Winter Wonderland
DESCRIPTION:
URL:https://www.canadinns.com/event/canad-inns-winter-wonderland/2023-12-06/
LOCATION:Canad Inns Winter Wonderland ❄️
CATEGORIES:Special Events
ATTACH;FMTTYPE=image/jpeg:https://www.canadinns.com/wp-content/uploads/2023-11-01-CI-WinterWonderlandUpdates-IG1080x1080-FNL-19068.jpg
END:VEVENT
BEGIN:VEVENT
DTSTART;TZID=America/Winnipeg:20231207T180000
DTEND;TZID=America/Winnipeg:20231207T220000
DTSTAMP:20260419T190204
CREATED:20231102T195933Z
LAST-MODIFIED:20231102T195943Z
UID:10028689-1701972000-1701986400@www.canadinns.com
SUMMARY:❄️ Canad Inns Winter Wonderland
DESCRIPTION:
URL:https://www.canadinns.com/event/canad-inns-winter-wonderland/2023-12-07/
LOCATION:Canad Inns Winter Wonderland ❄️
CATEGORIES:Special Events
ATTACH;FMTTYPE=image/jpeg:https://www.canadinns.com/wp-content/uploads/2023-11-01-CI-WinterWonderlandUpdates-IG1080x1080-FNL-19068.jpg
END:VEVENT
BEGIN:VEVENT
DTSTART;TZID=America/Winnipeg:20231208T180000
DTEND;TZID=America/Winnipeg:20231208T220000
DTSTAMP:20260419T190204
CREATED:20231102T195933Z
LAST-MODIFIED:20231102T195943Z
UID:10028690-1702058400-1702072800@www.canadinns.com
SUMMARY:❄️ Canad Inns Winter Wonderland
DESCRIPTION:
URL:https://www.canadinns.com/event/canad-inns-winter-wonderland/2023-12-08/
LOCATION:Canad Inns Winter Wonderland ❄️
CATEGORIES:Special Events
ATTACH;FMTTYPE=image/jpeg:https://www.canadinns.com/wp-content/uploads/2023-11-01-CI-WinterWonderlandUpdates-IG1080x1080-FNL-19068.jpg
END:VEVENT
BEGIN:VEVENT
DTSTART;TZID=America/Winnipeg:20231209T180000
DTEND;TZID=America/Winnipeg:20231209T220000
DTSTAMP:20260419T190204
CREATED:20231102T195933Z
LAST-MODIFIED:20231102T195943Z
UID:10028691-1702144800-1702159200@www.canadinns.com
SUMMARY:❄️ Canad Inns Winter Wonderland
DESCRIPTION:
URL:https://www.canadinns.com/event/canad-inns-winter-wonderland/2023-12-09/
LOCATION:Canad Inns Winter Wonderland ❄️
CATEGORIES:Special Events
ATTACH;FMTTYPE=image/jpeg:https://www.canadinns.com/wp-content/uploads/2023-11-01-CI-WinterWonderlandUpdates-IG1080x1080-FNL-19068.jpg
END:VEVENT
BEGIN:VEVENT
DTSTART;TZID=America/Winnipeg:20231210T180000
DTEND;TZID=America/Winnipeg:20231210T220000
DTSTAMP:20260419T190204
CREATED:20231102T195933Z
LAST-MODIFIED:20231102T195943Z
UID:10028692-1702231200-1702245600@www.canadinns.com
SUMMARY:❄️ Canad Inns Winter Wonderland
DESCRIPTION:
URL:https://www.canadinns.com/event/canad-inns-winter-wonderland/2023-12-10/
LOCATION:Canad Inns Winter Wonderland ❄️
CATEGORIES:Special Events
ATTACH;FMTTYPE=image/jpeg:https://www.canadinns.com/wp-content/uploads/2023-11-01-CI-WinterWonderlandUpdates-IG1080x1080-FNL-19068.jpg
END:VEVENT
BEGIN:VEVENT
DTSTART;TZID=America/Winnipeg:20231211T180000
DTEND;TZID=America/Winnipeg:20231211T220000
DTSTAMP:20260419T190204
CREATED:20231102T195933Z
LAST-MODIFIED:20231102T195943Z
UID:10028693-1702317600-1702332000@www.canadinns.com
SUMMARY:❄️ Canad Inns Winter Wonderland
DESCRIPTION:
URL:https://www.canadinns.com/event/canad-inns-winter-wonderland/2023-12-11/
LOCATION:Canad Inns Winter Wonderland ❄️
CATEGORIES:Special Events
ATTACH;FMTTYPE=image/jpeg:https://www.canadinns.com/wp-content/uploads/2023-11-01-CI-WinterWonderlandUpdates-IG1080x1080-FNL-19068.jpg
END:VEVENT
BEGIN:VEVENT
DTSTART;TZID=America/Winnipeg:20231212T180000
DTEND;TZID=America/Winnipeg:20231212T220000
DTSTAMP:20260419T190204
CREATED:20231102T195933Z
LAST-MODIFIED:20231102T195943Z
UID:10028694-1702404000-1702418400@www.canadinns.com
SUMMARY:❄️ Canad Inns Winter Wonderland
DESCRIPTION:
URL:https://www.canadinns.com/event/canad-inns-winter-wonderland/2023-12-12/
LOCATION:Canad Inns Winter Wonderland ❄️
CATEGORIES:Special Events
ATTACH;FMTTYPE=image/jpeg:https://www.canadinns.com/wp-content/uploads/2023-11-01-CI-WinterWonderlandUpdates-IG1080x1080-FNL-19068.jpg
END:VEVENT
BEGIN:VEVENT
DTSTART;TZID=America/Winnipeg:20231213T180000
DTEND;TZID=America/Winnipeg:20231213T220000
DTSTAMP:20260419T190204
CREATED:20231102T195933Z
LAST-MODIFIED:20231102T195943Z
UID:10028695-1702490400-1702504800@www.canadinns.com
SUMMARY:❄️ Canad Inns Winter Wonderland
DESCRIPTION:
URL:https://www.canadinns.com/event/canad-inns-winter-wonderland/2023-12-13/
LOCATION:Canad Inns Winter Wonderland ❄️
CATEGORIES:Special Events
ATTACH;FMTTYPE=image/jpeg:https://www.canadinns.com/wp-content/uploads/2023-11-01-CI-WinterWonderlandUpdates-IG1080x1080-FNL-19068.jpg
END:VEVENT
BEGIN:VEVENT
DTSTART;TZID=America/Winnipeg:20231214T180000
DTEND;TZID=America/Winnipeg:20231214T220000
DTSTAMP:20260419T190204
CREATED:20231102T195933Z
LAST-MODIFIED:20231102T195943Z
UID:10028696-1702576800-1702591200@www.canadinns.com
SUMMARY:❄️ Canad Inns Winter Wonderland
DESCRIPTION:
URL:https://www.canadinns.com/event/canad-inns-winter-wonderland/2023-12-14/
LOCATION:Canad Inns Winter Wonderland ❄️
CATEGORIES:Special Events
ATTACH;FMTTYPE=image/jpeg:https://www.canadinns.com/wp-content/uploads/2023-11-01-CI-WinterWonderlandUpdates-IG1080x1080-FNL-19068.jpg
END:VEVENT
BEGIN:VEVENT
DTSTART;TZID=America/Winnipeg:20231214T190000
DTEND;TZID=America/Winnipeg:20231214T220000
DTSTAMP:20260419T190204
CREATED:20230920T193814Z
LAST-MODIFIED:20230920T193826Z
UID:10028618-1702580400-1702591200@www.canadinns.com
SUMMARY:🟠 Garbonzo’s Sports Pub – Trivia Thursdays
DESCRIPTION:
URL:https://www.canadinns.com/event/garbonzos-sports-pub-trivia-thursdays-9/2023-12-14/
LOCATION:Garbonzo’s 🟠
CATEGORIES:Special Events
ATTACH;FMTTYPE=image/jpeg:https://www.canadinns.com/wp-content/uploads/2023-11-18-CI-GSP-TriviaNights-SocialMedia-1080x1080-FNLNoBleed-18881.jpg
END:VEVENT
BEGIN:VEVENT
DTSTART;TZID=America/Winnipeg:20231215T180000
DTEND;TZID=America/Winnipeg:20231215T220000
DTSTAMP:20260419T190204
CREATED:20231102T195933Z
LAST-MODIFIED:20231102T195943Z
UID:10028697-1702663200-1702677600@www.canadinns.com
SUMMARY:❄️ Canad Inns Winter Wonderland
DESCRIPTION:
URL:https://www.canadinns.com/event/canad-inns-winter-wonderland/2023-12-15/
LOCATION:Canad Inns Winter Wonderland ❄️
CATEGORIES:Special Events
ATTACH;FMTTYPE=image/jpeg:https://www.canadinns.com/wp-content/uploads/2023-11-01-CI-WinterWonderlandUpdates-IG1080x1080-FNL-19068.jpg
END:VEVENT
BEGIN:VEVENT
DTSTART;TZID=America/Winnipeg:20231216T163000
DTEND;TZID=America/Winnipeg:20231216T193000
DTSTAMP:20260419T190204
CREATED:20231013T180735Z
LAST-MODIFIED:20231013T180735Z
UID:10028641-1702744200-1702755000@www.canadinns.com
SUMMARY:⚪ Resto 12 Home Game Day Buffet
DESCRIPTION:
URL:https://www.canadinns.com/event/resto-12-home-game-day-buffet-3-7/
LOCATION:Resto 12 ⚪
CATEGORIES:Special Events
ATTACH;FMTTYPE=image/jpeg:https://www.canadinns.com/wp-content/uploads/2023-10-05-CI-Resto12-Game-Day-Poster11x17-Sept2023-FNL-18939-1-scaled.jpg
END:VEVENT
BEGIN:VEVENT
DTSTART;TZID=America/Winnipeg:20231216T163000
DTEND;TZID=America/Winnipeg:20231216T203000
DTSTAMP:20260419T190204
CREATED:20231013T195239Z
LAST-MODIFIED:20231013T195239Z
UID:10028662-1702744200-1702758600@www.canadinns.com
SUMMARY:⚪ Resto 12 Home Game Beverage Special
DESCRIPTION:
URL:https://www.canadinns.com/event/resto-12-home-game-beverage-special-15/
LOCATION:Resto 12 ⚪
CATEGORIES:Special Events
ATTACH;FMTTYPE=image/jpeg:https://www.canadinns.com/wp-content/uploads/2023-10-05-CI-Resto12-Game-Day-Poster11x17-Sept2023-FNL-18939-scaled.jpg
END:VEVENT
BEGIN:VEVENT
DTSTART;TZID=America/Winnipeg:20231216T180000
DTEND;TZID=America/Winnipeg:20231216T220000
DTSTAMP:20260419T190204
CREATED:20231102T195933Z
LAST-MODIFIED:20231102T195943Z
UID:10028698-1702749600-1702764000@www.canadinns.com
SUMMARY:❄️ Canad Inns Winter Wonderland
DESCRIPTION:
URL:https://www.canadinns.com/event/canad-inns-winter-wonderland/2023-12-16/
LOCATION:Canad Inns Winter Wonderland ❄️
CATEGORIES:Special Events
ATTACH;FMTTYPE=image/jpeg:https://www.canadinns.com/wp-content/uploads/2023-11-01-CI-WinterWonderlandUpdates-IG1080x1080-FNL-19068.jpg
END:VEVENT
BEGIN:VEVENT
DTSTART;TZID=America/Winnipeg:20231217T180000
DTEND;TZID=America/Winnipeg:20231217T220000
DTSTAMP:20260419T190204
CREATED:20231102T195933Z
LAST-MODIFIED:20231102T195943Z
UID:10028699-1702836000-1702850400@www.canadinns.com
SUMMARY:❄️ Canad Inns Winter Wonderland
DESCRIPTION:
URL:https://www.canadinns.com/event/canad-inns-winter-wonderland/2023-12-17/
LOCATION:Canad Inns Winter Wonderland ❄️
CATEGORIES:Special Events
ATTACH;FMTTYPE=image/jpeg:https://www.canadinns.com/wp-content/uploads/2023-11-01-CI-WinterWonderlandUpdates-IG1080x1080-FNL-19068.jpg
END:VEVENT
BEGIN:VEVENT
DTSTART;TZID=America/Winnipeg:20231218T163000
DTEND;TZID=America/Winnipeg:20231218T193000
DTSTAMP:20260419T190204
CREATED:20231013T180946Z
LAST-MODIFIED:20231013T180946Z
UID:10028642-1702917000-1702927800@www.canadinns.com
SUMMARY:⚪ Resto 12 Home Game Day Buffet
DESCRIPTION:
URL:https://www.canadinns.com/event/resto-12-home-game-day-buffet-3-8/
LOCATION:Resto 12 ⚪
CATEGORIES:Special Events
ATTACH;FMTTYPE=image/jpeg:https://www.canadinns.com/wp-content/uploads/2023-10-05-CI-Resto12-Game-Day-Poster11x17-Sept2023-FNL-18939-1-scaled.jpg
END:VEVENT
BEGIN:VEVENT
DTSTART;TZID=America/Winnipeg:20231218T163000
DTEND;TZID=America/Winnipeg:20231218T203000
DTSTAMP:20260419T190204
CREATED:20231013T195500Z
LAST-MODIFIED:20231013T195500Z
UID:10028663-1702917000-1702931400@www.canadinns.com
SUMMARY:⚪ Resto 12 Home Game Beverage Special
DESCRIPTION:
URL:https://www.canadinns.com/event/resto-12-home-game-beverage-special-16/
LOCATION:Resto 12 ⚪
CATEGORIES:Special Events
ATTACH;FMTTYPE=image/jpeg:https://www.canadinns.com/wp-content/uploads/RESTO-12-DIGITAL_page-0001-scaled.jpg
END:VEVENT
BEGIN:VEVENT
DTSTART;TZID=America/Winnipeg:20231218T180000
DTEND;TZID=America/Winnipeg:20231218T220000
DTSTAMP:20260419T190204
CREATED:20231102T195933Z
LAST-MODIFIED:20231102T195943Z
UID:10028700-1702922400-1702936800@www.canadinns.com
SUMMARY:❄️ Canad Inns Winter Wonderland
DESCRIPTION:
URL:https://www.canadinns.com/event/canad-inns-winter-wonderland/2023-12-18/
LOCATION:Canad Inns Winter Wonderland ❄️
CATEGORIES:Special Events
ATTACH;FMTTYPE=image/jpeg:https://www.canadinns.com/wp-content/uploads/2023-11-01-CI-WinterWonderlandUpdates-IG1080x1080-FNL-19068.jpg
END:VEVENT
BEGIN:VEVENT
DTSTART;TZID=America/Winnipeg:20231219T180000
DTEND;TZID=America/Winnipeg:20231219T220000
DTSTAMP:20260419T190204
CREATED:20231102T195933Z
LAST-MODIFIED:20231102T195943Z
UID:10028701-1703008800-1703023200@www.canadinns.com
SUMMARY:❄️ Canad Inns Winter Wonderland
DESCRIPTION:
URL:https://www.canadinns.com/event/canad-inns-winter-wonderland/2023-12-19/
LOCATION:Canad Inns Winter Wonderland ❄️
CATEGORIES:Special Events
ATTACH;FMTTYPE=image/jpeg:https://www.canadinns.com/wp-content/uploads/2023-11-01-CI-WinterWonderlandUpdates-IG1080x1080-FNL-19068.jpg
END:VEVENT
BEGIN:VEVENT
DTSTART;TZID=America/Winnipeg:20231220T163000
DTEND;TZID=America/Winnipeg:20231220T193000
DTSTAMP:20260419T190204
CREATED:20231013T184352Z
LAST-MODIFIED:20231013T184352Z
UID:10028643-1703089800-1703100600@www.canadinns.com
SUMMARY:⚪ Resto 12 Home Game Day Buffet
DESCRIPTION:
URL:https://www.canadinns.com/event/resto-12-home-game-day-buffet-3-9/
LOCATION:Resto 12 ⚪
CATEGORIES:Special Events
ATTACH;FMTTYPE=image/jpeg:https://www.canadinns.com/wp-content/uploads/2023-10-05-CI-Resto12-Game-Day-Poster11x17-Sept2023-FNL-18939-1-scaled.jpg
END:VEVENT
BEGIN:VEVENT
DTSTART;TZID=America/Winnipeg:20231220T163000
DTEND;TZID=America/Winnipeg:20231220T203000
DTSTAMP:20260419T190204
CREATED:20231013T195645Z
LAST-MODIFIED:20231013T195645Z
UID:10028664-1703089800-1703104200@www.canadinns.com
SUMMARY:⚪ Resto 12 Home Game Beverage Special
DESCRIPTION:
URL:https://www.canadinns.com/event/resto-12-home-game-beverage-special-17/
LOCATION:Resto 12 ⚪
CATEGORIES:Special Events
ATTACH;FMTTYPE=image/jpeg:https://www.canadinns.com/wp-content/uploads/RESTO-12-DIGITAL_page-0001-scaled.jpg
END:VEVENT
BEGIN:VEVENT
DTSTART;TZID=America/Winnipeg:20231220T180000
DTEND;TZID=America/Winnipeg:20231220T220000
DTSTAMP:20260419T190204
CREATED:20231102T195933Z
LAST-MODIFIED:20231102T195943Z
UID:10028702-1703095200-1703109600@www.canadinns.com
SUMMARY:❄️ Canad Inns Winter Wonderland
DESCRIPTION:
URL:https://www.canadinns.com/event/canad-inns-winter-wonderland/2023-12-20/
LOCATION:Canad Inns Winter Wonderland ❄️
CATEGORIES:Special Events
ATTACH;FMTTYPE=image/jpeg:https://www.canadinns.com/wp-content/uploads/2023-11-01-CI-WinterWonderlandUpdates-IG1080x1080-FNL-19068.jpg
END:VEVENT
END:VCALENDAR