BEGIN:VCALENDAR
VERSION:2.0
PRODID:-//Canad Inns - ECPv6.15.17.1//NONSGML v1.0//EN
CALSCALE:GREGORIAN
METHOD:PUBLISH
X-ORIGINAL-URL:https://www.canadinns.com
X-WR-CALDESC:Events for Canad Inns
REFRESH-INTERVAL;VALUE=DURATION:PT1H
X-Robots-Tag:noindex
X-PUBLISHED-TTL:PT1H
BEGIN:VTIMEZONE
TZID:America/Winnipeg
BEGIN:DAYLIGHT
TZOFFSETFROM:-0600
TZOFFSETTO:-0500
TZNAME:CDT
DTSTART:20220313T080000
END:DAYLIGHT
BEGIN:STANDARD
TZOFFSETFROM:-0500
TZOFFSETTO:-0600
TZNAME:CST
DTSTART:20221106T070000
END:STANDARD
BEGIN:DAYLIGHT
TZOFFSETFROM:-0600
TZOFFSETTO:-0500
TZNAME:CDT
DTSTART:20230312T080000
END:DAYLIGHT
BEGIN:STANDARD
TZOFFSETFROM:-0500
TZOFFSETTO:-0600
TZNAME:CST
DTSTART:20231105T070000
END:STANDARD
BEGIN:DAYLIGHT
TZOFFSETFROM:-0600
TZOFFSETTO:-0500
TZNAME:CDT
DTSTART:20240310T080000
END:DAYLIGHT
BEGIN:STANDARD
TZOFFSETFROM:-0500
TZOFFSETTO:-0600
TZNAME:CST
DTSTART:20241103T070000
END:STANDARD
END:VTIMEZONE
BEGIN:VEVENT
DTSTART;VALUE=DATE:20231001
DTEND;VALUE=DATE:20231002
DTSTAMP:20260419T132900
CREATED:20231004T212517Z
LAST-MODIFIED:20231004T212517Z
UID:10028622-1696118400-1696204799@www.canadinns.com
SUMMARY:Women's History Month
DESCRIPTION:
URL:https://www.canadinns.com/event/womens-history-month/
CATEGORIES:Special Events
ATTACH;FMTTYPE=image/jpeg:https://www.canadinns.com/wp-content/uploads/2023-9-22-CI-OctoberSMGraphicsWomensHistoryMonth-August2023-FNL-18819.jpg
END:VEVENT
BEGIN:VEVENT
DTSTART;VALUE=DATE:20231001
DTEND;VALUE=DATE:20231002
DTSTAMP:20260419T132900
CREATED:20231004T212559Z
LAST-MODIFIED:20231004T212559Z
UID:10028623-1696118400-1696204799@www.canadinns.com
SUMMARY:German Heritage Month
DESCRIPTION:
URL:https://www.canadinns.com/event/german-heritage-month/
CATEGORIES:Special Events
ATTACH;FMTTYPE=image/jpeg:https://www.canadinns.com/wp-content/uploads/2023-9-22-CI-OctoberSMGraphicsGermanHeritage-August2023-FNL-18819.jpg
END:VEVENT
BEGIN:VEVENT
DTSTART;VALUE=DATE:20231001
DTEND;VALUE=DATE:20231002
DTSTAMP:20260419T132900
CREATED:20231004T212642Z
LAST-MODIFIED:20231004T212642Z
UID:10028624-1696118400-1696204799@www.canadinns.com
SUMMARY:Bullying Prevention Month
DESCRIPTION:
URL:https://www.canadinns.com/event/bullying-prevention-month/
CATEGORIES:Special Events
ATTACH;FMTTYPE=image/jpeg:https://www.canadinns.com/wp-content/uploads/2023-9-22-CI-OctoberSMGraphicsBullyingPrevention-August2023-FNL-18819.jpg
END:VEVENT
BEGIN:VEVENT
DTSTART;VALUE=DATE:20231001
DTEND;VALUE=DATE:20231002
DTSTAMP:20260419T132900
CREATED:20231004T212719Z
LAST-MODIFIED:20231004T212719Z
UID:10028625-1696118400-1696204799@www.canadinns.com
SUMMARY:Canadian Islamic History Month
DESCRIPTION:
URL:https://www.canadinns.com/event/canadian-islamic-history-month/
CATEGORIES:Special Events
ATTACH;FMTTYPE=image/jpeg:https://www.canadinns.com/wp-content/uploads/2023-9-22-CI-OctoberSMGraphicsCanadianIslamic-August2023-FNL-18819.jpg
END:VEVENT
BEGIN:VEVENT
DTSTART;VALUE=DATE:20231005
DTEND;VALUE=DATE:20231006
DTSTAMP:20260419T132900
CREATED:20231004T211339Z
LAST-MODIFIED:20231004T211339Z
UID:10028619-1696464000-1696550399@www.canadinns.com
SUMMARY:World Teacher's Day
DESCRIPTION:
URL:https://www.canadinns.com/event/world-teachers-day/
CATEGORIES:Special Events
ATTACH;FMTTYPE=image/jpeg:https://www.canadinns.com/wp-content/uploads/2023-9-22-CI-OctoberSMGraphicsWorldTeachersDay-August2023-FNL-18819.jpg
END:VEVENT
BEGIN:VEVENT
DTSTART;TZID=America/Winnipeg:20231005T190000
DTEND;TZID=America/Winnipeg:20231005T220000
DTSTAMP:20260419T132900
CREATED:20230920T193814Z
LAST-MODIFIED:20230920T193826Z
UID:10028613-1696532400-1696543200@www.canadinns.com
SUMMARY:🟠 Garbonzo’s Sports Pub – Trivia Thursdays
DESCRIPTION:
URL:https://www.canadinns.com/event/garbonzos-sports-pub-trivia-thursdays-9/2023-10-05/
LOCATION:Garbonzo’s 🟠
CATEGORIES:Special Events
ATTACH;FMTTYPE=image/jpeg:https://www.canadinns.com/wp-content/uploads/2023-11-18-CI-GSP-TriviaNights-SocialMedia-1080x1080-FNLNoBleed-18881.jpg
END:VEVENT
BEGIN:VEVENT
DTSTART;VALUE=DATE:20231010
DTEND;VALUE=DATE:20231011
DTSTAMP:20260419T132900
CREATED:20231004T211425Z
LAST-MODIFIED:20231004T211425Z
UID:10028620-1696896000-1696982399@www.canadinns.com
SUMMARY:World Mental Health Day
DESCRIPTION:
URL:https://www.canadinns.com/event/world-mental-health-day/
CATEGORIES:Special Events
ATTACH;FMTTYPE=image/jpeg:https://www.canadinns.com/wp-content/uploads/2023-9-22-CI-OctoberSMGraphicsWorldMentalHealth-August2023-FNL-18819.jpg
END:VEVENT
BEGIN:VEVENT
DTSTART;TZID=America/Winnipeg:20231014T163000
DTEND;TZID=America/Winnipeg:20231014T193000
DTSTAMP:20260419T132900
CREATED:20231013T160626Z
LAST-MODIFIED:20231013T160626Z
UID:10028627-1697301000-1697311800@www.canadinns.com
SUMMARY:⚪ Resto 12 Home Game Day Buffet
DESCRIPTION:
URL:https://www.canadinns.com/event/resto-12-home-game-day-buffet/
LOCATION:Resto 12 ⚪
CATEGORIES:Special Events
ATTACH;FMTTYPE=image/jpeg:https://www.canadinns.com/wp-content/uploads/2023-10-05-CI-Resto12-Game-Day-Poster11x17-Sept2023-FNL-18939-1-scaled.jpg
END:VEVENT
BEGIN:VEVENT
DTSTART;TZID=America/Winnipeg:20231014T163000
DTEND;TZID=America/Winnipeg:20231014T203000
DTSTAMP:20260419T132900
CREATED:20231013T190240Z
LAST-MODIFIED:20231013T190240Z
UID:10028646-1697301000-1697315400@www.canadinns.com
SUMMARY:⚪ Resto 12 Home Game Beverage Special
DESCRIPTION:
URL:https://www.canadinns.com/event/resto-12-home-game-beverage-special/
LOCATION:Resto 12 ⚪
CATEGORIES:Special Events
ATTACH;FMTTYPE=image/jpeg:https://www.canadinns.com/wp-content/uploads/RESTO-12-DIGITAL_page-0001-scaled.jpg
END:VEVENT
BEGIN:VEVENT
DTSTART;TZID=America/Winnipeg:20231017T163000
DTEND;TZID=America/Winnipeg:20231017T193000
DTSTAMP:20260419T132900
CREATED:20231013T161753Z
LAST-MODIFIED:20231013T161753Z
UID:10028628-1697560200-1697571000@www.canadinns.com
SUMMARY:⚪ Resto 12 Home Game Day Buffet
DESCRIPTION:
URL:https://www.canadinns.com/event/%e2%9a%aa-resto-12-home-game-day-buffet/
LOCATION:Resto 12 ⚪
CATEGORIES:Special Events
ATTACH;FMTTYPE=image/jpeg:https://www.canadinns.com/wp-content/uploads/2023-10-05-CI-Resto12-Game-Day-Poster11x17-Sept2023-FNL-18939-1-scaled.jpg
END:VEVENT
BEGIN:VEVENT
DTSTART;TZID=America/Winnipeg:20231017T163000
DTEND;TZID=America/Winnipeg:20231017T203000
DTSTAMP:20260419T132900
CREATED:20231013T190359Z
LAST-MODIFIED:20231013T190359Z
UID:10028647-1697560200-1697574600@www.canadinns.com
SUMMARY:⚪ Resto 12 Home Game Beverage Special
DESCRIPTION:
URL:https://www.canadinns.com/event/resto-12-home-game-beverage-special-2/
LOCATION:Resto 12 ⚪
CATEGORIES:Special Events
ATTACH;FMTTYPE=image/jpeg:https://www.canadinns.com/wp-content/uploads/RESTO-12-DIGITAL_page-0001-scaled.jpg
END:VEVENT
BEGIN:VEVENT
DTSTART;VALUE=DATE:20231018
DTEND;VALUE=DATE:20231019
DTSTAMP:20260419T132900
CREATED:20231004T211508Z
LAST-MODIFIED:20231004T212157Z
UID:10028621-1697587200-1697673599@www.canadinns.com
SUMMARY:Person's Day
DESCRIPTION:
URL:https://www.canadinns.com/event/persons-day/
CATEGORIES:Special Events
ATTACH;FMTTYPE=image/jpeg:https://www.canadinns.com/wp-content/uploads/2023-9-22-CI-OctoberSMGraphicsPersonsDay-August2023-FNL-18819.jpg
END:VEVENT
BEGIN:VEVENT
DTSTART;TZID=America/Winnipeg:20231019T163000
DTEND;TZID=America/Winnipeg:20231019T193000
DTSTAMP:20260419T132900
CREATED:20231013T191927Z
LAST-MODIFIED:20231013T191927Z
UID:10028651-1697733000-1697743800@www.canadinns.com
SUMMARY:⚪ Resto 12 Home Game Day Buffet
DESCRIPTION:
URL:https://www.canadinns.com/event/resto-12-home-game-day-buffet-3-12/
LOCATION:Resto 12 ⚪
CATEGORIES:Special Events
ATTACH;FMTTYPE=image/jpeg:https://www.canadinns.com/wp-content/uploads/2023-10-05-CI-Resto12-Game-Day-Poster11x17-Sept2023-FNL-18939-1-scaled.jpg
END:VEVENT
BEGIN:VEVENT
DTSTART;TZID=America/Winnipeg:20231019T163000
DTEND;TZID=America/Winnipeg:20231019T203000
DTSTAMP:20260419T132900
CREATED:20231013T190615Z
LAST-MODIFIED:20231013T190615Z
UID:10028648-1697733000-1697747400@www.canadinns.com
SUMMARY:⚪ Resto 12 Home Game Beverage Special
DESCRIPTION:
URL:https://www.canadinns.com/event/resto-12-home-game-beverage-special-3/
LOCATION:Resto 12 ⚪
CATEGORIES:Special Events
ATTACH;FMTTYPE=image/jpeg:https://www.canadinns.com/wp-content/uploads/RESTO-12-DIGITAL_page-0001-scaled.jpg
END:VEVENT
BEGIN:VEVENT
DTSTART;TZID=America/Winnipeg:20231019T190000
DTEND;TZID=America/Winnipeg:20231019T220000
DTSTAMP:20260419T132900
CREATED:20230920T193814Z
LAST-MODIFIED:20230920T193826Z
UID:10028614-1697742000-1697752800@www.canadinns.com
SUMMARY:🟠 Garbonzo’s Sports Pub – Trivia Thursdays
DESCRIPTION:
URL:https://www.canadinns.com/event/garbonzos-sports-pub-trivia-thursdays-9/2023-10-19/
LOCATION:Garbonzo’s 🟠
CATEGORIES:Special Events
ATTACH;FMTTYPE=image/jpeg:https://www.canadinns.com/wp-content/uploads/2023-11-18-CI-GSP-TriviaNights-SocialMedia-1080x1080-FNLNoBleed-18881.jpg
END:VEVENT
BEGIN:VEVENT
DTSTART;TZID=America/Winnipeg:20231024T163000
DTEND;TZID=America/Winnipeg:20231024T193000
DTSTAMP:20260419T132900
CREATED:20231013T163136Z
LAST-MODIFIED:20231013T163136Z
UID:10028630-1698165000-1698175800@www.canadinns.com
SUMMARY:⚪ Resto 12 Home Game Day Buffet
DESCRIPTION:
URL:https://www.canadinns.com/event/resto-12-home-game-day-buffet-2-2/
LOCATION:Resto 12 ⚪
CATEGORIES:Special Events
ATTACH;FMTTYPE=image/jpeg:https://www.canadinns.com/wp-content/uploads/2023-10-05-CI-Resto12-Game-Day-Poster11x17-Sept2023-FNL-18939-1-scaled.jpg
END:VEVENT
BEGIN:VEVENT
DTSTART;TZID=America/Winnipeg:20231024T163000
DTEND;TZID=America/Winnipeg:20231024T203000
DTSTAMP:20260419T132900
CREATED:20231013T191140Z
LAST-MODIFIED:20231013T191140Z
UID:10028649-1698165000-1698179400@www.canadinns.com
SUMMARY:⚪ Resto 12 Home Game Beverage Special
DESCRIPTION:
URL:https://www.canadinns.com/event/resto-12-home-game-beverage-special-4/
LOCATION:Resto 12 ⚪
CATEGORIES:Special Events
ATTACH;FMTTYPE=image/jpeg:https://www.canadinns.com/wp-content/uploads/RESTO-12-DIGITAL_page-0001-scaled.jpg
END:VEVENT
BEGIN:VEVENT
DTSTART;TZID=America/Winnipeg:20231030T163000
DTEND;TZID=America/Winnipeg:20231030T193000
DTSTAMP:20260419T132900
CREATED:20231013T165149Z
LAST-MODIFIED:20231013T165149Z
UID:10028631-1698683400-1698694200@www.canadinns.com
SUMMARY:⚪ Resto 12 Home Game Day Buffet
DESCRIPTION:
URL:https://www.canadinns.com/event/resto-12-home-game-day-buffet-2-3/
LOCATION:Resto 12 ⚪
CATEGORIES:Special Events
ATTACH;FMTTYPE=image/jpeg:https://www.canadinns.com/wp-content/uploads/2023-10-05-CI-Resto12-Game-Day-Poster11x17-Sept2023-FNL-18939-1-scaled.jpg
END:VEVENT
BEGIN:VEVENT
DTSTART;TZID=America/Winnipeg:20231030T163000
DTEND;TZID=America/Winnipeg:20231030T203000
DTSTAMP:20260419T132900
CREATED:20231013T191436Z
LAST-MODIFIED:20231013T191436Z
UID:10028650-1698683400-1698697800@www.canadinns.com
SUMMARY:⚪ Resto 12 Home Game Beverage Special
DESCRIPTION:
URL:https://www.canadinns.com/event/resto-12-home-game-beverage-special-5/
LOCATION:Resto 12 ⚪
CATEGORIES:Special Events
ATTACH;FMTTYPE=image/jpeg:https://www.canadinns.com/wp-content/uploads/RESTO-12-DIGITAL_page-0001-scaled.jpg
END:VEVENT
BEGIN:VEVENT
DTSTART;TZID=America/Winnipeg:20231031T000000
DTEND;TZID=America/Winnipeg:20231031T235900
DTSTAMP:20260419T132900
CREATED:20240920T210238Z
LAST-MODIFIED:20240920T210238Z
UID:10043205-1698710400-1698796740@www.canadinns.com
SUMMARY:Halloween
DESCRIPTION:🎃 Happy Halloween! 👻 \nIt’s that spooky time of the year!Whether you’re dressing up enjoying some treats or spending time with friends and family\, we hope your Halloween is filled with frights\, and fantastic memories. \nStay safe and enjoy all the spooky festivities!
URL:https://www.canadinns.com/event/halloween-2/
CATEGORIES:Special Events
ATTACH;FMTTYPE=image/png:https://www.canadinns.com/wp-content/uploads/Happy-Halloween-2024.png
END:VEVENT
BEGIN:VEVENT
DTSTART;VALUE=DATE:20231031
DTEND;VALUE=DATE:20231101
DTSTAMP:20260419T132900
CREATED:20231005T142721Z
LAST-MODIFIED:20231005T142721Z
UID:10028626-1698710400-1698796799@www.canadinns.com
SUMMARY:Halloween
DESCRIPTION:
URL:https://www.canadinns.com/event/halloween/
CATEGORIES:Special Events
ATTACH;FMTTYPE=image/png:https://www.canadinns.com/wp-content/uploads/Halloween.png
END:VEVENT
BEGIN:VEVENT
DTSTART;TZID=America/Winnipeg:20231102T190000
DTEND;TZID=America/Winnipeg:20231102T220000
DTSTAMP:20260419T132900
CREATED:20230920T193814Z
LAST-MODIFIED:20230920T193826Z
UID:10028615-1698951600-1698962400@www.canadinns.com
SUMMARY:🟠 Garbonzo’s Sports Pub – Trivia Thursdays
DESCRIPTION:
URL:https://www.canadinns.com/event/garbonzos-sports-pub-trivia-thursdays-9/2023-11-02/
LOCATION:Garbonzo’s 🟠
CATEGORIES:Special Events
ATTACH;FMTTYPE=image/jpeg:https://www.canadinns.com/wp-content/uploads/2023-11-18-CI-GSP-TriviaNights-SocialMedia-1080x1080-FNLNoBleed-18881.jpg
END:VEVENT
BEGIN:VEVENT
DTSTART;VALUE=DATE:20231105
DTEND;VALUE=DATE:20231112
DTSTAMP:20260419T132900
CREATED:20231030T150527Z
LAST-MODIFIED:20231030T150527Z
UID:10028667-1699142400-1699747199@www.canadinns.com
SUMMARY:Veterans Week
DESCRIPTION:
URL:https://www.canadinns.com/event/veterans-week/
CATEGORIES:Special Events
ATTACH;FMTTYPE=image/jpeg:https://www.canadinns.com/wp-content/uploads/2023-10-23-CI-SocialMediaVeteransWeek-FNL-18968.jpg
END:VEVENT
BEGIN:VEVENT
DTSTART;VALUE=DATE:20231108
DTEND;VALUE=DATE:20231109
DTSTAMP:20260419T132900
CREATED:20231030T161139Z
LAST-MODIFIED:20231030T161139Z
UID:10028677-1699401600-1699487999@www.canadinns.com
SUMMARY:Indigenous Veterans Day
DESCRIPTION:
URL:https://www.canadinns.com/event/indigenous-veterans-day/
CATEGORIES:Special Events
ATTACH;FMTTYPE=image/jpeg:https://www.canadinns.com/wp-content/uploads/2022-10-31-CI-SocialMediaIndigenousVeteransDay-FNL-17763.jpg
END:VEVENT
BEGIN:VEVENT
DTSTART;TZID=America/Winnipeg:20231109T163000
DTEND;TZID=America/Winnipeg:20231109T193000
DTSTAMP:20260419T132900
CREATED:20231013T165630Z
LAST-MODIFIED:20231013T165630Z
UID:10028632-1699547400-1699558200@www.canadinns.com
SUMMARY:⚪ Resto 12 Home Game Day Buffet
DESCRIPTION:
URL:https://www.canadinns.com/event/resto-12-home-game-day-buffet-2-4/
LOCATION:Resto 12 ⚪
CATEGORIES:Special Events
ATTACH;FMTTYPE=image/jpeg:https://www.canadinns.com/wp-content/uploads/2023-10-05-CI-Resto12-Game-Day-Poster11x17-Sept2023-FNL-18939-1-scaled.jpg
END:VEVENT
BEGIN:VEVENT
DTSTART;TZID=America/Winnipeg:20231109T163000
DTEND;TZID=America/Winnipeg:20231109T203000
DTSTAMP:20260419T132900
CREATED:20231013T192156Z
LAST-MODIFIED:20231013T192156Z
UID:10028652-1699547400-1699561800@www.canadinns.com
SUMMARY:⚪ Resto 12 Home Game Beverage Special
DESCRIPTION:
URL:https://www.canadinns.com/event/resto-12-home-game-beverage-special-6/
LOCATION:Resto 12 ⚪
CATEGORIES:Special Events
ATTACH;FMTTYPE=image/jpeg:https://www.canadinns.com/wp-content/uploads/RESTO-12-DIGITAL_page-0001-scaled.jpg
END:VEVENT
BEGIN:VEVENT
DTSTART;VALUE=DATE:20231111
DTEND;VALUE=DATE:20231112
DTSTAMP:20260419T132900
CREATED:20231030T161047Z
LAST-MODIFIED:20231030T161047Z
UID:10028676-1699660800-1699747199@www.canadinns.com
SUMMARY:Remembrance Day
DESCRIPTION:
URL:https://www.canadinns.com/event/remembrance-day/
CATEGORIES:Special Events
ATTACH;FMTTYPE=image/jpeg:https://www.canadinns.com/wp-content/uploads/2022-10-31-CI-SocialMediaRemebranceDay-FNL-17763.jpg
END:VEVENT
BEGIN:VEVENT
DTSTART;TZID=America/Winnipeg:20231111T163000
DTEND;TZID=America/Winnipeg:20231111T193000
DTSTAMP:20260419T132900
CREATED:20231013T172713Z
LAST-MODIFIED:20231013T172713Z
UID:10028633-1699720200-1699731000@www.canadinns.com
SUMMARY:⚪ Resto 12 Home Game Day Buffet
DESCRIPTION:
URL:https://www.canadinns.com/event/resto-12-home-game-day-buffet-2-5/
LOCATION:Resto 12 ⚪
CATEGORIES:Special Events
ATTACH;FMTTYPE=image/jpeg:https://www.canadinns.com/wp-content/uploads/2023-10-05-CI-Resto12-Game-Day-Poster11x17-Sept2023-FNL-18939-1-scaled.jpg
END:VEVENT
BEGIN:VEVENT
DTSTART;TZID=America/Winnipeg:20231111T163000
DTEND;TZID=America/Winnipeg:20231111T203000
DTSTAMP:20260419T132900
CREATED:20231013T192315Z
LAST-MODIFIED:20231013T192315Z
UID:10028653-1699720200-1699734600@www.canadinns.com
SUMMARY:⚪ Resto 12 Home Game Beverage Special
DESCRIPTION:
URL:https://www.canadinns.com/event/resto-12-home-game-beverage-special-7/
LOCATION:Resto 12 ⚪
CATEGORIES:Special Events
ATTACH;FMTTYPE=image/jpeg:https://www.canadinns.com/wp-content/uploads/RESTO-12-DIGITAL_page-0001-scaled.jpg
END:VEVENT
BEGIN:VEVENT
DTSTART;VALUE=DATE:20231112
DTEND;VALUE=DATE:20231113
DTSTAMP:20260419T132900
CREATED:20231030T152940Z
LAST-MODIFIED:20231030T152940Z
UID:10028670-1699747200-1699833599@www.canadinns.com
SUMMARY:Diwali
DESCRIPTION:
URL:https://www.canadinns.com/event/diwali/
CATEGORIES:Special Events
ATTACH;FMTTYPE=image/jpeg:https://www.canadinns.com/wp-content/uploads/2023-10-23-CI-SocialMediaDiwali-FNL-18968.jpg
END:VEVENT
END:VCALENDAR