BEGIN:VCALENDAR
VERSION:2.0
PRODID:-//Canad Inns - ECPv6.15.17.1//NONSGML v1.0//EN
CALSCALE:GREGORIAN
METHOD:PUBLISH
X-WR-CALNAME:Canad Inns
X-ORIGINAL-URL:https://www.canadinns.com
X-WR-CALDESC:Events for Canad Inns
REFRESH-INTERVAL;VALUE=DURATION:PT1H
X-Robots-Tag:noindex
X-PUBLISHED-TTL:PT1H
BEGIN:VTIMEZONE
TZID:America/Winnipeg
BEGIN:DAYLIGHT
TZOFFSETFROM:-0600
TZOFFSETTO:-0500
TZNAME:CDT
DTSTART:20220313T080000
END:DAYLIGHT
BEGIN:STANDARD
TZOFFSETFROM:-0500
TZOFFSETTO:-0600
TZNAME:CST
DTSTART:20221106T070000
END:STANDARD
BEGIN:DAYLIGHT
TZOFFSETFROM:-0600
TZOFFSETTO:-0500
TZNAME:CDT
DTSTART:20230312T080000
END:DAYLIGHT
BEGIN:STANDARD
TZOFFSETFROM:-0500
TZOFFSETTO:-0600
TZNAME:CST
DTSTART:20231105T070000
END:STANDARD
BEGIN:DAYLIGHT
TZOFFSETFROM:-0600
TZOFFSETTO:-0500
TZNAME:CDT
DTSTART:20240310T080000
END:DAYLIGHT
BEGIN:STANDARD
TZOFFSETFROM:-0500
TZOFFSETTO:-0600
TZNAME:CST
DTSTART:20241103T070000
END:STANDARD
BEGIN:DAYLIGHT
TZOFFSETFROM:-0600
TZOFFSETTO:-0500
TZNAME:CDT
DTSTART:20250309T080000
END:DAYLIGHT
BEGIN:STANDARD
TZOFFSETFROM:-0500
TZOFFSETTO:-0600
TZNAME:CST
DTSTART:20251102T070000
END:STANDARD
END:VTIMEZONE
BEGIN:VEVENT
DTSTART;TZID=America/Winnipeg:20231221T180000
DTEND;TZID=America/Winnipeg:20231221T220000
DTSTAMP:20260420T000259
CREATED:20231102T195933Z
LAST-MODIFIED:20231102T195943Z
UID:10028703-1703181600-1703196000@www.canadinns.com
SUMMARY:❄️ Canad Inns Winter Wonderland
DESCRIPTION:
URL:https://www.canadinns.com/event/canad-inns-winter-wonderland/2023-12-21/
LOCATION:Canad Inns Winter Wonderland ❄️
CATEGORIES:Special Events
ATTACH;FMTTYPE=image/jpeg:https://www.canadinns.com/wp-content/uploads/2023-11-01-CI-WinterWonderlandUpdates-IG1080x1080-FNL-19068.jpg
END:VEVENT
BEGIN:VEVENT
DTSTART;TZID=America/Winnipeg:20231222T163000
DTEND;TZID=America/Winnipeg:20231222T193000
DTSTAMP:20260420T000300
CREATED:20231013T184939Z
LAST-MODIFIED:20231013T185039Z
UID:10028644-1703262600-1703273400@www.canadinns.com
SUMMARY:⚪ Resto 12 Home Game Day Buffet
DESCRIPTION:
URL:https://www.canadinns.com/event/resto-12-home-game-day-buffet-3-10/
LOCATION:Resto 12 ⚪
CATEGORIES:Special Events
ATTACH;FMTTYPE=image/jpeg:https://www.canadinns.com/wp-content/uploads/2023-10-05-CI-Resto12-Game-Day-Poster11x17-Sept2023-FNL-18939-1-scaled.jpg
END:VEVENT
BEGIN:VEVENT
DTSTART;TZID=America/Winnipeg:20231222T163000
DTEND;TZID=America/Winnipeg:20231222T203000
DTSTAMP:20260420T000300
CREATED:20231013T195857Z
LAST-MODIFIED:20231013T195857Z
UID:10028665-1703262600-1703277000@www.canadinns.com
SUMMARY:⚪ Resto 12 Home Game Beverage Special
DESCRIPTION:
URL:https://www.canadinns.com/event/resto-12-home-game-beverage-special-18/
LOCATION:Resto 12 ⚪
CATEGORIES:Special Events
ATTACH;FMTTYPE=image/jpeg:https://www.canadinns.com/wp-content/uploads/RESTO-12-DIGITAL_page-0001-scaled.jpg
END:VEVENT
BEGIN:VEVENT
DTSTART;TZID=America/Winnipeg:20231222T180000
DTEND;TZID=America/Winnipeg:20231222T220000
DTSTAMP:20260420T000300
CREATED:20231102T195933Z
LAST-MODIFIED:20231102T195943Z
UID:10028704-1703268000-1703282400@www.canadinns.com
SUMMARY:❄️ Canad Inns Winter Wonderland
DESCRIPTION:
URL:https://www.canadinns.com/event/canad-inns-winter-wonderland/2023-12-22/
LOCATION:Canad Inns Winter Wonderland ❄️
CATEGORIES:Special Events
ATTACH;FMTTYPE=image/jpeg:https://www.canadinns.com/wp-content/uploads/2023-11-01-CI-WinterWonderlandUpdates-IG1080x1080-FNL-19068.jpg
END:VEVENT
BEGIN:VEVENT
DTSTART;TZID=America/Winnipeg:20231223T180000
DTEND;TZID=America/Winnipeg:20231223T220000
DTSTAMP:20260420T000300
CREATED:20231102T195933Z
LAST-MODIFIED:20231102T195943Z
UID:10028705-1703354400-1703368800@www.canadinns.com
SUMMARY:❄️ Canad Inns Winter Wonderland
DESCRIPTION:
URL:https://www.canadinns.com/event/canad-inns-winter-wonderland/2023-12-23/
LOCATION:Canad Inns Winter Wonderland ❄️
CATEGORIES:Special Events
ATTACH;FMTTYPE=image/jpeg:https://www.canadinns.com/wp-content/uploads/2023-11-01-CI-WinterWonderlandUpdates-IG1080x1080-FNL-19068.jpg
END:VEVENT
BEGIN:VEVENT
DTSTART;TZID=America/Winnipeg:20231224T180000
DTEND;TZID=America/Winnipeg:20231224T220000
DTSTAMP:20260420T000300
CREATED:20231102T195933Z
LAST-MODIFIED:20231102T195943Z
UID:10028706-1703440800-1703455200@www.canadinns.com
SUMMARY:❄️ Canad Inns Winter Wonderland
DESCRIPTION:
URL:https://www.canadinns.com/event/canad-inns-winter-wonderland/2023-12-24/
LOCATION:Canad Inns Winter Wonderland ❄️
CATEGORIES:Special Events
ATTACH;FMTTYPE=image/jpeg:https://www.canadinns.com/wp-content/uploads/2023-11-01-CI-WinterWonderlandUpdates-IG1080x1080-FNL-19068.jpg
END:VEVENT
BEGIN:VEVENT
DTSTART;TZID=America/Winnipeg:20231225T180000
DTEND;TZID=America/Winnipeg:20231225T220000
DTSTAMP:20260420T000300
CREATED:20231102T195933Z
LAST-MODIFIED:20231102T195943Z
UID:10028707-1703527200-1703541600@www.canadinns.com
SUMMARY:❄️ Canad Inns Winter Wonderland
DESCRIPTION:
URL:https://www.canadinns.com/event/canad-inns-winter-wonderland/2023-12-25/
LOCATION:Canad Inns Winter Wonderland ❄️
CATEGORIES:Special Events
ATTACH;FMTTYPE=image/jpeg:https://www.canadinns.com/wp-content/uploads/2023-11-01-CI-WinterWonderlandUpdates-IG1080x1080-FNL-19068.jpg
END:VEVENT
BEGIN:VEVENT
DTSTART;TZID=America/Winnipeg:20231226T180000
DTEND;TZID=America/Winnipeg:20231226T220000
DTSTAMP:20260420T000300
CREATED:20231102T195933Z
LAST-MODIFIED:20231102T195943Z
UID:10028708-1703613600-1703628000@www.canadinns.com
SUMMARY:❄️ Canad Inns Winter Wonderland
DESCRIPTION:
URL:https://www.canadinns.com/event/canad-inns-winter-wonderland/2023-12-26/
LOCATION:Canad Inns Winter Wonderland ❄️
CATEGORIES:Special Events
ATTACH;FMTTYPE=image/jpeg:https://www.canadinns.com/wp-content/uploads/2023-11-01-CI-WinterWonderlandUpdates-IG1080x1080-FNL-19068.jpg
END:VEVENT
BEGIN:VEVENT
DTSTART;TZID=America/Winnipeg:20231227T180000
DTEND;TZID=America/Winnipeg:20231227T220000
DTSTAMP:20260420T000300
CREATED:20231102T195933Z
LAST-MODIFIED:20231102T195943Z
UID:10028709-1703700000-1703714400@www.canadinns.com
SUMMARY:❄️ Canad Inns Winter Wonderland
DESCRIPTION:
URL:https://www.canadinns.com/event/canad-inns-winter-wonderland/2023-12-27/
LOCATION:Canad Inns Winter Wonderland ❄️
CATEGORIES:Special Events
ATTACH;FMTTYPE=image/jpeg:https://www.canadinns.com/wp-content/uploads/2023-11-01-CI-WinterWonderlandUpdates-IG1080x1080-FNL-19068.jpg
END:VEVENT
BEGIN:VEVENT
DTSTART;TZID=America/Winnipeg:20231228T180000
DTEND;TZID=America/Winnipeg:20231228T220000
DTSTAMP:20260420T000300
CREATED:20231102T195933Z
LAST-MODIFIED:20231102T195943Z
UID:10028710-1703786400-1703800800@www.canadinns.com
SUMMARY:❄️ Canad Inns Winter Wonderland
DESCRIPTION:
URL:https://www.canadinns.com/event/canad-inns-winter-wonderland/2023-12-28/
LOCATION:Canad Inns Winter Wonderland ❄️
CATEGORIES:Special Events
ATTACH;FMTTYPE=image/jpeg:https://www.canadinns.com/wp-content/uploads/2023-11-01-CI-WinterWonderlandUpdates-IG1080x1080-FNL-19068.jpg
END:VEVENT
BEGIN:VEVENT
DTSTART;TZID=America/Winnipeg:20231229T180000
DTEND;TZID=America/Winnipeg:20231229T220000
DTSTAMP:20260420T000300
CREATED:20231102T195933Z
LAST-MODIFIED:20231102T195943Z
UID:10028711-1703872800-1703887200@www.canadinns.com
SUMMARY:❄️ Canad Inns Winter Wonderland
DESCRIPTION:
URL:https://www.canadinns.com/event/canad-inns-winter-wonderland/2023-12-29/
LOCATION:Canad Inns Winter Wonderland ❄️
CATEGORIES:Special Events
ATTACH;FMTTYPE=image/jpeg:https://www.canadinns.com/wp-content/uploads/2023-11-01-CI-WinterWonderlandUpdates-IG1080x1080-FNL-19068.jpg
END:VEVENT
BEGIN:VEVENT
DTSTART;TZID=America/Winnipeg:20231230T163000
DTEND;TZID=America/Winnipeg:20231230T193000
DTSTAMP:20260420T000300
CREATED:20231013T185517Z
LAST-MODIFIED:20231013T185517Z
UID:10028645-1703953800-1703964600@www.canadinns.com
SUMMARY:⚪ Resto 12 Home Game Day Buffet
DESCRIPTION:
URL:https://www.canadinns.com/event/resto-12-home-game-day-buffet-3-11/
LOCATION:Resto 12 ⚪
CATEGORIES:Special Events
ATTACH;FMTTYPE=image/jpeg:https://www.canadinns.com/wp-content/uploads/2023-10-05-CI-Resto12-Game-Day-Poster11x17-Sept2023-FNL-18939-1-scaled.jpg
END:VEVENT
BEGIN:VEVENT
DTSTART;TZID=America/Winnipeg:20231230T163000
DTEND;TZID=America/Winnipeg:20231230T203000
DTSTAMP:20260420T000300
CREATED:20231013T195956Z
LAST-MODIFIED:20231013T195956Z
UID:10028666-1703953800-1703968200@www.canadinns.com
SUMMARY:⚪ Resto 12 Home Game Beverage Special
DESCRIPTION:
URL:https://www.canadinns.com/event/resto-12-home-game-beverage-special-19/
LOCATION:Resto 12 ⚪
CATEGORIES:Special Events
ATTACH;FMTTYPE=image/jpeg:https://www.canadinns.com/wp-content/uploads/RESTO-12-DIGITAL_page-0001-scaled.jpg
END:VEVENT
BEGIN:VEVENT
DTSTART;TZID=America/Winnipeg:20231230T180000
DTEND;TZID=America/Winnipeg:20231230T220000
DTSTAMP:20260420T000300
CREATED:20231102T195933Z
LAST-MODIFIED:20231102T195943Z
UID:10028712-1703959200-1703973600@www.canadinns.com
SUMMARY:❄️ Canad Inns Winter Wonderland
DESCRIPTION:
URL:https://www.canadinns.com/event/canad-inns-winter-wonderland/2023-12-30/
LOCATION:Canad Inns Winter Wonderland ❄️
CATEGORIES:Special Events
ATTACH;FMTTYPE=image/jpeg:https://www.canadinns.com/wp-content/uploads/2023-11-01-CI-WinterWonderlandUpdates-IG1080x1080-FNL-19068.jpg
END:VEVENT
BEGIN:VEVENT
DTSTART;TZID=America/Winnipeg:20231231T180000
DTEND;TZID=America/Winnipeg:20231231T220000
DTSTAMP:20260420T000300
CREATED:20231102T195933Z
LAST-MODIFIED:20231102T195943Z
UID:10028713-1704045600-1704060000@www.canadinns.com
SUMMARY:❄️ Canad Inns Winter Wonderland
DESCRIPTION:
URL:https://www.canadinns.com/event/canad-inns-winter-wonderland/2023-12-31/
LOCATION:Canad Inns Winter Wonderland ❄️
CATEGORIES:Special Events
ATTACH;FMTTYPE=image/jpeg:https://www.canadinns.com/wp-content/uploads/2023-11-01-CI-WinterWonderlandUpdates-IG1080x1080-FNL-19068.jpg
END:VEVENT
BEGIN:VEVENT
DTSTART;TZID=America/Winnipeg:20240101T180000
DTEND;TZID=America/Winnipeg:20240101T220000
DTSTAMP:20260420T000300
CREATED:20231102T195933Z
LAST-MODIFIED:20231102T195943Z
UID:10028714-1704132000-1704146400@www.canadinns.com
SUMMARY:❄️ Canad Inns Winter Wonderland
DESCRIPTION:
URL:https://www.canadinns.com/event/canad-inns-winter-wonderland/2024-01-01/
LOCATION:Canad Inns Winter Wonderland ❄️
CATEGORIES:Special Events
ATTACH;FMTTYPE=image/jpeg:https://www.canadinns.com/wp-content/uploads/2023-11-01-CI-WinterWonderlandUpdates-IG1080x1080-FNL-19068.jpg
END:VEVENT
BEGIN:VEVENT
DTSTART;VALUE=DATE:20240102
DTEND;VALUE=DATE:20240103
DTSTAMP:20260420T000300
CREATED:20231219T190534Z
LAST-MODIFIED:20231219T190534Z
UID:10028955-1704153600-1704239999@www.canadinns.com
SUMMARY:National Buffet Day
DESCRIPTION:
URL:https://www.canadinns.com/event/national-buffet-day/
CATEGORIES:Special Events
END:VEVENT
BEGIN:VEVENT
DTSTART;TZID=America/Winnipeg:20240102T180000
DTEND;TZID=America/Winnipeg:20240102T220000
DTSTAMP:20260420T000300
CREATED:20231102T195933Z
LAST-MODIFIED:20231102T195943Z
UID:10028715-1704218400-1704232800@www.canadinns.com
SUMMARY:❄️ Canad Inns Winter Wonderland
DESCRIPTION:
URL:https://www.canadinns.com/event/canad-inns-winter-wonderland/2024-01-02/
LOCATION:Canad Inns Winter Wonderland ❄️
CATEGORIES:Special Events
ATTACH;FMTTYPE=image/jpeg:https://www.canadinns.com/wp-content/uploads/2023-11-01-CI-WinterWonderlandUpdates-IG1080x1080-FNL-19068.jpg
END:VEVENT
BEGIN:VEVENT
DTSTART;TZID=America/Winnipeg:20240103T180000
DTEND;TZID=America/Winnipeg:20240103T220000
DTSTAMP:20260420T000300
CREATED:20231102T195933Z
LAST-MODIFIED:20231102T195943Z
UID:10028716-1704304800-1704319200@www.canadinns.com
SUMMARY:❄️ Canad Inns Winter Wonderland
DESCRIPTION:
URL:https://www.canadinns.com/event/canad-inns-winter-wonderland/2024-01-03/
LOCATION:Canad Inns Winter Wonderland ❄️
CATEGORIES:Special Events
ATTACH;FMTTYPE=image/jpeg:https://www.canadinns.com/wp-content/uploads/2023-11-01-CI-WinterWonderlandUpdates-IG1080x1080-FNL-19068.jpg
END:VEVENT
BEGIN:VEVENT
DTSTART;TZID=America/Winnipeg:20240104T180000
DTEND;TZID=America/Winnipeg:20240104T220000
DTSTAMP:20260420T000300
CREATED:20231102T195933Z
LAST-MODIFIED:20231102T195943Z
UID:10028717-1704391200-1704405600@www.canadinns.com
SUMMARY:❄️ Canad Inns Winter Wonderland
DESCRIPTION:
URL:https://www.canadinns.com/event/canad-inns-winter-wonderland/2024-01-04/
LOCATION:Canad Inns Winter Wonderland ❄️
CATEGORIES:Special Events
ATTACH;FMTTYPE=image/jpeg:https://www.canadinns.com/wp-content/uploads/2023-11-01-CI-WinterWonderlandUpdates-IG1080x1080-FNL-19068.jpg
END:VEVENT
BEGIN:VEVENT
DTSTART;TZID=America/Winnipeg:20240105T180000
DTEND;TZID=America/Winnipeg:20240105T220000
DTSTAMP:20260420T000300
CREATED:20231102T195933Z
LAST-MODIFIED:20231102T195943Z
UID:10028718-1704477600-1704492000@www.canadinns.com
SUMMARY:❄️ Canad Inns Winter Wonderland
DESCRIPTION:
URL:https://www.canadinns.com/event/canad-inns-winter-wonderland/2024-01-05/
LOCATION:Canad Inns Winter Wonderland ❄️
CATEGORIES:Special Events
ATTACH;FMTTYPE=image/jpeg:https://www.canadinns.com/wp-content/uploads/2023-11-01-CI-WinterWonderlandUpdates-IG1080x1080-FNL-19068.jpg
END:VEVENT
BEGIN:VEVENT
DTSTART;TZID=America/Winnipeg:20240106T180000
DTEND;TZID=America/Winnipeg:20240106T220000
DTSTAMP:20260420T000300
CREATED:20231102T195933Z
LAST-MODIFIED:20231102T195943Z
UID:10028719-1704564000-1704578400@www.canadinns.com
SUMMARY:❄️ Canad Inns Winter Wonderland
DESCRIPTION:
URL:https://www.canadinns.com/event/canad-inns-winter-wonderland/2024-01-06/
LOCATION:Canad Inns Winter Wonderland ❄️
CATEGORIES:Special Events
ATTACH;FMTTYPE=image/jpeg:https://www.canadinns.com/wp-content/uploads/2023-11-01-CI-WinterWonderlandUpdates-IG1080x1080-FNL-19068.jpg
END:VEVENT
BEGIN:VEVENT
DTSTART;TZID=America/Winnipeg:20240127T200000
DTEND;TZID=America/Winnipeg:20240127T220000
DTSTAMP:20260420T000300
CREATED:20240112T213015Z
LAST-MODIFIED:20240112T213015Z
UID:10028965-1706385600-1706392800@www.canadinns.com
SUMMARY:🟠 WWE Royale Rumble
DESCRIPTION:WWE ROYAL RUMBLE - Watch it LIVE on Saturday\, January 27th at Garbonzo's Sports Pub Polo Park! 2 for $25 Appy's + Drink Specials all night long!\n\nBook your table now by phone at 204.269.5000 Ext 1.
URL:https://www.canadinns.com/event/wwe-royale-rumble/
LOCATION:Garbonzo’s 🟠
CATEGORIES:Special Events
ATTACH;FMTTYPE=image/jpeg:https://www.canadinns.com/wp-content/uploads/RoyalRumble1.jpg
END:VEVENT
BEGIN:VEVENT
DTSTART;TZID=America/Winnipeg:20240127T200000
DTEND;TZID=America/Winnipeg:20240127T230000
DTSTAMP:20260420T000300
CREATED:20240112T213132Z
LAST-MODIFIED:20240112T213132Z
UID:10028966-1706385600-1706396400@www.canadinns.com
SUMMARY:🔵 WWE Royale Rumble
DESCRIPTION:WWE ROYAL RUMBLE - Watch it LIVE on Saturday\, January 27th at tavern United Windsor Park!
URL:https://www.canadinns.com/event/wwe-royale-rumble-2/
LOCATION:Tavern United 🔵
CATEGORIES:Special Events
ATTACH;FMTTYPE=image/jpeg:https://www.canadinns.com/wp-content/uploads/RoyalRumble1.jpg
END:VEVENT
BEGIN:VEVENT
DTSTART;TZID=America/Winnipeg:20240201T080000
DTEND;TZID=America/Winnipeg:20240201T170000
DTSTAMP:20260420T000300
CREATED:20240126T204951Z
LAST-MODIFIED:20240126T205009Z
UID:10029128-1706774400-1706806800@www.canadinns.com
SUMMARY:🔵 Burger It Forward - Tavern United
DESCRIPTION:
URL:https://www.canadinns.com/event/burger-it-forward-tavern-united/2024-02-01/
LOCATION:Tavern United 🔵
CATEGORIES:Special Events
ATTACH;FMTTYPE=image/jpeg:https://www.canadinns.com/wp-content/uploads/2024-01-23-CI-Burger-It-Forward-SOCIAL-1080x1080-Jan2024-FNL-19335.jpg
END:VEVENT
BEGIN:VEVENT
DTSTART;TZID=America/Winnipeg:20240201T110000
DTEND;TZID=America/Winnipeg:20240201T220000
DTSTAMP:20260420T000300
CREATED:20240126T204727Z
LAST-MODIFIED:20240126T204727Z
UID:10029099-1706785200-1706824800@www.canadinns.com
SUMMARY:🟠 Burger It Forward - Garbonzo's
DESCRIPTION:
URL:https://www.canadinns.com/event/burger-it-forward-garbonzos/2024-02-01/
LOCATION:Garbonzo’s 🟠
CATEGORIES:Special Events
ATTACH;FMTTYPE=image/jpeg:https://www.canadinns.com/wp-content/uploads/2024-01-23-CI-Burger-It-Forward-SOCIAL-1080x1080-Jan2024-FNL-19335.jpg
END:VEVENT
BEGIN:VEVENT
DTSTART;TZID=America/Winnipeg:20240201T113000
DTEND;TZID=America/Winnipeg:20240201T203000
DTSTAMP:20260420T000300
CREATED:20240126T204512Z
LAST-MODIFIED:20240126T204512Z
UID:10029070-1706787000-1706819400@www.canadinns.com
SUMMARY:⚪ Burger It Forward - Resto 12
DESCRIPTION:
URL:https://www.canadinns.com/event/burger-it-forward-resto-12/2024-02-01/
LOCATION:Resto 12 ⚪
CATEGORIES:Special Events
ATTACH;FMTTYPE=image/jpeg:https://www.canadinns.com/wp-content/uploads/2024-01-23-CI-Burger-It-Forward-SOCIAL-1080x1080-Jan2024-FNL-19335.jpg
END:VEVENT
BEGIN:VEVENT
DTSTART;TZID=America/Winnipeg:20240202T080000
DTEND;TZID=America/Winnipeg:20240202T170000
DTSTAMP:20260420T000300
CREATED:20240126T204951Z
LAST-MODIFIED:20240126T205009Z
UID:10029129-1706860800-1706893200@www.canadinns.com
SUMMARY:🔵 Burger It Forward - Tavern United
DESCRIPTION:
URL:https://www.canadinns.com/event/burger-it-forward-tavern-united/2024-02-02/
LOCATION:Tavern United 🔵
CATEGORIES:Special Events
ATTACH;FMTTYPE=image/jpeg:https://www.canadinns.com/wp-content/uploads/2024-01-23-CI-Burger-It-Forward-SOCIAL-1080x1080-Jan2024-FNL-19335.jpg
END:VEVENT
BEGIN:VEVENT
DTSTART;TZID=America/Winnipeg:20240202T110000
DTEND;TZID=America/Winnipeg:20240202T220000
DTSTAMP:20260420T000300
CREATED:20240126T204727Z
LAST-MODIFIED:20240126T204727Z
UID:10029100-1706871600-1706911200@www.canadinns.com
SUMMARY:🟠 Burger It Forward - Garbonzo's
DESCRIPTION:
URL:https://www.canadinns.com/event/burger-it-forward-garbonzos/2024-02-02/
LOCATION:Garbonzo’s 🟠
CATEGORIES:Special Events
ATTACH;FMTTYPE=image/jpeg:https://www.canadinns.com/wp-content/uploads/2024-01-23-CI-Burger-It-Forward-SOCIAL-1080x1080-Jan2024-FNL-19335.jpg
END:VEVENT
BEGIN:VEVENT
DTSTART;TZID=America/Winnipeg:20240202T113000
DTEND;TZID=America/Winnipeg:20240202T203000
DTSTAMP:20260420T000300
CREATED:20240126T204512Z
LAST-MODIFIED:20240126T204512Z
UID:10029071-1706873400-1706905800@www.canadinns.com
SUMMARY:⚪ Burger It Forward - Resto 12
DESCRIPTION:
URL:https://www.canadinns.com/event/burger-it-forward-resto-12/2024-02-02/
LOCATION:Resto 12 ⚪
CATEGORIES:Special Events
ATTACH;FMTTYPE=image/jpeg:https://www.canadinns.com/wp-content/uploads/2024-01-23-CI-Burger-It-Forward-SOCIAL-1080x1080-Jan2024-FNL-19335.jpg
END:VEVENT
END:VCALENDAR