BEGIN:VCALENDAR
VERSION:2.0
PRODID:-//Canad Inns - ECPv6.15.17.1//NONSGML v1.0//EN
CALSCALE:GREGORIAN
METHOD:PUBLISH
X-WR-CALNAME:Canad Inns
X-ORIGINAL-URL:https://www.canadinns.com
X-WR-CALDESC:Events for Canad Inns
REFRESH-INTERVAL;VALUE=DURATION:PT1H
X-Robots-Tag:noindex
X-PUBLISHED-TTL:PT1H
BEGIN:VTIMEZONE
TZID:America/Winnipeg
BEGIN:DAYLIGHT
TZOFFSETFROM:-0600
TZOFFSETTO:-0500
TZNAME:CDT
DTSTART:20220313T080000
END:DAYLIGHT
BEGIN:STANDARD
TZOFFSETFROM:-0500
TZOFFSETTO:-0600
TZNAME:CST
DTSTART:20221106T070000
END:STANDARD
BEGIN:DAYLIGHT
TZOFFSETFROM:-0600
TZOFFSETTO:-0500
TZNAME:CDT
DTSTART:20230312T080000
END:DAYLIGHT
BEGIN:STANDARD
TZOFFSETFROM:-0500
TZOFFSETTO:-0600
TZNAME:CST
DTSTART:20231105T070000
END:STANDARD
BEGIN:DAYLIGHT
TZOFFSETFROM:-0600
TZOFFSETTO:-0500
TZNAME:CDT
DTSTART:20240310T080000
END:DAYLIGHT
BEGIN:STANDARD
TZOFFSETFROM:-0500
TZOFFSETTO:-0600
TZNAME:CST
DTSTART:20241103T070000
END:STANDARD
END:VTIMEZONE
BEGIN:VEVENT
DTSTART;VALUE=DATE:20230903
DTEND;VALUE=DATE:20230910
DTSTAMP:20260420T025856
CREATED:20230816T181508Z
LAST-MODIFIED:20230816T181508Z
UID:10028168-1693699200-1694303999@www.canadinns.com
SUMMARY:Mennonite Heritage Week
DESCRIPTION:
URL:https://www.canadinns.com/event/mennonite-heritage-week/
CATEGORIES:Special Events
ATTACH;FMTTYPE=image/jpeg:https://www.canadinns.com/wp-content/uploads/2023-08-14-CI-SocialMediaGraphicsSepMennoiteHeritage-Aug2023-FNL-18718.jpg
END:VEVENT
BEGIN:VEVENT
DTSTART;VALUE=DATE:20230903
DTEND;VALUE=DATE:20230910
DTSTAMP:20260420T025856
CREATED:20230816T181733Z
LAST-MODIFIED:20230816T181733Z
UID:10028169-1693699200-1694303999@www.canadinns.com
SUMMARY:National Housekeepers Week
DESCRIPTION:
URL:https://www.canadinns.com/event/national-housekeepers-week/
CATEGORIES:Special Events
ATTACH;FMTTYPE=image/jpeg:https://www.canadinns.com/wp-content/uploads/2023-08-14-CI-SocialMediaGraphicsSepHousekeepersWeek-Aug2023-FNL-18718.jpg
END:VEVENT
BEGIN:VEVENT
DTSTART;VALUE=DATE:20230908
DTEND;VALUE=DATE:20230909
DTSTAMP:20260420T025856
CREATED:20230816T182000Z
LAST-MODIFIED:20230816T182000Z
UID:10028170-1694131200-1694217599@www.canadinns.com
SUMMARY:International Literacy Day
DESCRIPTION:
URL:https://www.canadinns.com/event/international-literacy-day/
CATEGORIES:Special Events
ATTACH;FMTTYPE=image/jpeg:https://www.canadinns.com/wp-content/uploads/2023-08-14-CI-SocialMediaGraphicsSepLiteracyDay-Aug2023-FNL-18718.jpg
END:VEVENT
BEGIN:VEVENT
DTSTART;TZID=America/Winnipeg:20230908T080000
DTEND;TZID=America/Winnipeg:20230908T233000
DTSTAMP:20260420T025856
CREATED:20230828T142000Z
LAST-MODIFIED:20230831T150325Z
UID:10028181-1694160000-1694215800@www.canadinns.com
SUMMARY:🟠 Le Burger Week - Garbonzo's
DESCRIPTION:
URL:https://www.canadinns.com/event/le-burger-week-garbonzos/2023-09-08/
LOCATION:Garbonzo’s 🟠
CATEGORIES:Special Events
ATTACH;FMTTYPE=image/jpeg:https://www.canadinns.com/wp-content/uploads/18778-CI-TU-GSP-SocialMedia-LeBurgerWeekMenu1080x1080-Aug2023-FNL-1.jpg
END:VEVENT
BEGIN:VEVENT
DTSTART;TZID=America/Winnipeg:20230908T080000
DTEND;TZID=America/Winnipeg:20230908T233000
DTSTAMP:20260420T025856
CREATED:20230830T194056Z
LAST-MODIFIED:20230830T194257Z
UID:10028561-1694160000-1694215800@www.canadinns.com
SUMMARY:🔵 Le Burger Week - Tavern United
DESCRIPTION:
URL:https://www.canadinns.com/event/le-burger-week-tavern-united/2023-09-08/
LOCATION:Tavern United 🔵
CATEGORIES:Special Events
ATTACH;FMTTYPE=image/jpeg:https://www.canadinns.com/wp-content/uploads/18778-CI-TU-GSP-SocialMedia-LeBurgerWeekMenu1080x1080-Aug2023-FNL-1.jpg
END:VEVENT
BEGIN:VEVENT
DTSTART;TZID=America/Winnipeg:20230909T080000
DTEND;TZID=America/Winnipeg:20230909T233000
DTSTAMP:20260420T025856
CREATED:20230828T142000Z
LAST-MODIFIED:20230831T150325Z
UID:10028182-1694246400-1694302200@www.canadinns.com
SUMMARY:🟠 Le Burger Week - Garbonzo's
DESCRIPTION:
URL:https://www.canadinns.com/event/le-burger-week-garbonzos/2023-09-09/
LOCATION:Garbonzo’s 🟠
CATEGORIES:Special Events
ATTACH;FMTTYPE=image/jpeg:https://www.canadinns.com/wp-content/uploads/18778-CI-TU-GSP-SocialMedia-LeBurgerWeekMenu1080x1080-Aug2023-FNL-1.jpg
END:VEVENT
BEGIN:VEVENT
DTSTART;TZID=America/Winnipeg:20230909T080000
DTEND;TZID=America/Winnipeg:20230909T233000
DTSTAMP:20260420T025856
CREATED:20230830T194056Z
LAST-MODIFIED:20230830T194257Z
UID:10028562-1694246400-1694302200@www.canadinns.com
SUMMARY:🔵 Le Burger Week - Tavern United
DESCRIPTION:
URL:https://www.canadinns.com/event/le-burger-week-tavern-united/2023-09-09/
LOCATION:Tavern United 🔵
CATEGORIES:Special Events
ATTACH;FMTTYPE=image/jpeg:https://www.canadinns.com/wp-content/uploads/18778-CI-TU-GSP-SocialMedia-LeBurgerWeekMenu1080x1080-Aug2023-FNL-1.jpg
END:VEVENT
BEGIN:VEVENT
DTSTART;VALUE=DATE:20230910
DTEND;VALUE=DATE:20230911
DTSTAMP:20260420T025856
CREATED:20230816T182355Z
LAST-MODIFIED:20230816T182355Z
UID:10028171-1694304000-1694390399@www.canadinns.com
SUMMARY:Grandparents Day
DESCRIPTION:
URL:https://www.canadinns.com/event/grandparents-day/
CATEGORIES:Special Events
ATTACH;FMTTYPE=image/jpeg:https://www.canadinns.com/wp-content/uploads/2023-08-14-CI-SocialMediaGraphicsSepGrandparentsDay-Aug2023-FNL-18718.jpg
END:VEVENT
BEGIN:VEVENT
DTSTART;TZID=America/Winnipeg:20230910T080000
DTEND;TZID=America/Winnipeg:20230910T233000
DTSTAMP:20260420T025856
CREATED:20230828T142000Z
LAST-MODIFIED:20230831T150325Z
UID:10028183-1694332800-1694388600@www.canadinns.com
SUMMARY:🟠 Le Burger Week - Garbonzo's
DESCRIPTION:
URL:https://www.canadinns.com/event/le-burger-week-garbonzos/2023-09-10/
LOCATION:Garbonzo’s 🟠
CATEGORIES:Special Events
ATTACH;FMTTYPE=image/jpeg:https://www.canadinns.com/wp-content/uploads/18778-CI-TU-GSP-SocialMedia-LeBurgerWeekMenu1080x1080-Aug2023-FNL-1.jpg
END:VEVENT
BEGIN:VEVENT
DTSTART;TZID=America/Winnipeg:20230910T080000
DTEND;TZID=America/Winnipeg:20230910T233000
DTSTAMP:20260420T025856
CREATED:20230830T194056Z
LAST-MODIFIED:20230830T194257Z
UID:10028563-1694332800-1694388600@www.canadinns.com
SUMMARY:🔵 Le Burger Week - Tavern United
DESCRIPTION:
URL:https://www.canadinns.com/event/le-burger-week-tavern-united/2023-09-10/
LOCATION:Tavern United 🔵
CATEGORIES:Special Events
ATTACH;FMTTYPE=image/jpeg:https://www.canadinns.com/wp-content/uploads/18778-CI-TU-GSP-SocialMedia-LeBurgerWeekMenu1080x1080-Aug2023-FNL-1.jpg
END:VEVENT
BEGIN:VEVENT
DTSTART;TZID=America/Winnipeg:20230911T080000
DTEND;TZID=America/Winnipeg:20230911T233000
DTSTAMP:20260420T025856
CREATED:20230828T142000Z
LAST-MODIFIED:20230831T150325Z
UID:10028184-1694419200-1694475000@www.canadinns.com
SUMMARY:🟠 Le Burger Week - Garbonzo's
DESCRIPTION:
URL:https://www.canadinns.com/event/le-burger-week-garbonzos/2023-09-11/
LOCATION:Garbonzo’s 🟠
CATEGORIES:Special Events
ATTACH;FMTTYPE=image/jpeg:https://www.canadinns.com/wp-content/uploads/18778-CI-TU-GSP-SocialMedia-LeBurgerWeekMenu1080x1080-Aug2023-FNL-1.jpg
END:VEVENT
BEGIN:VEVENT
DTSTART;TZID=America/Winnipeg:20230911T080000
DTEND;TZID=America/Winnipeg:20230911T233000
DTSTAMP:20260420T025856
CREATED:20230830T194056Z
LAST-MODIFIED:20230830T194257Z
UID:10028564-1694419200-1694475000@www.canadinns.com
SUMMARY:🔵 Le Burger Week - Tavern United
DESCRIPTION:
URL:https://www.canadinns.com/event/le-burger-week-tavern-united/2023-09-11/
LOCATION:Tavern United 🔵
CATEGORIES:Special Events
ATTACH;FMTTYPE=image/jpeg:https://www.canadinns.com/wp-content/uploads/18778-CI-TU-GSP-SocialMedia-LeBurgerWeekMenu1080x1080-Aug2023-FNL-1.jpg
END:VEVENT
BEGIN:VEVENT
DTSTART;TZID=America/Winnipeg:20230912T080000
DTEND;TZID=America/Winnipeg:20230912T233000
DTSTAMP:20260420T025856
CREATED:20230828T142000Z
LAST-MODIFIED:20230831T150325Z
UID:10028185-1694505600-1694561400@www.canadinns.com
SUMMARY:🟠 Le Burger Week - Garbonzo's
DESCRIPTION:
URL:https://www.canadinns.com/event/le-burger-week-garbonzos/2023-09-12/
LOCATION:Garbonzo’s 🟠
CATEGORIES:Special Events
ATTACH;FMTTYPE=image/jpeg:https://www.canadinns.com/wp-content/uploads/18778-CI-TU-GSP-SocialMedia-LeBurgerWeekMenu1080x1080-Aug2023-FNL-1.jpg
END:VEVENT
BEGIN:VEVENT
DTSTART;TZID=America/Winnipeg:20230912T080000
DTEND;TZID=America/Winnipeg:20230912T233000
DTSTAMP:20260420T025856
CREATED:20230830T194056Z
LAST-MODIFIED:20230830T194257Z
UID:10028565-1694505600-1694561400@www.canadinns.com
SUMMARY:🔵 Le Burger Week - Tavern United
DESCRIPTION:
URL:https://www.canadinns.com/event/le-burger-week-tavern-united/2023-09-12/
LOCATION:Tavern United 🔵
CATEGORIES:Special Events
ATTACH;FMTTYPE=image/jpeg:https://www.canadinns.com/wp-content/uploads/18778-CI-TU-GSP-SocialMedia-LeBurgerWeekMenu1080x1080-Aug2023-FNL-1.jpg
END:VEVENT
BEGIN:VEVENT
DTSTART;TZID=America/Winnipeg:20230913T080000
DTEND;TZID=America/Winnipeg:20230913T233000
DTSTAMP:20260420T025856
CREATED:20230828T142000Z
LAST-MODIFIED:20230831T150325Z
UID:10028186-1694592000-1694647800@www.canadinns.com
SUMMARY:🟠 Le Burger Week - Garbonzo's
DESCRIPTION:
URL:https://www.canadinns.com/event/le-burger-week-garbonzos/2023-09-13/
LOCATION:Garbonzo’s 🟠
CATEGORIES:Special Events
ATTACH;FMTTYPE=image/jpeg:https://www.canadinns.com/wp-content/uploads/18778-CI-TU-GSP-SocialMedia-LeBurgerWeekMenu1080x1080-Aug2023-FNL-1.jpg
END:VEVENT
BEGIN:VEVENT
DTSTART;TZID=America/Winnipeg:20230913T080000
DTEND;TZID=America/Winnipeg:20230913T233000
DTSTAMP:20260420T025856
CREATED:20230830T194056Z
LAST-MODIFIED:20230830T194257Z
UID:10028566-1694592000-1694647800@www.canadinns.com
SUMMARY:🔵 Le Burger Week - Tavern United
DESCRIPTION:
URL:https://www.canadinns.com/event/le-burger-week-tavern-united/2023-09-13/
LOCATION:Tavern United 🔵
CATEGORIES:Special Events
ATTACH;FMTTYPE=image/jpeg:https://www.canadinns.com/wp-content/uploads/18778-CI-TU-GSP-SocialMedia-LeBurgerWeekMenu1080x1080-Aug2023-FNL-1.jpg
END:VEVENT
BEGIN:VEVENT
DTSTART;TZID=America/Winnipeg:20230914T080000
DTEND;TZID=America/Winnipeg:20230914T233000
DTSTAMP:20260420T025856
CREATED:20230828T142000Z
LAST-MODIFIED:20230831T150325Z
UID:10028187-1694678400-1694734200@www.canadinns.com
SUMMARY:🟠 Le Burger Week - Garbonzo's
DESCRIPTION:
URL:https://www.canadinns.com/event/le-burger-week-garbonzos/2023-09-14/
LOCATION:Garbonzo’s 🟠
CATEGORIES:Special Events
ATTACH;FMTTYPE=image/jpeg:https://www.canadinns.com/wp-content/uploads/18778-CI-TU-GSP-SocialMedia-LeBurgerWeekMenu1080x1080-Aug2023-FNL-1.jpg
END:VEVENT
BEGIN:VEVENT
DTSTART;TZID=America/Winnipeg:20230914T080000
DTEND;TZID=America/Winnipeg:20230914T233000
DTSTAMP:20260420T025856
CREATED:20230830T194056Z
LAST-MODIFIED:20230830T194257Z
UID:10028567-1694678400-1694734200@www.canadinns.com
SUMMARY:🔵 Le Burger Week - Tavern United
DESCRIPTION:
URL:https://www.canadinns.com/event/le-burger-week-tavern-united/2023-09-14/
LOCATION:Tavern United 🔵
CATEGORIES:Special Events
ATTACH;FMTTYPE=image/jpeg:https://www.canadinns.com/wp-content/uploads/18778-CI-TU-GSP-SocialMedia-LeBurgerWeekMenu1080x1080-Aug2023-FNL-1.jpg
END:VEVENT
BEGIN:VEVENT
DTSTART;TZID=America/Winnipeg:20230921T190000
DTEND;TZID=America/Winnipeg:20230921T220000
DTSTAMP:20260420T025856
CREATED:20230705T192000Z
LAST-MODIFIED:20230705T192000Z
UID:10028161-1695322800-1695333600@www.canadinns.com
SUMMARY:🟠 Garbonzo’s Sports Pub – Trivia Thursdays
DESCRIPTION:
URL:https://www.canadinns.com/event/garbonzos-sports-pub-trivia-thursdays-7/
LOCATION:Garbonzo’s 🟠
CATEGORIES:Special Events
ATTACH;FMTTYPE=image/jpeg:https://www.canadinns.com/wp-content/uploads/Harry-Potter-09-21.jpg
END:VEVENT
BEGIN:VEVENT
DTSTART;VALUE=DATE:20230926
DTEND;VALUE=DATE:20230927
DTSTAMP:20260420T025856
CREATED:20230816T182452Z
LAST-MODIFIED:20230816T182452Z
UID:10028172-1695686400-1695772799@www.canadinns.com
SUMMARY:Human Resource Professionals Day
DESCRIPTION:
URL:https://www.canadinns.com/event/human-resource-professionals-day/
CATEGORIES:Special Events
ATTACH;FMTTYPE=image/jpeg:https://www.canadinns.com/wp-content/uploads/2023-08-14-CI-SocialMediaGraphicsSepHumanResourceDay-Aug2023-FNL-18718.jpg
END:VEVENT
BEGIN:VEVENT
DTSTART;VALUE=DATE:20230927
DTEND;VALUE=DATE:20230928
DTSTAMP:20260420T025856
CREATED:20230908T173818Z
LAST-MODIFIED:20230908T173818Z
UID:10028606-1695772800-1695859199@www.canadinns.com
SUMMARY:World Tourism Day
DESCRIPTION:
URL:https://www.canadinns.com/event/world-tourism-day/
CATEGORIES:Special Events
ATTACH;FMTTYPE=image/jpg:https://www.canadinns.com/wp-content/uploads/2023-08-14-CI-SocialMediaGraphicsSepWorldTourismDay-Winnipeg-Aug2023-1-18718-pdf-image.jpg
END:VEVENT
BEGIN:VEVENT
DTSTART;VALUE=DATE:20230930
DTEND;VALUE=DATE:20231001
DTSTAMP:20260420T025856
CREATED:20230816T182647Z
LAST-MODIFIED:20230816T182647Z
UID:10028173-1696032000-1696118399@www.canadinns.com
SUMMARY:National Day of Truth & Reconciliation
DESCRIPTION:
URL:https://www.canadinns.com/event/national-day-of-truth-reconciliation/
CATEGORIES:Special Events
ATTACH;FMTTYPE=image/jpeg:https://www.canadinns.com/wp-content/uploads/2023-08-14-CI-SocialMediaGraphicsSepTruthandReconciliation-Aug2023-FNL-18718.jpg
END:VEVENT
BEGIN:VEVENT
DTSTART;VALUE=DATE:20231001
DTEND;VALUE=DATE:20231002
DTSTAMP:20260420T025856
CREATED:20231004T212517Z
LAST-MODIFIED:20231004T212517Z
UID:10028622-1696118400-1696204799@www.canadinns.com
SUMMARY:Women's History Month
DESCRIPTION:
URL:https://www.canadinns.com/event/womens-history-month/
CATEGORIES:Special Events
ATTACH;FMTTYPE=image/jpeg:https://www.canadinns.com/wp-content/uploads/2023-9-22-CI-OctoberSMGraphicsWomensHistoryMonth-August2023-FNL-18819.jpg
END:VEVENT
BEGIN:VEVENT
DTSTART;VALUE=DATE:20231001
DTEND;VALUE=DATE:20231002
DTSTAMP:20260420T025856
CREATED:20231004T212559Z
LAST-MODIFIED:20231004T212559Z
UID:10028623-1696118400-1696204799@www.canadinns.com
SUMMARY:German Heritage Month
DESCRIPTION:
URL:https://www.canadinns.com/event/german-heritage-month/
CATEGORIES:Special Events
ATTACH;FMTTYPE=image/jpeg:https://www.canadinns.com/wp-content/uploads/2023-9-22-CI-OctoberSMGraphicsGermanHeritage-August2023-FNL-18819.jpg
END:VEVENT
BEGIN:VEVENT
DTSTART;VALUE=DATE:20231001
DTEND;VALUE=DATE:20231002
DTSTAMP:20260420T025856
CREATED:20231004T212642Z
LAST-MODIFIED:20231004T212642Z
UID:10028624-1696118400-1696204799@www.canadinns.com
SUMMARY:Bullying Prevention Month
DESCRIPTION:
URL:https://www.canadinns.com/event/bullying-prevention-month/
CATEGORIES:Special Events
ATTACH;FMTTYPE=image/jpeg:https://www.canadinns.com/wp-content/uploads/2023-9-22-CI-OctoberSMGraphicsBullyingPrevention-August2023-FNL-18819.jpg
END:VEVENT
BEGIN:VEVENT
DTSTART;VALUE=DATE:20231001
DTEND;VALUE=DATE:20231002
DTSTAMP:20260420T025856
CREATED:20231004T212719Z
LAST-MODIFIED:20231004T212719Z
UID:10028625-1696118400-1696204799@www.canadinns.com
SUMMARY:Canadian Islamic History Month
DESCRIPTION:
URL:https://www.canadinns.com/event/canadian-islamic-history-month/
CATEGORIES:Special Events
ATTACH;FMTTYPE=image/jpeg:https://www.canadinns.com/wp-content/uploads/2023-9-22-CI-OctoberSMGraphicsCanadianIslamic-August2023-FNL-18819.jpg
END:VEVENT
BEGIN:VEVENT
DTSTART;VALUE=DATE:20231005
DTEND;VALUE=DATE:20231006
DTSTAMP:20260420T025856
CREATED:20231004T211339Z
LAST-MODIFIED:20231004T211339Z
UID:10028619-1696464000-1696550399@www.canadinns.com
SUMMARY:World Teacher's Day
DESCRIPTION:
URL:https://www.canadinns.com/event/world-teachers-day/
CATEGORIES:Special Events
ATTACH;FMTTYPE=image/jpeg:https://www.canadinns.com/wp-content/uploads/2023-9-22-CI-OctoberSMGraphicsWorldTeachersDay-August2023-FNL-18819.jpg
END:VEVENT
BEGIN:VEVENT
DTSTART;TZID=America/Winnipeg:20231005T190000
DTEND;TZID=America/Winnipeg:20231005T220000
DTSTAMP:20260420T025856
CREATED:20230920T193814Z
LAST-MODIFIED:20230920T193826Z
UID:10028613-1696532400-1696543200@www.canadinns.com
SUMMARY:🟠 Garbonzo’s Sports Pub – Trivia Thursdays
DESCRIPTION:
URL:https://www.canadinns.com/event/garbonzos-sports-pub-trivia-thursdays-9/2023-10-05/
LOCATION:Garbonzo’s 🟠
CATEGORIES:Special Events
ATTACH;FMTTYPE=image/jpeg:https://www.canadinns.com/wp-content/uploads/2023-11-18-CI-GSP-TriviaNights-SocialMedia-1080x1080-FNLNoBleed-18881.jpg
END:VEVENT
BEGIN:VEVENT
DTSTART;VALUE=DATE:20231010
DTEND;VALUE=DATE:20231011
DTSTAMP:20260420T025856
CREATED:20231004T211425Z
LAST-MODIFIED:20231004T211425Z
UID:10028620-1696896000-1696982399@www.canadinns.com
SUMMARY:World Mental Health Day
DESCRIPTION:
URL:https://www.canadinns.com/event/world-mental-health-day/
CATEGORIES:Special Events
ATTACH;FMTTYPE=image/jpeg:https://www.canadinns.com/wp-content/uploads/2023-9-22-CI-OctoberSMGraphicsWorldMentalHealth-August2023-FNL-18819.jpg
END:VEVENT
BEGIN:VEVENT
DTSTART;TZID=America/Winnipeg:20231014T163000
DTEND;TZID=America/Winnipeg:20231014T193000
DTSTAMP:20260420T025856
CREATED:20231013T160626Z
LAST-MODIFIED:20231013T160626Z
UID:10028627-1697301000-1697311800@www.canadinns.com
SUMMARY:⚪ Resto 12 Home Game Day Buffet
DESCRIPTION:
URL:https://www.canadinns.com/event/resto-12-home-game-day-buffet/
LOCATION:Resto 12 ⚪
CATEGORIES:Special Events
ATTACH;FMTTYPE=image/jpeg:https://www.canadinns.com/wp-content/uploads/2023-10-05-CI-Resto12-Game-Day-Poster11x17-Sept2023-FNL-18939-1-scaled.jpg
END:VEVENT
END:VCALENDAR