BEGIN:VCALENDAR
VERSION:2.0
PRODID:-//Canad Inns - ECPv6.15.17.1//NONSGML v1.0//EN
CALSCALE:GREGORIAN
METHOD:PUBLISH
X-WR-CALNAME:Canad Inns
X-ORIGINAL-URL:https://www.canadinns.com
X-WR-CALDESC:Events for Canad Inns
REFRESH-INTERVAL;VALUE=DURATION:PT1H
X-Robots-Tag:noindex
X-PUBLISHED-TTL:PT1H
BEGIN:VTIMEZONE
TZID:America/Winnipeg
BEGIN:DAYLIGHT
TZOFFSETFROM:-0600
TZOFFSETTO:-0500
TZNAME:CDT
DTSTART:20250309T080000
END:DAYLIGHT
BEGIN:STANDARD
TZOFFSETFROM:-0500
TZOFFSETTO:-0600
TZNAME:CST
DTSTART:20251102T070000
END:STANDARD
BEGIN:DAYLIGHT
TZOFFSETFROM:-0600
TZOFFSETTO:-0500
TZNAME:CDT
DTSTART:20260308T080000
END:DAYLIGHT
BEGIN:STANDARD
TZOFFSETFROM:-0500
TZOFFSETTO:-0600
TZNAME:CST
DTSTART:20261101T070000
END:STANDARD
BEGIN:DAYLIGHT
TZOFFSETFROM:-0600
TZOFFSETTO:-0500
TZNAME:CDT
DTSTART:20270314T080000
END:DAYLIGHT
BEGIN:STANDARD
TZOFFSETFROM:-0500
TZOFFSETTO:-0600
TZNAME:CST
DTSTART:20271107T070000
END:STANDARD
END:VTIMEZONE
BEGIN:VEVENT
DTSTART;TZID=America/Winnipeg:20260331T000000
DTEND;TZID=America/Winnipeg:20260331T235900
DTSTAMP:20260423T061903
CREATED:20260213T155517Z
LAST-MODIFIED:20260213T155927Z
UID:10050983-1774915200-1775001540@www.canadinns.com
SUMMARY:🔴 Canad Inns - Unlock Savings Online
DESCRIPTION:Book direct and unlock up to 25% off our Best Available Rate when you reserve online. Available until March 31\, 2026 at participating locations. \nDiscounts are subject to change without notice. This promotion cannot be combined with any other offer\, discount or group booking.
URL:https://www.canadinns.com/event/canad-inns-unlock-savings-online/2026-03-31/
LOCATION:Canad Inns Destination Centres 🔴
CATEGORIES:Special Events
ATTACH;FMTTYPE=image/jpeg:https://www.canadinns.com/wp-content/uploads/2026-01-27-CI-UnlockSavingsRoomPromo-851x315-FNL-21460.jpg
END:VEVENT
END:VCALENDAR