BEGIN:VCALENDAR
VERSION:2.0
PRODID:-//Canad Inns - ECPv6.15.17.1//NONSGML v1.0//EN
CALSCALE:GREGORIAN
METHOD:PUBLISH
X-ORIGINAL-URL:https://www.canadinns.com
X-WR-CALDESC:Events for Canad Inns
REFRESH-INTERVAL;VALUE=DURATION:PT1H
X-Robots-Tag:noindex
X-PUBLISHED-TTL:PT1H
BEGIN:VTIMEZONE
TZID:America/Winnipeg
BEGIN:DAYLIGHT
TZOFFSETFROM:-0600
TZOFFSETTO:-0500
TZNAME:CDT
DTSTART:20240310T080000
END:DAYLIGHT
BEGIN:STANDARD
TZOFFSETFROM:-0500
TZOFFSETTO:-0600
TZNAME:CST
DTSTART:20241103T070000
END:STANDARD
BEGIN:DAYLIGHT
TZOFFSETFROM:-0600
TZOFFSETTO:-0500
TZNAME:CDT
DTSTART:20250309T080000
END:DAYLIGHT
BEGIN:STANDARD
TZOFFSETFROM:-0500
TZOFFSETTO:-0600
TZNAME:CST
DTSTART:20251102T070000
END:STANDARD
BEGIN:DAYLIGHT
TZOFFSETFROM:-0600
TZOFFSETTO:-0500
TZNAME:CDT
DTSTART:20260308T080000
END:DAYLIGHT
BEGIN:STANDARD
TZOFFSETFROM:-0500
TZOFFSETTO:-0600
TZNAME:CST
DTSTART:20261101T070000
END:STANDARD
END:VTIMEZONE
BEGIN:VEVENT
DTSTART;TZID=America/Winnipeg:20250719T110000
DTEND;TZID=America/Winnipeg:20250719T220000
DTSTAMP:20260419T095519
CREATED:20250709T141258Z
LAST-MODIFIED:20250709T142005Z
UID:10048174-1752922800-1752962400@www.canadinns.com
SUMMARY:🔵 National Daiquiri Day
DESCRIPTION:A little rum\, a little lime\, a lot of good vibes. \nCelebrate National Daiquiri Day at Tavern United today. \nReserve your table now!
URL:https://www.canadinns.com/event/national-daiquiri-day-tavernunited-2025/
LOCATION:Tavern United 🔵
CATEGORIES:Special Events
ATTACH;FMTTYPE=image/png:https://www.canadinns.com/wp-content/uploads/2025-07-19-CI-July-Dates-of-Significance-National-Daiquiri-Day-Social-Media-Post-1080x1080-1.png
END:VEVENT
BEGIN:VEVENT
DTSTART;TZID=America/Winnipeg:20250719T160000
DTEND;TZID=America/Winnipeg:20250719T220000
DTSTAMP:20260419T095519
CREATED:20250709T140416Z
LAST-MODIFIED:20250709T141125Z
UID:10048173-1752940800-1752962400@www.canadinns.com
SUMMARY:🟠 National Daiquiri Day
DESCRIPTION:A little rum\, a little lime\, a lot of good vibes. \nCelebrate National Daiquiri Day at Garbonzo’s Sports Pub today. \nReserve your table now!
URL:https://www.canadinns.com/event/national-daiquiri-day-2025/
LOCATION:Garbonzo’s 🟠
CATEGORIES:Special Events
ATTACH;FMTTYPE=image/png:https://www.canadinns.com/wp-content/uploads/2025-07-19-CI-July-Dates-of-Significance-National-Daiquiri-Day-Social-Media-Post-1080x1080-1.png
END:VEVENT
END:VCALENDAR