BEGIN:VCALENDAR
VERSION:2.0
PRODID:-//Canad Inns - ECPv6.15.17.1//NONSGML v1.0//EN
CALSCALE:GREGORIAN
METHOD:PUBLISH
X-ORIGINAL-URL:https://www.canadinns.com
X-WR-CALDESC:Events for Canad Inns
REFRESH-INTERVAL;VALUE=DURATION:PT1H
X-Robots-Tag:noindex
X-PUBLISHED-TTL:PT1H
BEGIN:VTIMEZONE
TZID:America/Winnipeg
BEGIN:DAYLIGHT
TZOFFSETFROM:-0600
TZOFFSETTO:-0500
TZNAME:CDT
DTSTART:20240310T080000
END:DAYLIGHT
BEGIN:STANDARD
TZOFFSETFROM:-0500
TZOFFSETTO:-0600
TZNAME:CST
DTSTART:20241103T070000
END:STANDARD
BEGIN:DAYLIGHT
TZOFFSETFROM:-0600
TZOFFSETTO:-0500
TZNAME:CDT
DTSTART:20250309T080000
END:DAYLIGHT
BEGIN:STANDARD
TZOFFSETFROM:-0500
TZOFFSETTO:-0600
TZNAME:CST
DTSTART:20251102T070000
END:STANDARD
BEGIN:DAYLIGHT
TZOFFSETFROM:-0600
TZOFFSETTO:-0500
TZNAME:CDT
DTSTART:20260308T080000
END:DAYLIGHT
BEGIN:STANDARD
TZOFFSETFROM:-0500
TZOFFSETTO:-0600
TZNAME:CST
DTSTART:20261101T070000
END:STANDARD
END:VTIMEZONE
BEGIN:VEVENT
DTSTART;TZID=America/Winnipeg:20250711T080000
DTEND;TZID=America/Winnipeg:20250711T170000
DTSTAMP:20260419T165346
CREATED:20250709T140238Z
LAST-MODIFIED:20250709T151936Z
UID:10048172-1752220800-1752253200@www.canadinns.com
SUMMARY:🔵National French Fry Day
DESCRIPTION:Celebrate National French Fry Day with us at Tavern United and make your day a little tastier.
URL:https://www.canadinns.com/event/national-french-fry-day-2025-2/
LOCATION:Tavern United 🔵
CATEGORIES:Special Events
ATTACH;FMTTYPE=image/png:https://www.canadinns.com/wp-content/uploads/2025-07-11-CI-July-Dates-of-Significance-National-French-Fry-Day-Social-Media-Post-1080x1080-1.png
END:VEVENT
BEGIN:VEVENT
DTSTART;TZID=America/Winnipeg:20250711T160000
DTEND;TZID=America/Winnipeg:20250711T220000
DTSTAMP:20260419T165346
CREATED:20250709T152452Z
LAST-MODIFIED:20250709T152552Z
UID:10048181-1752249600-1752271200@www.canadinns.com
SUMMARY:🟠 National Mojito Day
DESCRIPTION:A mojito done right hits different. \nJoin us for National Mojito Day on July 11th at Garbonzo’s Sports Pub. \nCome celebrate with us! 🍃🍹
URL:https://www.canadinns.com/event/national-mojito-day-2025-gsp/
LOCATION:Garbonzo’s 🟠
CATEGORIES:Special Events
ATTACH;FMTTYPE=image/jpeg:https://www.canadinns.com/wp-content/uploads/2023-06-19-CI-SocialMediaNationalDrinkDaysMojito-FNL-18547-2.jpg
END:VEVENT
BEGIN:VEVENT
DTSTART;TZID=America/Winnipeg:20250711T160000
DTEND;TZID=America/Winnipeg:20250711T220000
DTSTAMP:20260419T165346
CREATED:20250709T152904Z
LAST-MODIFIED:20250709T152904Z
UID:10048182-1752249600-1752271200@www.canadinns.com
SUMMARY:🟠 National Mojito Day
DESCRIPTION:A mojito done right hits different. \nJoin us for National Mojito Day on July 11th at Garbonzo’s Sports Pub. \nCome celebrate with us! 🍃🍹
URL:https://www.canadinns.com/event/national-mojito-day-gsp-2025/
LOCATION:Garbonzo’s 🟠
CATEGORIES:Special Events
ATTACH;FMTTYPE=image/png:https://www.canadinns.com/wp-content/uploads/2025-07-11-CI-July-Dates-of-Significnance-National-Mojito-Day-Social-Media-Post-1080x1080-1.png
END:VEVENT
END:VCALENDAR