BEGIN:VCALENDAR
VERSION:2.0
PRODID:-//Canad Inns - ECPv6.15.17.1//NONSGML v1.0//EN
CALSCALE:GREGORIAN
METHOD:PUBLISH
X-ORIGINAL-URL:https://www.canadinns.com
X-WR-CALDESC:Events for Canad Inns
REFRESH-INTERVAL;VALUE=DURATION:PT1H
X-Robots-Tag:noindex
X-PUBLISHED-TTL:PT1H
BEGIN:VTIMEZONE
TZID:America/Winnipeg
BEGIN:DAYLIGHT
TZOFFSETFROM:-0600
TZOFFSETTO:-0500
TZNAME:CDT
DTSTART:20240310T080000
END:DAYLIGHT
BEGIN:STANDARD
TZOFFSETFROM:-0500
TZOFFSETTO:-0600
TZNAME:CST
DTSTART:20241103T070000
END:STANDARD
BEGIN:DAYLIGHT
TZOFFSETFROM:-0600
TZOFFSETTO:-0500
TZNAME:CDT
DTSTART:20250309T080000
END:DAYLIGHT
BEGIN:STANDARD
TZOFFSETFROM:-0500
TZOFFSETTO:-0600
TZNAME:CST
DTSTART:20251102T070000
END:STANDARD
BEGIN:DAYLIGHT
TZOFFSETFROM:-0600
TZOFFSETTO:-0500
TZNAME:CDT
DTSTART:20260308T080000
END:DAYLIGHT
BEGIN:STANDARD
TZOFFSETFROM:-0500
TZOFFSETTO:-0600
TZNAME:CST
DTSTART:20261101T070000
END:STANDARD
END:VTIMEZONE
BEGIN:VEVENT
DTSTART;TZID=America/Winnipeg:20250601T080000
DTEND;TZID=America/Winnipeg:20250601T170000
DTSTAMP:20260419T165408
CREATED:20240502T142915Z
LAST-MODIFIED:20250530T202303Z
UID:10029361-1748764800-1748797200@www.canadinns.com
SUMMARY:Pride Month
DESCRIPTION:🌈 Happy Pride Month 🌈 \nThis June\, we celebrate 2SLGBTQIA+ community. \nAt Canad Inns\, we recognize the strength in diversity\, the importance of inclusion\, and the power of being true to yourself.
URL:https://www.canadinns.com/event/pride-month-2/
CATEGORIES:Special Events
ATTACH;FMTTYPE=image/png:https://www.canadinns.com/wp-content/uploads/2025-05-01-CI-Happy-Pride-Month-Social-Media-Post-1080x1080-1.png
END:VEVENT
BEGIN:VEVENT
DTSTART;TZID=America/Winnipeg:20250601T170000
DTEND;TZID=America/Winnipeg:20250601T200000
DTSTAMP:20260419T165408
CREATED:20240904T165546Z
LAST-MODIFIED:20250310T191046Z
UID:10047190-1748797200-1748808000@www.canadinns.com
SUMMARY:🎭Destination Dinner Stage - Grease Lightning 🚗
DESCRIPTION:🎶🚗 Grease Lightning 💃🕺\nGreetings Winnipeg High class of 1959\, you are all invited to the biggest Rock and Roll reunion this town has ever seen! It’s been 20 years since Danny\, Sandy and the gang graduated and much has changed. Did Danny and Sandy get married and live happily ever after? Did they ever give up drag racing? Join us at Destination Dinner Stage as we look in on everyone’s favorite greasers and find out what they are up to in the fabulous 70’s as we pay respectful homage to this well-known story and of course add a twist or two of our own! Grease Lightening\, a flash from the past and a celebration of rock and roll! \nBook your tickets today at ticketmaster.ca!
URL:https://www.canadinns.com/event/destination-dinner-stage-grease-lightning/2025-06-01/
LOCATION:Destination Dinner Stage 🎭
CATEGORIES:Special Events
ATTACH;FMTTYPE=image/jpeg:https://www.canadinns.com/wp-content/uploads/2025-01-29-CI-DDS-Grease-Graphics-update-2160x2160-FNL-20563.jpg
END:VEVENT
END:VCALENDAR