BEGIN:VCALENDAR
VERSION:2.0
PRODID:-//Canad Inns - ECPv6.15.17.1//NONSGML v1.0//EN
CALSCALE:GREGORIAN
METHOD:PUBLISH
X-ORIGINAL-URL:https://www.canadinns.com
X-WR-CALDESC:Events for Canad Inns
REFRESH-INTERVAL;VALUE=DURATION:PT1H
X-Robots-Tag:noindex
X-PUBLISHED-TTL:PT1H
BEGIN:VTIMEZONE
TZID:America/Winnipeg
BEGIN:DAYLIGHT
TZOFFSETFROM:-0600
TZOFFSETTO:-0500
TZNAME:CDT
DTSTART:20240310T080000
END:DAYLIGHT
BEGIN:STANDARD
TZOFFSETFROM:-0500
TZOFFSETTO:-0600
TZNAME:CST
DTSTART:20241103T070000
END:STANDARD
BEGIN:DAYLIGHT
TZOFFSETFROM:-0600
TZOFFSETTO:-0500
TZNAME:CDT
DTSTART:20250309T080000
END:DAYLIGHT
BEGIN:STANDARD
TZOFFSETFROM:-0500
TZOFFSETTO:-0600
TZNAME:CST
DTSTART:20251102T070000
END:STANDARD
BEGIN:DAYLIGHT
TZOFFSETFROM:-0600
TZOFFSETTO:-0500
TZNAME:CDT
DTSTART:20260308T080000
END:DAYLIGHT
BEGIN:STANDARD
TZOFFSETFROM:-0500
TZOFFSETTO:-0600
TZNAME:CST
DTSTART:20261101T070000
END:STANDARD
END:VTIMEZONE
BEGIN:VEVENT
DTSTART;VALUE=DATE:20250505
DTEND;VALUE=DATE:20250506
DTSTAMP:20260419T165354
CREATED:20250414T141748Z
LAST-MODIFIED:20250414T141805Z
UID:10047312-1746403200-1746489599@www.canadinns.com
SUMMARY:Red Dress Day
DESCRIPTION:Today\, we join in raising awareness for Missing and Murdered Indigenous Women (MMIWG). \nAt Canad Inns\, we observe Red Dress Day in solidarity and reflection\, acknowledging the importance of ongoing efforts toward healing and progress.
URL:https://www.canadinns.com/event/red-dress-day-3/
CATEGORIES:Special Events
ATTACH;FMTTYPE=image/png:https://www.canadinns.com/wp-content/uploads/2025-05-05-CI-Red-Dress-Day-Social-Media-1080x1350-2.png
END:VEVENT
BEGIN:VEVENT
DTSTART;TZID=America/Winnipeg:20250505T120000
DTEND;TZID=America/Winnipeg:20250505T220000
DTSTAMP:20260419T165354
CREATED:20240324T141837Z
LAST-MODIFIED:20250414T141914Z
UID:10029314-1746446400-1746482400@www.canadinns.com
SUMMARY:🔵 Cinco de Mayo
DESCRIPTION:Happy Cinco de Mayo! 🎉🌮 \nJoin us at Tavern United as we embrace the spirit of Cinco de Mayo with great food\, drinks\, and fun!
URL:https://www.canadinns.com/event/cinco-de-mayo/
LOCATION:Tavern United 🔵
CATEGORIES:Special Events
ATTACH;FMTTYPE=image/png:https://www.canadinns.com/wp-content/uploads/2025-04-09-TU-Cinco-De-Mayo_V2.png
END:VEVENT
BEGIN:VEVENT
DTSTART;TZID=America/Winnipeg:20250505T160000
DTEND;TZID=America/Winnipeg:20250505T220000
DTSTAMP:20260419T165354
CREATED:20240404T163431Z
LAST-MODIFIED:20250414T141847Z
UID:10029324-1746460800-1746482400@www.canadinns.com
SUMMARY:🟠 Cinco de Mayo
DESCRIPTION:Happy Cinco de Mayo! 🎉🌮 \nJoin us at Garbonzo’s Sports Pub as we embrace the spirit of Cinco de Mayo with great food\, drinks\, and fun!
URL:https://www.canadinns.com/event/cinco-de-mayo-2/
LOCATION:Garbonzo’s 🟠
CATEGORIES:Special Events
ATTACH;FMTTYPE=image/png:https://www.canadinns.com/wp-content/uploads/2025-04-11-GSP-Cinco-De-Mayo_V3.png
END:VEVENT
END:VCALENDAR