BEGIN:VCALENDAR
VERSION:2.0
PRODID:-//Canad Inns - ECPv6.15.17.1//NONSGML v1.0//EN
CALSCALE:GREGORIAN
METHOD:PUBLISH
X-ORIGINAL-URL:https://www.canadinns.com
X-WR-CALDESC:Events for Canad Inns
REFRESH-INTERVAL;VALUE=DURATION:PT1H
X-Robots-Tag:noindex
X-PUBLISHED-TTL:PT1H
BEGIN:VTIMEZONE
TZID:America/Winnipeg
BEGIN:DAYLIGHT
TZOFFSETFROM:-0600
TZOFFSETTO:-0500
TZNAME:CDT
DTSTART:20240310T080000
END:DAYLIGHT
BEGIN:STANDARD
TZOFFSETFROM:-0500
TZOFFSETTO:-0600
TZNAME:CST
DTSTART:20241103T070000
END:STANDARD
BEGIN:DAYLIGHT
TZOFFSETFROM:-0600
TZOFFSETTO:-0500
TZNAME:CDT
DTSTART:20250309T080000
END:DAYLIGHT
BEGIN:STANDARD
TZOFFSETFROM:-0500
TZOFFSETTO:-0600
TZNAME:CST
DTSTART:20251102T070000
END:STANDARD
BEGIN:DAYLIGHT
TZOFFSETFROM:-0600
TZOFFSETTO:-0500
TZNAME:CDT
DTSTART:20260308T080000
END:DAYLIGHT
BEGIN:STANDARD
TZOFFSETFROM:-0500
TZOFFSETTO:-0600
TZNAME:CST
DTSTART:20261101T070000
END:STANDARD
END:VTIMEZONE
BEGIN:VEVENT
DTSTART;TZID=America/Winnipeg:20250308T080000
DTEND;TZID=America/Winnipeg:20250308T170000
DTSTAMP:20260419T165351
CREATED:20250225T141517Z
LAST-MODIFIED:20250306T142624Z
UID:10047283-1741420800-1741453200@www.canadinns.com
SUMMARY:International Women's Day
DESCRIPTION:We proudly recognize International Women’s Day – a global celebration of the achievements\, resilience\, and leadership of women everywhere. \nAs a Manitoba owned\, Manitoba grown and Manitoba PROUD company\, we remain committed to fostering a workplace where women thrive\, lead\, and inspire at Canad Inns. \nTo the women of Canad Inns and beyond – thank you for your contributions\, leadership and impact.  Today\, we celebrate you!
URL:https://www.canadinns.com/event/international-womens-day-2/
CATEGORIES:Special Events
ATTACH;FMTTYPE=image/png:https://www.canadinns.com/wp-content/uploads/2025-02-2025-CI-International-Womens-Day-Canad-Inns-HR-Team.png
END:VEVENT
END:VCALENDAR