BEGIN:VCALENDAR
VERSION:2.0
PRODID:-//Canad Inns - ECPv6.15.17.1//NONSGML v1.0//EN
CALSCALE:GREGORIAN
METHOD:PUBLISH
X-ORIGINAL-URL:https://www.canadinns.com
X-WR-CALDESC:Events for Canad Inns
REFRESH-INTERVAL;VALUE=DURATION:PT1H
X-Robots-Tag:noindex
X-PUBLISHED-TTL:PT1H
BEGIN:VTIMEZONE
TZID:America/Winnipeg
BEGIN:DAYLIGHT
TZOFFSETFROM:-0600
TZOFFSETTO:-0500
TZNAME:CDT
DTSTART:20230312T080000
END:DAYLIGHT
BEGIN:STANDARD
TZOFFSETFROM:-0500
TZOFFSETTO:-0600
TZNAME:CST
DTSTART:20231105T070000
END:STANDARD
BEGIN:DAYLIGHT
TZOFFSETFROM:-0600
TZOFFSETTO:-0500
TZNAME:CDT
DTSTART:20240310T080000
END:DAYLIGHT
BEGIN:STANDARD
TZOFFSETFROM:-0500
TZOFFSETTO:-0600
TZNAME:CST
DTSTART:20241103T070000
END:STANDARD
BEGIN:DAYLIGHT
TZOFFSETFROM:-0600
TZOFFSETTO:-0500
TZNAME:CDT
DTSTART:20250309T080000
END:DAYLIGHT
BEGIN:STANDARD
TZOFFSETFROM:-0500
TZOFFSETTO:-0600
TZNAME:CST
DTSTART:20251102T070000
END:STANDARD
END:VTIMEZONE
BEGIN:VEVENT
DTSTART;TZID=America/Winnipeg:20240729T160000
DTEND;TZID=America/Winnipeg:20240729T220000
DTSTAMP:20260421T200114
CREATED:20240621T142401Z
LAST-MODIFIED:20240621T142401Z
UID:10033289-1722268800-1722290400@www.canadinns.com
SUMMARY:🔵National Chicken Wing Day
DESCRIPTION:Celebrate National Chicken Wing Day at Tavern United!
URL:https://www.canadinns.com/event/national-chicken-wing-day-2/
LOCATION:Tavern United 🔵
CATEGORIES:Special Events
ATTACH;FMTTYPE=image/jpeg:https://www.canadinns.com/wp-content/uploads/2024-06-17-National-Chicken-Wing-Day.jpg
END:VEVENT
BEGIN:VEVENT
DTSTART;TZID=America/Winnipeg:20240729T160000
DTEND;TZID=America/Winnipeg:20240729T220000
DTSTAMP:20260421T200114
CREATED:20240621T142538Z
LAST-MODIFIED:20240621T142538Z
UID:10033290-1722268800-1722290400@www.canadinns.com
SUMMARY:🟠National Chicken Wing Day
DESCRIPTION:Celebrate National Chicken Wing Day at Garbonzo’s Sports Pub.
URL:https://www.canadinns.com/event/national-chicken-wing-day-3/
LOCATION:Garbonzo’s 🟠
CATEGORIES:Special Events
ATTACH;FMTTYPE=image/jpeg:https://www.canadinns.com/wp-content/uploads/2024-06-17-National-Chicken-Wing-Day-1.jpg
END:VEVENT
END:VCALENDAR