BEGIN:VCALENDAR
VERSION:2.0
PRODID:-//Canad Inns - ECPv6.15.17.1//NONSGML v1.0//EN
CALSCALE:GREGORIAN
METHOD:PUBLISH
X-ORIGINAL-URL:https://www.canadinns.com
X-WR-CALDESC:Events for Canad Inns
REFRESH-INTERVAL;VALUE=DURATION:PT1H
X-Robots-Tag:noindex
X-PUBLISHED-TTL:PT1H
BEGIN:VTIMEZONE
TZID:America/Winnipeg
BEGIN:DAYLIGHT
TZOFFSETFROM:-0600
TZOFFSETTO:-0500
TZNAME:CDT
DTSTART:20230312T080000
END:DAYLIGHT
BEGIN:STANDARD
TZOFFSETFROM:-0500
TZOFFSETTO:-0600
TZNAME:CST
DTSTART:20231105T070000
END:STANDARD
BEGIN:DAYLIGHT
TZOFFSETFROM:-0600
TZOFFSETTO:-0500
TZNAME:CDT
DTSTART:20240310T080000
END:DAYLIGHT
BEGIN:STANDARD
TZOFFSETFROM:-0500
TZOFFSETTO:-0600
TZNAME:CST
DTSTART:20241103T070000
END:STANDARD
BEGIN:DAYLIGHT
TZOFFSETFROM:-0600
TZOFFSETTO:-0500
TZNAME:CDT
DTSTART:20250309T080000
END:DAYLIGHT
BEGIN:STANDARD
TZOFFSETFROM:-0500
TZOFFSETTO:-0600
TZNAME:CST
DTSTART:20251102T070000
END:STANDARD
END:VTIMEZONE
BEGIN:VEVENT
DTSTART;TZID=America/Winnipeg:20240210T080000
DTEND;TZID=America/Winnipeg:20240210T170000
DTSTAMP:20260419T164018
CREATED:20240126T204951Z
LAST-MODIFIED:20240126T205009Z
UID:10029137-1707552000-1707584400@www.canadinns.com
SUMMARY:🔵 Burger It Forward - Tavern United
DESCRIPTION:
URL:https://www.canadinns.com/event/burger-it-forward-tavern-united/2024-02-10/
LOCATION:Tavern United 🔵
CATEGORIES:Special Events
ATTACH;FMTTYPE=image/jpeg:https://www.canadinns.com/wp-content/uploads/2024-01-23-CI-Burger-It-Forward-SOCIAL-1080x1080-Jan2024-FNL-19335.jpg
END:VEVENT
BEGIN:VEVENT
DTSTART;TZID=America/Winnipeg:20240210T110000
DTEND;TZID=America/Winnipeg:20240210T220000
DTSTAMP:20260419T164019
CREATED:20240126T204727Z
LAST-MODIFIED:20240126T204727Z
UID:10029108-1707562800-1707602400@www.canadinns.com
SUMMARY:🟠 Burger It Forward - Garbonzo's
DESCRIPTION:
URL:https://www.canadinns.com/event/burger-it-forward-garbonzos/2024-02-10/
LOCATION:Garbonzo’s 🟠
CATEGORIES:Special Events
ATTACH;FMTTYPE=image/jpeg:https://www.canadinns.com/wp-content/uploads/2024-01-23-CI-Burger-It-Forward-SOCIAL-1080x1080-Jan2024-FNL-19335.jpg
END:VEVENT
BEGIN:VEVENT
DTSTART;TZID=America/Winnipeg:20240210T113000
DTEND;TZID=America/Winnipeg:20240210T203000
DTSTAMP:20260419T164019
CREATED:20240126T204512Z
LAST-MODIFIED:20240126T204512Z
UID:10029079-1707564600-1707597000@www.canadinns.com
SUMMARY:⚪ Burger It Forward - Resto 12
DESCRIPTION:
URL:https://www.canadinns.com/event/burger-it-forward-resto-12/2024-02-10/
LOCATION:Resto 12 ⚪
CATEGORIES:Special Events
ATTACH;FMTTYPE=image/jpeg:https://www.canadinns.com/wp-content/uploads/2024-01-23-CI-Burger-It-Forward-SOCIAL-1080x1080-Jan2024-FNL-19335.jpg
END:VEVENT
BEGIN:VEVENT
DTSTART;TZID=America/Winnipeg:20240210T170000
DTEND;TZID=America/Winnipeg:20240210T200000
DTSTAMP:20260419T164019
CREATED:20240205T195328Z
LAST-MODIFIED:20240205T195339Z
UID:10029159-1707584400-1707595200@www.canadinns.com
SUMMARY:🟢 Aaltos Lunar New Year Buffet
DESCRIPTION:
URL:https://www.canadinns.com/event/aaltos-lunar-new-year-buffet/2024-02-10/
LOCATION:Aaltos 🟢
CATEGORIES:Holiday Events,Special Events
ATTACH;FMTTYPE=image/jpeg:https://www.canadinns.com/wp-content/uploads/2024-02-02-CI-Aaltos-LunarNewYearBuffet1080x1080-FNL-19419.jpg
END:VEVENT
END:VCALENDAR