BEGIN:VCALENDAR
VERSION:2.0
PRODID:-//Canad Inns - ECPv6.15.17.1//NONSGML v1.0//EN
CALSCALE:GREGORIAN
METHOD:PUBLISH
X-ORIGINAL-URL:https://www.canadinns.com
X-WR-CALDESC:Events for Canad Inns
REFRESH-INTERVAL;VALUE=DURATION:PT1H
X-Robots-Tag:noindex
X-PUBLISHED-TTL:PT1H
BEGIN:VTIMEZONE
TZID:America/Winnipeg
BEGIN:DAYLIGHT
TZOFFSETFROM:-0600
TZOFFSETTO:-0500
TZNAME:CDT
DTSTART:20220313T080000
END:DAYLIGHT
BEGIN:STANDARD
TZOFFSETFROM:-0500
TZOFFSETTO:-0600
TZNAME:CST
DTSTART:20221106T070000
END:STANDARD
BEGIN:DAYLIGHT
TZOFFSETFROM:-0600
TZOFFSETTO:-0500
TZNAME:CDT
DTSTART:20230312T080000
END:DAYLIGHT
BEGIN:STANDARD
TZOFFSETFROM:-0500
TZOFFSETTO:-0600
TZNAME:CST
DTSTART:20231105T070000
END:STANDARD
BEGIN:DAYLIGHT
TZOFFSETFROM:-0600
TZOFFSETTO:-0500
TZNAME:CDT
DTSTART:20240310T080000
END:DAYLIGHT
BEGIN:STANDARD
TZOFFSETFROM:-0500
TZOFFSETTO:-0600
TZNAME:CST
DTSTART:20241103T070000
END:STANDARD
END:VTIMEZONE
BEGIN:VEVENT
DTSTART;TZID=America/Winnipeg:20231114T163000
DTEND;TZID=America/Winnipeg:20231114T193000
DTSTAMP:20260419T174630
CREATED:20231013T173429Z
LAST-MODIFIED:20231013T173429Z
UID:10028634-1699979400-1699990200@www.canadinns.com
SUMMARY:⚪ Resto 12 Home Game Day Buffet
DESCRIPTION:
URL:https://www.canadinns.com/event/%e2%9a%aa-resto-12-home-game-day-buffet-2/
LOCATION:Resto 12 ⚪
CATEGORIES:Special Events
ATTACH;FMTTYPE=image/jpeg:https://www.canadinns.com/wp-content/uploads/2023-10-05-CI-Resto12-Game-Day-Poster11x17-Sept2023-FNL-18939-1-scaled.jpg
END:VEVENT
BEGIN:VEVENT
DTSTART;TZID=America/Winnipeg:20231114T163000
DTEND;TZID=America/Winnipeg:20231114T203000
DTSTAMP:20260419T174630
CREATED:20231013T192653Z
LAST-MODIFIED:20231013T192653Z
UID:10028655-1699979400-1699993800@www.canadinns.com
SUMMARY:⚪ Resto 12 Home Game Beverage Special
DESCRIPTION:
URL:https://www.canadinns.com/event/resto-12-home-game-beverage-special-9/
LOCATION:Resto 12 ⚪
CATEGORIES:Special Events
ATTACH;FMTTYPE=image/jpeg:https://www.canadinns.com/wp-content/uploads/RESTO-12-DIGITAL_page-0001-scaled.jpg
END:VEVENT
END:VCALENDAR