BEGIN:VCALENDAR
VERSION:2.0
PRODID:-//Canad Inns - ECPv6.15.17.1//NONSGML v1.0//EN
CALSCALE:GREGORIAN
METHOD:PUBLISH
X-WR-CALNAME:Canad Inns
X-ORIGINAL-URL:https://www.canadinns.com
X-WR-CALDESC:Events for Canad Inns
REFRESH-INTERVAL;VALUE=DURATION:PT1H
X-Robots-Tag:noindex
X-PUBLISHED-TTL:PT1H
BEGIN:VTIMEZONE
TZID:America/Winnipeg
BEGIN:DAYLIGHT
TZOFFSETFROM:-0600
TZOFFSETTO:-0500
TZNAME:CDT
DTSTART:20220313T080000
END:DAYLIGHT
BEGIN:STANDARD
TZOFFSETFROM:-0500
TZOFFSETTO:-0600
TZNAME:CST
DTSTART:20221106T070000
END:STANDARD
BEGIN:DAYLIGHT
TZOFFSETFROM:-0600
TZOFFSETTO:-0500
TZNAME:CDT
DTSTART:20230312T080000
END:DAYLIGHT
BEGIN:STANDARD
TZOFFSETFROM:-0500
TZOFFSETTO:-0600
TZNAME:CST
DTSTART:20231105T070000
END:STANDARD
BEGIN:DAYLIGHT
TZOFFSETFROM:-0600
TZOFFSETTO:-0500
TZNAME:CDT
DTSTART:20240310T080000
END:DAYLIGHT
BEGIN:STANDARD
TZOFFSETFROM:-0500
TZOFFSETTO:-0600
TZNAME:CST
DTSTART:20241103T070000
END:STANDARD
END:VTIMEZONE
BEGIN:VEVENT
DTSTART;VALUE=DATE:20230903
DTEND;VALUE=DATE:20230910
DTSTAMP:20260419T234803
CREATED:20230816T181508Z
LAST-MODIFIED:20230816T181508Z
UID:10028168-1693699200-1694303999@www.canadinns.com
SUMMARY:Mennonite Heritage Week
DESCRIPTION:
URL:https://www.canadinns.com/event/mennonite-heritage-week/
CATEGORIES:Special Events
ATTACH;FMTTYPE=image/jpeg:https://www.canadinns.com/wp-content/uploads/2023-08-14-CI-SocialMediaGraphicsSepMennoiteHeritage-Aug2023-FNL-18718.jpg
END:VEVENT
BEGIN:VEVENT
DTSTART;VALUE=DATE:20230903
DTEND;VALUE=DATE:20230910
DTSTAMP:20260419T234803
CREATED:20230816T181733Z
LAST-MODIFIED:20230816T181733Z
UID:10028169-1693699200-1694303999@www.canadinns.com
SUMMARY:National Housekeepers Week
DESCRIPTION:
URL:https://www.canadinns.com/event/national-housekeepers-week/
CATEGORIES:Special Events
ATTACH;FMTTYPE=image/jpeg:https://www.canadinns.com/wp-content/uploads/2023-08-14-CI-SocialMediaGraphicsSepHousekeepersWeek-Aug2023-FNL-18718.jpg
END:VEVENT
BEGIN:VEVENT
DTSTART;TZID=America/Winnipeg:20230907T080000
DTEND;TZID=America/Winnipeg:20230907T233000
DTSTAMP:20260419T234803
CREATED:20230828T142000Z
LAST-MODIFIED:20230831T150325Z
UID:10028180-1694073600-1694129400@www.canadinns.com
SUMMARY:🟠 Le Burger Week - Garbonzo's
DESCRIPTION:
URL:https://www.canadinns.com/event/le-burger-week-garbonzos/2023-09-07/
LOCATION:Garbonzo’s 🟠
CATEGORIES:Special Events
ATTACH;FMTTYPE=image/jpeg:https://www.canadinns.com/wp-content/uploads/18778-CI-TU-GSP-SocialMedia-LeBurgerWeekMenu1080x1080-Aug2023-FNL-1.jpg
END:VEVENT
BEGIN:VEVENT
DTSTART;TZID=America/Winnipeg:20230907T080000
DTEND;TZID=America/Winnipeg:20230907T233000
DTSTAMP:20260419T234803
CREATED:20230830T194056Z
LAST-MODIFIED:20230830T194257Z
UID:10028560-1694073600-1694129400@www.canadinns.com
SUMMARY:🔵 Le Burger Week - Tavern United
DESCRIPTION:
URL:https://www.canadinns.com/event/le-burger-week-tavern-united/2023-09-07/
LOCATION:Tavern United 🔵
CATEGORIES:Special Events
ATTACH;FMTTYPE=image/jpeg:https://www.canadinns.com/wp-content/uploads/18778-CI-TU-GSP-SocialMedia-LeBurgerWeekMenu1080x1080-Aug2023-FNL-1.jpg
END:VEVENT
BEGIN:VEVENT
DTSTART;TZID=America/Winnipeg:20230907T190000
DTEND;TZID=America/Winnipeg:20230907T220000
DTSTAMP:20260419T234803
CREATED:20230705T192119Z
LAST-MODIFIED:20230705T192119Z
UID:10028162-1694113200-1694124000@www.canadinns.com
SUMMARY:🟠 Garbonzo’s Sports Pub – Trivia Thursdays
DESCRIPTION:
URL:https://www.canadinns.com/event/garbonzos-sports-pub-trivia-thursdays-8/
LOCATION:Garbonzo’s 🟠
CATEGORIES:Special Events
ATTACH;FMTTYPE=image/jpeg:https://www.canadinns.com/wp-content/uploads/Sex-and-the-City-09-07.jpg
END:VEVENT
END:VCALENDAR