BEGIN:VCALENDAR
VERSION:2.0
PRODID:-//Canad Inns - ECPv6.15.17.1//NONSGML v1.0//EN
CALSCALE:GREGORIAN
METHOD:PUBLISH
X-WR-CALNAME:Canad Inns
X-ORIGINAL-URL:https://www.canadinns.com
X-WR-CALDESC:Events for Canad Inns
REFRESH-INTERVAL;VALUE=DURATION:PT1H
X-Robots-Tag:noindex
X-PUBLISHED-TTL:PT1H
BEGIN:VTIMEZONE
TZID:America/Winnipeg
BEGIN:DAYLIGHT
TZOFFSETFROM:-0600
TZOFFSETTO:-0500
TZNAME:CDT
DTSTART:20220313T080000
END:DAYLIGHT
BEGIN:STANDARD
TZOFFSETFROM:-0500
TZOFFSETTO:-0600
TZNAME:CST
DTSTART:20221106T070000
END:STANDARD
BEGIN:DAYLIGHT
TZOFFSETFROM:-0600
TZOFFSETTO:-0500
TZNAME:CDT
DTSTART:20230312T080000
END:DAYLIGHT
BEGIN:STANDARD
TZOFFSETFROM:-0500
TZOFFSETTO:-0600
TZNAME:CST
DTSTART:20231105T070000
END:STANDARD
BEGIN:DAYLIGHT
TZOFFSETFROM:-0600
TZOFFSETTO:-0500
TZNAME:CDT
DTSTART:20240310T080000
END:DAYLIGHT
BEGIN:STANDARD
TZOFFSETFROM:-0500
TZOFFSETTO:-0600
TZNAME:CST
DTSTART:20241103T070000
END:STANDARD
END:VTIMEZONE
BEGIN:VEVENT
DTSTART;VALUE=DATE:20230601
DTEND;VALUE=DATE:20230602
DTSTAMP:20260421T200140
CREATED:20230531T180427Z
LAST-MODIFIED:20230531T180427Z
UID:10028142-1685577600-1685663999@www.canadinns.com
SUMMARY:Pride Month
DESCRIPTION:
URL:https://www.canadinns.com/event/pride-month/
CATEGORIES:Special Events
ATTACH;FMTTYPE=image/jpeg:https://www.canadinns.com/wp-content/uploads/2023-05-31-CI-SocialMediaPostsPride-FNL-18547.jpg
END:VEVENT
BEGIN:VEVENT
DTSTART;TZID=America/Winnipeg:20230601T190000
DTEND;TZID=America/Winnipeg:20230601T220000
DTSTAMP:20260421T200140
CREATED:20230420T151418Z
LAST-MODIFIED:20230420T151837Z
UID:10028084-1685646000-1685656800@www.canadinns.com
SUMMARY:🟠 Garbonzo’s Sports Pub – Trivia Thursdays
DESCRIPTION:
URL:https://www.canadinns.com/event/garbonzos-sports-pub-trivia-thursdays-2/2023-06-01/
LOCATION:Garbonzo’s 🟠
CATEGORIES:Special Events
ATTACH;FMTTYPE=image/jpeg:https://www.canadinns.com/wp-content/uploads/2023-04-13-CI-GSP-GarbonzosTriviaNights-FNL-18363.jpg
END:VEVENT
BEGIN:VEVENT
DTSTART;TZID=America/Winnipeg:20230615T190000
DTEND;TZID=America/Winnipeg:20230615T220000
DTSTAMP:20260421T200140
CREATED:20230420T151418Z
LAST-MODIFIED:20230420T151837Z
UID:10028085-1686855600-1686866400@www.canadinns.com
SUMMARY:🟠 Garbonzo’s Sports Pub – Trivia Thursdays
DESCRIPTION:
URL:https://www.canadinns.com/event/garbonzos-sports-pub-trivia-thursdays-2/2023-06-15/
LOCATION:Garbonzo’s 🟠
CATEGORIES:Special Events
ATTACH;FMTTYPE=image/jpeg:https://www.canadinns.com/wp-content/uploads/2023-04-13-CI-GSP-GarbonzosTriviaNights-FNL-18363.jpg
END:VEVENT
BEGIN:VEVENT
DTSTART;VALUE=DATE:20230627
DTEND;VALUE=DATE:20230628
DTSTAMP:20260421T200140
CREATED:20230529T183512Z
LAST-MODIFIED:20230607T144403Z
UID:10028141-1687824000-1687910399@www.canadinns.com
SUMMARY:Canadian Multiculturalism Day
DESCRIPTION:
URL:https://www.canadinns.com/event/canadian-multiculturalism-day/
CATEGORIES:Special Events
ATTACH;FMTTYPE=image/jpeg:https://www.canadinns.com/wp-content/uploads/2022-06-01-CI-SocialMediaPostsCANADIAN-MUTLICULTURALISM-DAY-FNL-172047.jpg
END:VEVENT
BEGIN:VEVENT
DTSTART;TZID=America/Winnipeg:20230629T190000
DTEND;TZID=America/Winnipeg:20230629T220000
DTSTAMP:20260421T200140
CREATED:20230420T151418Z
LAST-MODIFIED:20230420T151837Z
UID:10028086-1688065200-1688076000@www.canadinns.com
SUMMARY:🟠 Garbonzo’s Sports Pub – Trivia Thursdays
DESCRIPTION:
URL:https://www.canadinns.com/event/garbonzos-sports-pub-trivia-thursdays-2/2023-06-29/
LOCATION:Garbonzo’s 🟠
CATEGORIES:Special Events
ATTACH;FMTTYPE=image/jpeg:https://www.canadinns.com/wp-content/uploads/2023-04-13-CI-GSP-GarbonzosTriviaNights-FNL-18363.jpg
END:VEVENT
END:VCALENDAR