BEGIN:VCALENDAR
VERSION:2.0
PRODID:-//Canad Inns - ECPv6.15.17.1//NONSGML v1.0//EN
CALSCALE:GREGORIAN
METHOD:PUBLISH
X-WR-CALNAME:Canad Inns
X-ORIGINAL-URL:https://www.canadinns.com
X-WR-CALDESC:Events for Canad Inns
REFRESH-INTERVAL;VALUE=DURATION:PT1H
X-Robots-Tag:noindex
X-PUBLISHED-TTL:PT1H
BEGIN:VTIMEZONE
TZID:America/Winnipeg
BEGIN:DAYLIGHT
TZOFFSETFROM:-0600
TZOFFSETTO:-0500
TZNAME:CDT
DTSTART:20220313T080000
END:DAYLIGHT
BEGIN:STANDARD
TZOFFSETFROM:-0500
TZOFFSETTO:-0600
TZNAME:CST
DTSTART:20221106T070000
END:STANDARD
BEGIN:DAYLIGHT
TZOFFSETFROM:-0600
TZOFFSETTO:-0500
TZNAME:CDT
DTSTART:20230312T080000
END:DAYLIGHT
BEGIN:STANDARD
TZOFFSETFROM:-0500
TZOFFSETTO:-0600
TZNAME:CST
DTSTART:20231105T070000
END:STANDARD
BEGIN:DAYLIGHT
TZOFFSETFROM:-0600
TZOFFSETTO:-0500
TZNAME:CDT
DTSTART:20240310T080000
END:DAYLIGHT
BEGIN:STANDARD
TZOFFSETFROM:-0500
TZOFFSETTO:-0600
TZNAME:CST
DTSTART:20241103T070000
END:STANDARD
END:VTIMEZONE
BEGIN:VEVENT
DTSTART;TZID=America/Winnipeg:20230402T100000
DTEND;TZID=America/Winnipeg:20230402T235900
DTSTAMP:20260423T155935
CREATED:20230420T150656Z
LAST-MODIFIED:20230420T150945Z
UID:10027974-1680429600-1680479940@www.canadinns.com
SUMMARY:🟠 Garbonzo’s Sports Pub – Trivia Thursdays
DESCRIPTION:
URL:https://www.canadinns.com/event/garbonzos-sports-pub-trivia-thursdays/2023-04-02/
LOCATION:Garbonzo’s 🟠
CATEGORIES:Special Events
ATTACH;FMTTYPE=image/jpeg:https://www.canadinns.com/wp-content/uploads/2023-04-13-CI-GSP-GarbonzosTriviaNights-FNL-18363.jpg
END:VEVENT
BEGIN:VEVENT
DTSTART;TZID=America/Winnipeg:20230406T080000
DTEND;TZID=America/Winnipeg:20230406T170000
DTSTAMP:20260423T155935
CREATED:20230322T220903Z
LAST-MODIFIED:20230322T220949Z
UID:10010217-1680768000-1680800400@www.canadinns.com
SUMMARY:🔴 Canad Inns Job Fair @ Canad Inns Destination Centre Garden City
DESCRIPTION:
URL:https://www.canadinns.com/event/canad-inns-job-fair-canad-inns-destination-centre-garden-city/
LOCATION:Canad Inns Destination Centres 🔴
CATEGORIES:Special Events
END:VEVENT
BEGIN:VEVENT
DTSTART;VALUE=DATE:20230407
DTEND;VALUE=DATE:20230408
DTSTAMP:20260423T155935
CREATED:20230322T220749Z
LAST-MODIFIED:20230322T220749Z
UID:10010216-1680825600-1680911999@www.canadinns.com
SUMMARY:National Beer Day
DESCRIPTION:
URL:https://www.canadinns.com/event/national-beer-day/
CATEGORIES:Special Events
ATTACH;FMTTYPE=image/jpeg:https://www.canadinns.com/wp-content/uploads/2023-02-03-CI-SocialMediaGraphicsLouisRielDay-FNL-18012.jpg
END:VEVENT
BEGIN:VEVENT
DTSTART;TZID=America/Winnipeg:20230409T100000
DTEND;TZID=America/Winnipeg:20230409T235900
DTSTAMP:20260423T155935
CREATED:20230420T150656Z
LAST-MODIFIED:20230420T150945Z
UID:10027975-1681034400-1681084740@www.canadinns.com
SUMMARY:🟠 Garbonzo’s Sports Pub – Trivia Thursdays
DESCRIPTION:
URL:https://www.canadinns.com/event/garbonzos-sports-pub-trivia-thursdays/2023-04-09/
LOCATION:Garbonzo’s 🟠
CATEGORIES:Special Events
ATTACH;FMTTYPE=image/jpeg:https://www.canadinns.com/wp-content/uploads/2023-04-13-CI-GSP-GarbonzosTriviaNights-FNL-18363.jpg
END:VEVENT
BEGIN:VEVENT
DTSTART;TZID=America/Winnipeg:20230416T080000
DTEND;TZID=America/Winnipeg:20230416T170000
DTSTAMP:20260423T155935
CREATED:20230322T221033Z
LAST-MODIFIED:20230322T221033Z
UID:10010218-1681632000-1681664400@www.canadinns.com
SUMMARY:🔴 Canad Inns Job Fair @ Canad Inns Destination Centre Grand Forks
DESCRIPTION:
URL:https://www.canadinns.com/event/canad-inns-job-fair-canad-inns-destination-centre-grand-forks/
LOCATION:Canad Inns Destination Centres 🔴
CATEGORIES:Special Events
END:VEVENT
BEGIN:VEVENT
DTSTART;TZID=America/Winnipeg:20230416T100000
DTEND;TZID=America/Winnipeg:20230416T235900
DTSTAMP:20260423T155935
CREATED:20230420T150656Z
LAST-MODIFIED:20230420T150945Z
UID:10027976-1681639200-1681689540@www.canadinns.com
SUMMARY:🟠 Garbonzo’s Sports Pub – Trivia Thursdays
DESCRIPTION:
URL:https://www.canadinns.com/event/garbonzos-sports-pub-trivia-thursdays/2023-04-16/
LOCATION:Garbonzo’s 🟠
CATEGORIES:Special Events
ATTACH;FMTTYPE=image/jpeg:https://www.canadinns.com/wp-content/uploads/2023-04-13-CI-GSP-GarbonzosTriviaNights-FNL-18363.jpg
END:VEVENT
BEGIN:VEVENT
DTSTART;TZID=America/Winnipeg:20230420T190000
DTEND;TZID=America/Winnipeg:20230420T220000
DTSTAMP:20260423T155935
CREATED:20230420T151418Z
LAST-MODIFIED:20230420T151837Z
UID:10027977-1682017200-1682028000@www.canadinns.com
SUMMARY:🟠 Garbonzo’s Sports Pub – Trivia Thursdays
DESCRIPTION:
URL:https://www.canadinns.com/event/garbonzos-sports-pub-trivia-thursdays-2/2023-04-20/
LOCATION:Garbonzo’s 🟠
CATEGORIES:Special Events
ATTACH;FMTTYPE=image/jpeg:https://www.canadinns.com/wp-content/uploads/2023-04-13-CI-GSP-GarbonzosTriviaNights-FNL-18363.jpg
END:VEVENT
BEGIN:VEVENT
DTSTART;TZID=America/Winnipeg:20230422T190000
DTEND;TZID=America/Winnipeg:20230422T233000
DTSTAMP:20260423T155935
CREATED:20230322T221202Z
LAST-MODIFIED:20230322T221219Z
UID:10010219-1682190000-1682206200@www.canadinns.com
SUMMARY:⚫️ Retro 70’s Dance Party @ The MET
DESCRIPTION:
URL:https://www.canadinns.com/event/retro-70s-dance-party-the-met/
LOCATION:The MET ⚫️
CATEGORIES:Special Events
END:VEVENT
END:VCALENDAR