BEGIN:VCALENDAR
VERSION:2.0
PRODID:-//Canad Inns - ECPv6.15.17.1//NONSGML v1.0//EN
CALSCALE:GREGORIAN
METHOD:PUBLISH
X-ORIGINAL-URL:https://www.canadinns.com
X-WR-CALDESC:Events for Canad Inns
REFRESH-INTERVAL;VALUE=DURATION:PT1H
X-Robots-Tag:noindex
X-PUBLISHED-TTL:PT1H
BEGIN:VTIMEZONE
TZID:America/Winnipeg
BEGIN:DAYLIGHT
TZOFFSETFROM:-0600
TZOFFSETTO:-0500
TZNAME:CDT
DTSTART:20230312T080000
END:DAYLIGHT
BEGIN:STANDARD
TZOFFSETFROM:-0500
TZOFFSETTO:-0600
TZNAME:CST
DTSTART:20231105T070000
END:STANDARD
BEGIN:DAYLIGHT
TZOFFSETFROM:-0600
TZOFFSETTO:-0500
TZNAME:CDT
DTSTART:20240310T080000
END:DAYLIGHT
BEGIN:STANDARD
TZOFFSETFROM:-0500
TZOFFSETTO:-0600
TZNAME:CST
DTSTART:20241103T070000
END:STANDARD
BEGIN:DAYLIGHT
TZOFFSETFROM:-0600
TZOFFSETTO:-0500
TZNAME:CDT
DTSTART:20250309T080000
END:DAYLIGHT
BEGIN:STANDARD
TZOFFSETFROM:-0500
TZOFFSETTO:-0600
TZNAME:CST
DTSTART:20251102T070000
END:STANDARD
END:VTIMEZONE
BEGIN:VEVENT
DTSTART;VALUE=DATE:20240701
DTEND;VALUE=DATE:20240702
DTSTAMP:20260420T220404
CREATED:20240502T151028Z
LAST-MODIFIED:20240502T151028Z
UID:10029366-1719792000-1719878399@www.canadinns.com
SUMMARY:Happy Canada Day!
DESCRIPTION:
URL:https://www.canadinns.com/event/happy-canada-day/
CATEGORIES:General Holidays
ATTACH;FMTTYPE=image/jpeg:https://www.canadinns.com/wp-content/uploads/2022-06-27-CI-SocialMediaPostsCANADA-DAY-FNL-17204-1.jpg
END:VEVENT
BEGIN:VEVENT
DTSTART;TZID=America/Winnipeg:20240704T080000
DTEND;TZID=America/Winnipeg:20240704T170000
DTSTAMP:20260420T220404
CREATED:20240620T194137Z
LAST-MODIFIED:20240620T194137Z
UID:10033288-1720080000-1720112400@www.canadinns.com
SUMMARY:Happy Independence Day.
DESCRIPTION:
URL:https://www.canadinns.com/event/happy-independence-day/
CATEGORIES:General Holidays
END:VEVENT
END:VCALENDAR