BEGIN:VCALENDAR
VERSION:2.0
PRODID:-//Canad Inns - ECPv6.15.17.1//NONSGML v1.0//EN
CALSCALE:GREGORIAN
METHOD:PUBLISH
X-ORIGINAL-URL:https://www.canadinns.com
X-WR-CALDESC:Events for Canad Inns
REFRESH-INTERVAL;VALUE=DURATION:PT1H
X-Robots-Tag:noindex
X-PUBLISHED-TTL:PT1H
BEGIN:VTIMEZONE
TZID:America/Winnipeg
BEGIN:DAYLIGHT
TZOFFSETFROM:-0600
TZOFFSETTO:-0500
TZNAME:CDT
DTSTART:20230312T080000
END:DAYLIGHT
BEGIN:STANDARD
TZOFFSETFROM:-0500
TZOFFSETTO:-0600
TZNAME:CST
DTSTART:20231105T070000
END:STANDARD
BEGIN:DAYLIGHT
TZOFFSETFROM:-0600
TZOFFSETTO:-0500
TZNAME:CDT
DTSTART:20240310T080000
END:DAYLIGHT
BEGIN:STANDARD
TZOFFSETFROM:-0500
TZOFFSETTO:-0600
TZNAME:CST
DTSTART:20241103T070000
END:STANDARD
BEGIN:DAYLIGHT
TZOFFSETFROM:-0600
TZOFFSETTO:-0500
TZNAME:CDT
DTSTART:20250309T080000
END:DAYLIGHT
BEGIN:STANDARD
TZOFFSETFROM:-0500
TZOFFSETTO:-0600
TZNAME:CST
DTSTART:20251102T070000
END:STANDARD
BEGIN:DAYLIGHT
TZOFFSETFROM:-0600
TZOFFSETTO:-0500
TZNAME:CDT
DTSTART:20260308T080000
END:DAYLIGHT
BEGIN:STANDARD
TZOFFSETFROM:-0500
TZOFFSETTO:-0600
TZNAME:CST
DTSTART:20261101T070000
END:STANDARD
END:VTIMEZONE
BEGIN:VEVENT
DTSTART;VALUE=DATE:20240902
DTEND;VALUE=DATE:20240903
DTSTAMP:20260419T183708
CREATED:20240709T131718Z
LAST-MODIFIED:20240828T150305Z
UID:10033350-1725235200-1725321599@www.canadinns.com
SUMMARY:Labour Day
DESCRIPTION:This Labour Day\, we recognize the dedication and resilience of workers everywhere. Whether you’re on the frontlines\, behind a desk\, or working from home\, your efforts make a difference every day.
URL:https://www.canadinns.com/event/labour-day/
CATEGORIES:General Holidays
END:VEVENT
BEGIN:VEVENT
DTSTART;VALUE=DATE:20240930
DTEND;VALUE=DATE:20241001
DTSTAMP:20260419T183708
CREATED:20240709T132249Z
LAST-MODIFIED:20240923T143842Z
UID:10033406-1727654400-1727740799@www.canadinns.com
SUMMARY:National Day of Truth & Reconciliation
DESCRIPTION:Today marks the National Day for Truth and Reconciliation; a day dedicated to honouring children who never returned home and the survivors of residential schools\, along with their families and communities.   On this day\, we at Canad Inns stand in solidarity with Indigenous communities and want to reaffirm our dedication to learning and growing together.
URL:https://www.canadinns.com/event/national-day-of-truth-reconciliation-2/
CATEGORIES:General Holidays
ATTACH;FMTTYPE=image/jpeg:https://www.canadinns.com/wp-content/uploads/2024-08-08-CI-SocialMediaGraphicsSeptTruthandReconciliation-July2024-FNL-19924.jpg
END:VEVENT
BEGIN:VEVENT
DTSTART;VALUE=DATE:20241014
DTEND;VALUE=DATE:20241015
DTSTAMP:20260419T183708
CREATED:20241007T191151Z
LAST-MODIFIED:20241007T191151Z
UID:10043315-1728864000-1728950399@www.canadinns.com
SUMMARY:Thanksgiving
DESCRIPTION:Happy Thanksgiving!  \nAs we gather to reflect on the year\, let’s take a moment to express our gratitude for our colleagues\, partners\, and the incredible work we accomplish together.\nWishing you all a day filled with joy\, warmth\, and meaningful connections. \nEnjoy this time with family and friends! 🍂🦃
URL:https://www.canadinns.com/event/thanksgiving/
CATEGORIES:General Holidays
ATTACH;FMTTYPE=image/png:https://www.canadinns.com/wp-content/uploads/Canad-Inns-Happy-Thanksgiving-Graphic.png
END:VEVENT
BEGIN:VEVENT
DTSTART;TZID=America/Winnipeg:20241031T000000
DTEND;TZID=America/Winnipeg:20241031T000000
DTSTAMP:20260419T183708
CREATED:20241011T190032Z
LAST-MODIFIED:20241011T190100Z
UID:10043324-1730332800-1730332800@www.canadinns.com
SUMMARY:Happy Halloween!
DESCRIPTION:🎃 Happy Halloween! 👻 \nIt’s that spooky time of the year!Whether you’re dressing up enjoying some treats or spending time with friends and family\, we hope your Halloween is filled with frights\, and fantastic memories. \nStay safe and enjoy all the spooky festivities!
URL:https://www.canadinns.com/event/happy-halloween/
CATEGORIES:General Holidays
ATTACH;FMTTYPE=image/png:https://www.canadinns.com/wp-content/uploads/Happy-Halloween-2024-1.png
END:VEVENT
BEGIN:VEVENT
DTSTART;VALUE=DATE:20241111
DTEND;VALUE=DATE:20241112
DTSTAMP:20260419T183708
CREATED:20241007T190830Z
LAST-MODIFIED:20241007T190830Z
UID:10043313-1731283200-1731369599@www.canadinns.com
SUMMARY:Remembrance Day
DESCRIPTION:Honouring Our Heroes on Remembrance Day 🇨🇦 \nOn this Remembrance Day\, we honour the brave men and women who have served and sacrificed for our country.Their dedication has played a cruicial role in preserving the freedoms we enjoy today. \nLet’s take a moment to remember those who served and pay tribute to their unwavering commitment. \nLest We Forget.
URL:https://www.canadinns.com/event/remembrance-day-2/
CATEGORIES:General Holidays
ATTACH;FMTTYPE=image/jpeg:https://www.canadinns.com/wp-content/uploads/2024-08-08-CI-SocialMediaGraphicsNovRemembranceDay-July2024-FNL-19924.jpg
END:VEVENT
BEGIN:VEVENT
DTSTART;VALUE=DATE:20250701
DTEND;VALUE=DATE:20250702
DTSTAMP:20260419T183708
CREATED:20250623T190447Z
LAST-MODIFIED:20250623T190447Z
UID:10048169-1751328000-1751414399@www.canadinns.com
SUMMARY:Canada Day
DESCRIPTION:Canada Day \nHappy Canada Day from all of us at Canad Inns! 🍁 \nAs a proudly Manitoba Owned\, Manitoba Grown and Manitoba Proud company\, we are honoured to celebrate this beautiful country we call home. Today\, we celebrate the people\, values\, and spirit that make the True North strong and free. \nWishing you and your family a joyful\, safe and a proudly Canadian Canada day. 🇨🇦 \n#ProudToBeCanadian #HappyCanadaDay\n#TrueNorthStrongAndFree
URL:https://www.canadinns.com/event/canada-day-2/
CATEGORIES:General Holidays
ATTACH;FMTTYPE=image/png:https://www.canadinns.com/wp-content/uploads/2025-07-01-CI-July-Dates-of-Significance-Social-Media-Post-1080x1080-1.png
END:VEVENT
END:VCALENDAR