BEGIN:VCALENDAR
VERSION:2.0
PRODID:-//Canad Inns - ECPv6.15.17.1//NONSGML v1.0//EN
CALSCALE:GREGORIAN
METHOD:PUBLISH
X-WR-CALNAME:Canad Inns
X-ORIGINAL-URL:https://www.canadinns.com
X-WR-CALDESC:Events for Canad Inns
REFRESH-INTERVAL;VALUE=DURATION:PT1H
X-Robots-Tag:noindex
X-PUBLISHED-TTL:PT1H
BEGIN:VTIMEZONE
TZID:America/Winnipeg
BEGIN:DAYLIGHT
TZOFFSETFROM:-0600
TZOFFSETTO:-0500
TZNAME:CDT
DTSTART:20260308T080000
END:DAYLIGHT
BEGIN:STANDARD
TZOFFSETFROM:-0500
TZOFFSETTO:-0600
TZNAME:CST
DTSTART:20261101T070000
END:STANDARD
BEGIN:DAYLIGHT
TZOFFSETFROM:-0600
TZOFFSETTO:-0500
TZNAME:CDT
DTSTART:20270314T080000
END:DAYLIGHT
BEGIN:STANDARD
TZOFFSETFROM:-0500
TZOFFSETTO:-0600
TZNAME:CST
DTSTART:20271107T070000
END:STANDARD
BEGIN:DAYLIGHT
TZOFFSETFROM:-0600
TZOFFSETTO:-0500
TZNAME:CDT
DTSTART:20280312T080000
END:DAYLIGHT
BEGIN:STANDARD
TZOFFSETFROM:-0500
TZOFFSETTO:-0600
TZNAME:CST
DTSTART:20281105T070000
END:STANDARD
END:VTIMEZONE
BEGIN:VEVENT
DTSTART;TZID=America/Winnipeg:20270404T100000
DTEND;TZID=America/Winnipeg:20270404T180000
DTSTAMP:20260421T213400
CREATED:20230327T122421Z
LAST-MODIFIED:20230327T122440Z
UID:10027922-1806832800-1806861600@www.canadinns.com
SUMMARY:🟠 Garbonzo’s Sports Pub Daily Beverage Features - Garbonzo’s Signature Caesar
DESCRIPTION:
URL:https://www.canadinns.com/event/garbonzos-sports-pub-daily-beverage-features-garbonzos-signature-caesar/2027-04-04/
LOCATION:Garbonzo’s 🟠
CATEGORIES:Garbonzo’s Daily Deals
END:VEVENT
BEGIN:VEVENT
DTSTART;TZID=America/Winnipeg:20270404T100000
DTEND;TZID=America/Winnipeg:20270404T180000
DTSTAMP:20260421T213400
CREATED:20240603T165315Z
LAST-MODIFIED:20240603T165315Z
UID:10032432-1806832800-1806861600@www.canadinns.com
SUMMARY:🟠 Garbonzo’s Sports Pub – Happier Hours Until 6pm
DESCRIPTION:
URL:https://www.canadinns.com/event/garbonzos-sports-pub-happier-hours-until-6pm/2027-04-04/
LOCATION:Garbonzo’s 🟠
CATEGORIES:Garbonzo’s Daily Deals
ATTACH;FMTTYPE=image/jpeg:https://www.canadinns.com/wp-content/uploads/2023-11-15_19087-CI-Garbonzos-Anti-Inflation-Happier-Hours-1080x1080-Nov2023-FNL.jpg
END:VEVENT
BEGIN:VEVENT
DTSTART;TZID=America/Winnipeg:20270404T100000
DTEND;TZID=America/Winnipeg:20270404T235900
DTSTAMP:20260421T213400
CREATED:20230327T121535Z
LAST-MODIFIED:20240603T153930Z
UID:10029803-1806832800-1806883140@www.canadinns.com
SUMMARY:🟠 Garbonzo’s Sports Pub – Saucy Sunday
DESCRIPTION:
URL:https://www.canadinns.com/event/garbonzos-sports-pub-saucy-sunday/2027-04-04/
LOCATION:Garbonzo’s 🟠
CATEGORIES:Garbonzo’s Daily Deals
ATTACH;FMTTYPE=image/jpeg:https://www.canadinns.com/wp-content/uploads/GSP_Meal-Deal_Sunday.jpg
END:VEVENT
BEGIN:VEVENT
DTSTART;TZID=America/Winnipeg:20270405T100000
DTEND;TZID=America/Winnipeg:20270405T180000
DTSTAMP:20260421T213400
CREATED:20230327T121909Z
LAST-MODIFIED:20230327T121952Z
UID:10024789-1806919200-1806948000@www.canadinns.com
SUMMARY:🟠 Garbonzo’s Sports Pub Daily Beverage Features - Royal Peach Tea
DESCRIPTION:
URL:https://www.canadinns.com/event/garbonzos-sports-pub-daily-beverage-features-royal-peach-tea/2027-04-05/
LOCATION:Garbonzo’s 🟠
CATEGORIES:Garbonzo’s Daily Deals
END:VEVENT
BEGIN:VEVENT
DTSTART;TZID=America/Winnipeg:20270405T100000
DTEND;TZID=America/Winnipeg:20270405T180000
DTSTAMP:20260421T213400
CREATED:20240603T165315Z
LAST-MODIFIED:20240603T165315Z
UID:10032433-1806919200-1806948000@www.canadinns.com
SUMMARY:🟠 Garbonzo’s Sports Pub – Happier Hours Until 6pm
DESCRIPTION:
URL:https://www.canadinns.com/event/garbonzos-sports-pub-happier-hours-until-6pm/2027-04-05/
LOCATION:Garbonzo’s 🟠
CATEGORIES:Garbonzo’s Daily Deals
ATTACH;FMTTYPE=image/jpeg:https://www.canadinns.com/wp-content/uploads/2023-11-15_19087-CI-Garbonzos-Anti-Inflation-Happier-Hours-1080x1080-Nov2023-FNL.jpg
END:VEVENT
BEGIN:VEVENT
DTSTART;TZID=America/Winnipeg:20270405T100000
DTEND;TZID=America/Winnipeg:20270405T235900
DTSTAMP:20260421T213400
CREATED:20230327T121014Z
LAST-MODIFIED:20240603T154122Z
UID:10030020-1806919200-1806969540@www.canadinns.com
SUMMARY:🟠 Garbonzo’s Sports Pub – Meal Deal Monday
DESCRIPTION:
URL:https://www.canadinns.com/event/garbonzos-sports-pub-meal-deal-monday/2027-04-05/
LOCATION:Garbonzo’s 🟠
CATEGORIES:Garbonzo’s Daily Deals
ATTACH;FMTTYPE=image/jpeg:https://www.canadinns.com/wp-content/uploads/GSP_Meal-Deal_Monday.jpg
END:VEVENT
BEGIN:VEVENT
DTSTART;TZID=America/Winnipeg:20270406T100000
DTEND;TZID=America/Winnipeg:20270406T180000
DTSTAMP:20260421T213400
CREATED:20230327T122032Z
LAST-MODIFIED:20230327T122050Z
UID:10025313-1807005600-1807034400@www.canadinns.com
SUMMARY:🟠 Garbonzo’s Sports Pub Daily Beverage Features - Garbonzo’s Signature Slushie
DESCRIPTION:
URL:https://www.canadinns.com/event/garbonzos-sports-pub-daily-beverage-features-garbonzos-signature-slushie/2027-04-06/
LOCATION:Garbonzo’s 🟠
CATEGORIES:Garbonzo’s Daily Deals
END:VEVENT
BEGIN:VEVENT
DTSTART;TZID=America/Winnipeg:20270406T100000
DTEND;TZID=America/Winnipeg:20270406T180000
DTSTAMP:20260421T213400
CREATED:20240603T165315Z
LAST-MODIFIED:20240603T165315Z
UID:10032434-1807005600-1807034400@www.canadinns.com
SUMMARY:🟠 Garbonzo’s Sports Pub – Happier Hours Until 6pm
DESCRIPTION:
URL:https://www.canadinns.com/event/garbonzos-sports-pub-happier-hours-until-6pm/2027-04-06/
LOCATION:Garbonzo’s 🟠
CATEGORIES:Garbonzo’s Daily Deals
ATTACH;FMTTYPE=image/jpeg:https://www.canadinns.com/wp-content/uploads/2023-11-15_19087-CI-Garbonzos-Anti-Inflation-Happier-Hours-1080x1080-Nov2023-FNL.jpg
END:VEVENT
BEGIN:VEVENT
DTSTART;TZID=America/Winnipeg:20270406T100000
DTEND;TZID=America/Winnipeg:20270406T235900
DTSTAMP:20260421T213400
CREATED:20230327T121139Z
LAST-MODIFIED:20240603T154252Z
UID:10030236-1807005600-1807055940@www.canadinns.com
SUMMARY:🟠 Garbonzo’s Sports Pub – Two-Topping Tuesday
DESCRIPTION:
URL:https://www.canadinns.com/event/garbonzos-sports-pub-two-topping-tuesday/2027-04-06/
LOCATION:Garbonzo’s 🟠
CATEGORIES:Garbonzo’s Daily Deals
ATTACH;FMTTYPE=image/jpeg:https://www.canadinns.com/wp-content/uploads/GSP_Meal-Deal_Tuesday.jpg
END:VEVENT
BEGIN:VEVENT
DTSTART;TZID=America/Winnipeg:20270407T100000
DTEND;TZID=America/Winnipeg:20270407T180000
DTSTAMP:20260421T213400
CREATED:20230327T122135Z
LAST-MODIFIED:20240603T170150Z
UID:10025835-1807092000-1807120800@www.canadinns.com
SUMMARY:🟠 Garbonzo’s Sports Pub Daily Beverage Features - 14oz Glass Sangria
DESCRIPTION:
URL:https://www.canadinns.com/event/garbonzos-sports-pub-daily-beverage-features-14oz-glass-sangria/2027-04-07/
LOCATION:Garbonzo’s 🟠
CATEGORIES:Garbonzo’s Daily Deals
END:VEVENT
BEGIN:VEVENT
DTSTART;TZID=America/Winnipeg:20270407T100000
DTEND;TZID=America/Winnipeg:20270407T180000
DTSTAMP:20260421T213400
CREATED:20240603T165315Z
LAST-MODIFIED:20240603T165315Z
UID:10032435-1807092000-1807120800@www.canadinns.com
SUMMARY:🟠 Garbonzo’s Sports Pub – Happier Hours Until 6pm
DESCRIPTION:
URL:https://www.canadinns.com/event/garbonzos-sports-pub-happier-hours-until-6pm/2027-04-07/
LOCATION:Garbonzo’s 🟠
CATEGORIES:Garbonzo’s Daily Deals
ATTACH;FMTTYPE=image/jpeg:https://www.canadinns.com/wp-content/uploads/2023-11-15_19087-CI-Garbonzos-Anti-Inflation-Happier-Hours-1080x1080-Nov2023-FNL.jpg
END:VEVENT
BEGIN:VEVENT
DTSTART;TZID=America/Winnipeg:20270407T100000
DTEND;TZID=America/Winnipeg:20270407T235900
DTSTAMP:20260421T213400
CREATED:20240603T160207Z
LAST-MODIFIED:20240603T160207Z
UID:10030497-1807092000-1807142340@www.canadinns.com
SUMMARY:🟠 Garbonzo’s Sports Pub – BOGO Half Price Pasta
DESCRIPTION:
URL:https://www.canadinns.com/event/garbonzos-sports-pub-bogo-half-price-pasta/2027-04-07/
LOCATION:Garbonzo’s 🟠
CATEGORIES:Garbonzo’s Daily Deals
ATTACH;FMTTYPE=image/jpeg:https://www.canadinns.com/wp-content/uploads/GSP_Meal-Deal_Wednesday.jpg
END:VEVENT
BEGIN:VEVENT
DTSTART;TZID=America/Winnipeg:20270408T100000
DTEND;TZID=America/Winnipeg:20270408T180000
DTSTAMP:20260421T213400
CREATED:20230327T122226Z
LAST-MODIFIED:20230327T122240Z
UID:10026357-1807178400-1807207200@www.canadinns.com
SUMMARY:🟠 Garbonzo’s Sports Pub Daily Beverage Features - Garbonzo’s Paralyzer\, 3oz Wide Mouth Masons\, 3oz Cocktail Masons\, 22oz PBR Draught
DESCRIPTION:
URL:https://www.canadinns.com/event/garbonzos-sports-pub-daily-beverage-features-garbonzos-paralyzer-3oz-wide-mouth-masons-3oz-cocktail-masons-22oz-pbr-draught/2027-04-08/
LOCATION:Garbonzo’s 🟠
CATEGORIES:Garbonzo’s Daily Deals
END:VEVENT
BEGIN:VEVENT
DTSTART;TZID=America/Winnipeg:20270408T100000
DTEND;TZID=America/Winnipeg:20270408T180000
DTSTAMP:20260421T213400
CREATED:20240603T165315Z
LAST-MODIFIED:20240603T165315Z
UID:10032436-1807178400-1807207200@www.canadinns.com
SUMMARY:🟠 Garbonzo’s Sports Pub – Happier Hours Until 6pm
DESCRIPTION:
URL:https://www.canadinns.com/event/garbonzos-sports-pub-happier-hours-until-6pm/2027-04-08/
LOCATION:Garbonzo’s 🟠
CATEGORIES:Garbonzo’s Daily Deals
ATTACH;FMTTYPE=image/jpeg:https://www.canadinns.com/wp-content/uploads/2023-11-15_19087-CI-Garbonzos-Anti-Inflation-Happier-Hours-1080x1080-Nov2023-FNL.jpg
END:VEVENT
BEGIN:VEVENT
DTSTART;TZID=America/Winnipeg:20270408T100000
DTEND;TZID=America/Winnipeg:20270408T235900
DTSTAMP:20260421T213400
CREATED:20240603T164739Z
LAST-MODIFIED:20240603T164739Z
UID:10031283-1807178400-1807228740@www.canadinns.com
SUMMARY:🟠 Garbonzo’s Sports Pub – 2 for $25 Appys
DESCRIPTION:
URL:https://www.canadinns.com/event/garbonzos-sports-pub-2-for-25-appys/2027-04-08/
LOCATION:Garbonzo’s 🟠
CATEGORIES:Garbonzo’s Daily Deals
ATTACH;FMTTYPE=image/jpeg:https://www.canadinns.com/wp-content/uploads/GSP_Meal-Deal_Thursday.jpg
END:VEVENT
BEGIN:VEVENT
DTSTART;TZID=America/Winnipeg:20270409T100000
DTEND;TZID=America/Winnipeg:20270409T180000
DTSTAMP:20260421T213400
CREATED:20230327T122304Z
LAST-MODIFIED:20230327T122317Z
UID:10026879-1807264800-1807293600@www.canadinns.com
SUMMARY:🟠 Garbonzo’s Sports Pub Daily Beverage Features - Long Island Iced Tea\, 3oz Wide Mouth Masons\, 3oz Cocktail Masons
DESCRIPTION:
URL:https://www.canadinns.com/event/garbonzos-sports-pub-daily-beverage-features-long-island-iced-tea-3oz-wide-mouth-masons-3oz-cocktail-masons/2027-04-09/
LOCATION:Garbonzo’s 🟠
CATEGORIES:Garbonzo’s Daily Deals
END:VEVENT
BEGIN:VEVENT
DTSTART;TZID=America/Winnipeg:20270409T100000
DTEND;TZID=America/Winnipeg:20270409T180000
DTSTAMP:20260421T213400
CREATED:20240603T165315Z
LAST-MODIFIED:20240603T165315Z
UID:10032437-1807264800-1807293600@www.canadinns.com
SUMMARY:🟠 Garbonzo’s Sports Pub – Happier Hours Until 6pm
DESCRIPTION:
URL:https://www.canadinns.com/event/garbonzos-sports-pub-happier-hours-until-6pm/2027-04-09/
LOCATION:Garbonzo’s 🟠
CATEGORIES:Garbonzo’s Daily Deals
ATTACH;FMTTYPE=image/jpeg:https://www.canadinns.com/wp-content/uploads/2023-11-15_19087-CI-Garbonzos-Anti-Inflation-Happier-Hours-1080x1080-Nov2023-FNL.jpg
END:VEVENT
BEGIN:VEVENT
DTSTART;TZID=America/Winnipeg:20270409T100000
DTEND;TZID=America/Winnipeg:20270409T235900
DTSTAMP:20260421T213400
CREATED:20240603T164350Z
LAST-MODIFIED:20240603T164350Z
UID:10030909-1807264800-1807315140@www.canadinns.com
SUMMARY:🟠 Garbonzo’s Sports Pub – Wings N' Things Weekend!
DESCRIPTION:
URL:https://www.canadinns.com/event/garbonzos-sports-pub-wings-n-things-weekend/2027-04-09/
LOCATION:Garbonzo’s 🟠
CATEGORIES:Garbonzo’s Daily Deals
ATTACH;FMTTYPE=image/jpeg:https://www.canadinns.com/wp-content/uploads/GSP_Meal-Deal_Weekend.jpg
END:VEVENT
BEGIN:VEVENT
DTSTART;TZID=America/Winnipeg:20270410T100000
DTEND;TZID=America/Winnipeg:20270410T180000
DTSTAMP:20260421T213400
CREATED:20230327T122341Z
LAST-MODIFIED:20230327T122356Z
UID:10027401-1807351200-1807380000@www.canadinns.com
SUMMARY:🟠 Garbonzo’s Sports Pub Daily Beverage Features - Garbonzo’s Strawberry Lemonade\, 3oz Wide Mouth Masons\, 3oz Cocktail Masons
DESCRIPTION:
URL:https://www.canadinns.com/event/garbonzos-sports-pub-daily-beverage-features-garbonzos-strawberry-lemonade-3oz-wide-mouth-masons-3oz-cocktail-masons/2027-04-10/
LOCATION:Garbonzo’s 🟠
CATEGORIES:Garbonzo’s Daily Deals
END:VEVENT
BEGIN:VEVENT
DTSTART;TZID=America/Winnipeg:20270410T100000
DTEND;TZID=America/Winnipeg:20270410T180000
DTSTAMP:20260421T213400
CREATED:20240603T165315Z
LAST-MODIFIED:20240603T165315Z
UID:10032438-1807351200-1807380000@www.canadinns.com
SUMMARY:🟠 Garbonzo’s Sports Pub – Happier Hours Until 6pm
DESCRIPTION:
URL:https://www.canadinns.com/event/garbonzos-sports-pub-happier-hours-until-6pm/2027-04-10/
LOCATION:Garbonzo’s 🟠
CATEGORIES:Garbonzo’s Daily Deals
ATTACH;FMTTYPE=image/jpeg:https://www.canadinns.com/wp-content/uploads/2023-11-15_19087-CI-Garbonzos-Anti-Inflation-Happier-Hours-1080x1080-Nov2023-FNL.jpg
END:VEVENT
BEGIN:VEVENT
DTSTART;TZID=America/Winnipeg:20270410T100000
DTEND;TZID=America/Winnipeg:20270410T235900
DTSTAMP:20260421T213400
CREATED:20240603T164350Z
LAST-MODIFIED:20240603T164350Z
UID:10030910-1807351200-1807401540@www.canadinns.com
SUMMARY:🟠 Garbonzo’s Sports Pub – Wings N' Things Weekend!
DESCRIPTION:
URL:https://www.canadinns.com/event/garbonzos-sports-pub-wings-n-things-weekend/2027-04-10/
LOCATION:Garbonzo’s 🟠
CATEGORIES:Garbonzo’s Daily Deals
ATTACH;FMTTYPE=image/jpeg:https://www.canadinns.com/wp-content/uploads/GSP_Meal-Deal_Weekend.jpg
END:VEVENT
END:VCALENDAR