BEGIN:VCALENDAR
VERSION:2.0
PRODID:-//Canad Inns - ECPv6.15.17.1//NONSGML v1.0//EN
CALSCALE:GREGORIAN
METHOD:PUBLISH
X-ORIGINAL-URL:https://www.canadinns.com
X-WR-CALDESC:Events for Canad Inns
REFRESH-INTERVAL;VALUE=DURATION:PT1H
X-Robots-Tag:noindex
X-PUBLISHED-TTL:PT1H
BEGIN:VTIMEZONE
TZID:America/Winnipeg
BEGIN:DAYLIGHT
TZOFFSETFROM:-0600
TZOFFSETTO:-0500
TZNAME:CDT
DTSTART:20240310T080000
END:DAYLIGHT
BEGIN:STANDARD
TZOFFSETFROM:-0500
TZOFFSETTO:-0600
TZNAME:CST
DTSTART:20241103T070000
END:STANDARD
BEGIN:DAYLIGHT
TZOFFSETFROM:-0600
TZOFFSETTO:-0500
TZNAME:CDT
DTSTART:20250309T080000
END:DAYLIGHT
BEGIN:STANDARD
TZOFFSETFROM:-0500
TZOFFSETTO:-0600
TZNAME:CST
DTSTART:20251102T070000
END:STANDARD
BEGIN:DAYLIGHT
TZOFFSETFROM:-0600
TZOFFSETTO:-0500
TZNAME:CDT
DTSTART:20260308T080000
END:DAYLIGHT
BEGIN:STANDARD
TZOFFSETFROM:-0500
TZOFFSETTO:-0600
TZNAME:CST
DTSTART:20261101T070000
END:STANDARD
END:VTIMEZONE
BEGIN:VEVENT
DTSTART;TZID=America/Winnipeg:20251102T100000
DTEND;TZID=America/Winnipeg:20251102T180000
DTSTAMP:20260419T145717
CREATED:20230327T122421Z
LAST-MODIFIED:20230327T122440Z
UID:10027848-1762077600-1762106400@www.canadinns.com
SUMMARY:🟠 Garbonzo’s Sports Pub Daily Beverage Features - Garbonzo’s Signature Caesar
DESCRIPTION:
URL:https://www.canadinns.com/event/garbonzos-sports-pub-daily-beverage-features-garbonzos-signature-caesar/2025-11-02/
LOCATION:Garbonzo’s 🟠
CATEGORIES:Garbonzo’s Daily Deals
END:VEVENT
BEGIN:VEVENT
DTSTART;TZID=America/Winnipeg:20251102T100000
DTEND;TZID=America/Winnipeg:20251102T180000
DTSTAMP:20260419T145717
CREATED:20240603T165315Z
LAST-MODIFIED:20240603T165315Z
UID:10031914-1762077600-1762106400@www.canadinns.com
SUMMARY:🟠 Garbonzo’s Sports Pub – Happier Hours Until 6pm
DESCRIPTION:
URL:https://www.canadinns.com/event/garbonzos-sports-pub-happier-hours-until-6pm/2025-11-02/
LOCATION:Garbonzo’s 🟠
CATEGORIES:Garbonzo’s Daily Deals
ATTACH;FMTTYPE=image/jpeg:https://www.canadinns.com/wp-content/uploads/2023-11-15_19087-CI-Garbonzos-Anti-Inflation-Happier-Hours-1080x1080-Nov2023-FNL.jpg
END:VEVENT
BEGIN:VEVENT
DTSTART;TZID=America/Winnipeg:20251102T100000
DTEND;TZID=America/Winnipeg:20251102T235900
DTSTAMP:20260419T145717
CREATED:20230327T121535Z
LAST-MODIFIED:20240603T153930Z
UID:10029729-1762077600-1762127940@www.canadinns.com
SUMMARY:🟠 Garbonzo’s Sports Pub – Saucy Sunday
DESCRIPTION:
URL:https://www.canadinns.com/event/garbonzos-sports-pub-saucy-sunday/2025-11-02/
LOCATION:Garbonzo’s 🟠
CATEGORIES:Garbonzo’s Daily Deals
ATTACH;FMTTYPE=image/jpeg:https://www.canadinns.com/wp-content/uploads/GSP_Meal-Deal_Sunday.jpg
END:VEVENT
BEGIN:VEVENT
DTSTART;TZID=America/Winnipeg:20251103T100000
DTEND;TZID=America/Winnipeg:20251103T180000
DTSTAMP:20260419T145717
CREATED:20230327T121909Z
LAST-MODIFIED:20230327T121952Z
UID:10024715-1762164000-1762192800@www.canadinns.com
SUMMARY:🟠 Garbonzo’s Sports Pub Daily Beverage Features - Royal Peach Tea
DESCRIPTION:
URL:https://www.canadinns.com/event/garbonzos-sports-pub-daily-beverage-features-royal-peach-tea/2025-11-03/
LOCATION:Garbonzo’s 🟠
CATEGORIES:Garbonzo’s Daily Deals
END:VEVENT
BEGIN:VEVENT
DTSTART;TZID=America/Winnipeg:20251103T100000
DTEND;TZID=America/Winnipeg:20251103T180000
DTSTAMP:20260419T145717
CREATED:20240603T165315Z
LAST-MODIFIED:20240603T165315Z
UID:10031915-1762164000-1762192800@www.canadinns.com
SUMMARY:🟠 Garbonzo’s Sports Pub – Happier Hours Until 6pm
DESCRIPTION:
URL:https://www.canadinns.com/event/garbonzos-sports-pub-happier-hours-until-6pm/2025-11-03/
LOCATION:Garbonzo’s 🟠
CATEGORIES:Garbonzo’s Daily Deals
ATTACH;FMTTYPE=image/jpeg:https://www.canadinns.com/wp-content/uploads/2023-11-15_19087-CI-Garbonzos-Anti-Inflation-Happier-Hours-1080x1080-Nov2023-FNL.jpg
END:VEVENT
BEGIN:VEVENT
DTSTART;TZID=America/Winnipeg:20251103T100000
DTEND;TZID=America/Winnipeg:20251103T235900
DTSTAMP:20260419T145717
CREATED:20230327T121014Z
LAST-MODIFIED:20240603T154122Z
UID:10029946-1762164000-1762214340@www.canadinns.com
SUMMARY:🟠 Garbonzo’s Sports Pub – Meal Deal Monday
DESCRIPTION:
URL:https://www.canadinns.com/event/garbonzos-sports-pub-meal-deal-monday/2025-11-03/
LOCATION:Garbonzo’s 🟠
CATEGORIES:Garbonzo’s Daily Deals
ATTACH;FMTTYPE=image/jpeg:https://www.canadinns.com/wp-content/uploads/GSP_Meal-Deal_Monday.jpg
END:VEVENT
BEGIN:VEVENT
DTSTART;TZID=America/Winnipeg:20251104T100000
DTEND;TZID=America/Winnipeg:20251104T180000
DTSTAMP:20260419T145717
CREATED:20230327T122032Z
LAST-MODIFIED:20230327T122050Z
UID:10025239-1762250400-1762279200@www.canadinns.com
SUMMARY:🟠 Garbonzo’s Sports Pub Daily Beverage Features - Garbonzo’s Signature Slushie
DESCRIPTION:
URL:https://www.canadinns.com/event/garbonzos-sports-pub-daily-beverage-features-garbonzos-signature-slushie/2025-11-04/
LOCATION:Garbonzo’s 🟠
CATEGORIES:Garbonzo’s Daily Deals
END:VEVENT
BEGIN:VEVENT
DTSTART;TZID=America/Winnipeg:20251104T100000
DTEND;TZID=America/Winnipeg:20251104T180000
DTSTAMP:20260419T145717
CREATED:20240603T165315Z
LAST-MODIFIED:20240603T165315Z
UID:10031916-1762250400-1762279200@www.canadinns.com
SUMMARY:🟠 Garbonzo’s Sports Pub – Happier Hours Until 6pm
DESCRIPTION:
URL:https://www.canadinns.com/event/garbonzos-sports-pub-happier-hours-until-6pm/2025-11-04/
LOCATION:Garbonzo’s 🟠
CATEGORIES:Garbonzo’s Daily Deals
ATTACH;FMTTYPE=image/jpeg:https://www.canadinns.com/wp-content/uploads/2023-11-15_19087-CI-Garbonzos-Anti-Inflation-Happier-Hours-1080x1080-Nov2023-FNL.jpg
END:VEVENT
BEGIN:VEVENT
DTSTART;TZID=America/Winnipeg:20251104T100000
DTEND;TZID=America/Winnipeg:20251104T235900
DTSTAMP:20260419T145717
CREATED:20230327T121139Z
LAST-MODIFIED:20240603T154252Z
UID:10030162-1762250400-1762300740@www.canadinns.com
SUMMARY:🟠 Garbonzo’s Sports Pub – Two-Topping Tuesday
DESCRIPTION:
URL:https://www.canadinns.com/event/garbonzos-sports-pub-two-topping-tuesday/2025-11-04/
LOCATION:Garbonzo’s 🟠
CATEGORIES:Garbonzo’s Daily Deals
ATTACH;FMTTYPE=image/jpeg:https://www.canadinns.com/wp-content/uploads/GSP_Meal-Deal_Tuesday.jpg
END:VEVENT
BEGIN:VEVENT
DTSTART;TZID=America/Winnipeg:20251105T100000
DTEND;TZID=America/Winnipeg:20251105T180000
DTSTAMP:20260419T145717
CREATED:20230327T122135Z
LAST-MODIFIED:20240603T170150Z
UID:10025761-1762336800-1762365600@www.canadinns.com
SUMMARY:🟠 Garbonzo’s Sports Pub Daily Beverage Features - 14oz Glass Sangria
DESCRIPTION:
URL:https://www.canadinns.com/event/garbonzos-sports-pub-daily-beverage-features-14oz-glass-sangria/2025-11-05/
LOCATION:Garbonzo’s 🟠
CATEGORIES:Garbonzo’s Daily Deals
END:VEVENT
BEGIN:VEVENT
DTSTART;TZID=America/Winnipeg:20251105T100000
DTEND;TZID=America/Winnipeg:20251105T180000
DTSTAMP:20260419T145717
CREATED:20240603T165315Z
LAST-MODIFIED:20240603T165315Z
UID:10031917-1762336800-1762365600@www.canadinns.com
SUMMARY:🟠 Garbonzo’s Sports Pub – Happier Hours Until 6pm
DESCRIPTION:
URL:https://www.canadinns.com/event/garbonzos-sports-pub-happier-hours-until-6pm/2025-11-05/
LOCATION:Garbonzo’s 🟠
CATEGORIES:Garbonzo’s Daily Deals
ATTACH;FMTTYPE=image/jpeg:https://www.canadinns.com/wp-content/uploads/2023-11-15_19087-CI-Garbonzos-Anti-Inflation-Happier-Hours-1080x1080-Nov2023-FNL.jpg
END:VEVENT
BEGIN:VEVENT
DTSTART;TZID=America/Winnipeg:20251105T100000
DTEND;TZID=America/Winnipeg:20251105T235900
DTSTAMP:20260419T145717
CREATED:20240603T160207Z
LAST-MODIFIED:20240603T160207Z
UID:10030423-1762336800-1762387140@www.canadinns.com
SUMMARY:🟠 Garbonzo’s Sports Pub – BOGO Half Price Pasta
DESCRIPTION:
URL:https://www.canadinns.com/event/garbonzos-sports-pub-bogo-half-price-pasta/2025-11-05/
LOCATION:Garbonzo’s 🟠
CATEGORIES:Garbonzo’s Daily Deals
ATTACH;FMTTYPE=image/jpeg:https://www.canadinns.com/wp-content/uploads/GSP_Meal-Deal_Wednesday.jpg
END:VEVENT
BEGIN:VEVENT
DTSTART;TZID=America/Winnipeg:20251106T100000
DTEND;TZID=America/Winnipeg:20251106T180000
DTSTAMP:20260419T145717
CREATED:20230327T122226Z
LAST-MODIFIED:20230327T122240Z
UID:10026283-1762423200-1762452000@www.canadinns.com
SUMMARY:🟠 Garbonzo’s Sports Pub Daily Beverage Features - Garbonzo’s Paralyzer\, 3oz Wide Mouth Masons\, 3oz Cocktail Masons\, 22oz PBR Draught
DESCRIPTION:
URL:https://www.canadinns.com/event/garbonzos-sports-pub-daily-beverage-features-garbonzos-paralyzer-3oz-wide-mouth-masons-3oz-cocktail-masons-22oz-pbr-draught/2025-11-06/
LOCATION:Garbonzo’s 🟠
CATEGORIES:Garbonzo’s Daily Deals
END:VEVENT
BEGIN:VEVENT
DTSTART;TZID=America/Winnipeg:20251106T100000
DTEND;TZID=America/Winnipeg:20251106T180000
DTSTAMP:20260419T145717
CREATED:20240603T165315Z
LAST-MODIFIED:20240603T165315Z
UID:10031918-1762423200-1762452000@www.canadinns.com
SUMMARY:🟠 Garbonzo’s Sports Pub – Happier Hours Until 6pm
DESCRIPTION:
URL:https://www.canadinns.com/event/garbonzos-sports-pub-happier-hours-until-6pm/2025-11-06/
LOCATION:Garbonzo’s 🟠
CATEGORIES:Garbonzo’s Daily Deals
ATTACH;FMTTYPE=image/jpeg:https://www.canadinns.com/wp-content/uploads/2023-11-15_19087-CI-Garbonzos-Anti-Inflation-Happier-Hours-1080x1080-Nov2023-FNL.jpg
END:VEVENT
BEGIN:VEVENT
DTSTART;TZID=America/Winnipeg:20251106T100000
DTEND;TZID=America/Winnipeg:20251106T235900
DTSTAMP:20260419T145717
CREATED:20240603T164739Z
LAST-MODIFIED:20240603T164739Z
UID:10031209-1762423200-1762473540@www.canadinns.com
SUMMARY:🟠 Garbonzo’s Sports Pub – 2 for $25 Appys
DESCRIPTION:
URL:https://www.canadinns.com/event/garbonzos-sports-pub-2-for-25-appys/2025-11-06/
LOCATION:Garbonzo’s 🟠
CATEGORIES:Garbonzo’s Daily Deals
ATTACH;FMTTYPE=image/jpeg:https://www.canadinns.com/wp-content/uploads/GSP_Meal-Deal_Thursday.jpg
END:VEVENT
BEGIN:VEVENT
DTSTART;TZID=America/Winnipeg:20251107T100000
DTEND;TZID=America/Winnipeg:20251107T180000
DTSTAMP:20260419T145717
CREATED:20230327T122304Z
LAST-MODIFIED:20230327T122317Z
UID:10026805-1762509600-1762538400@www.canadinns.com
SUMMARY:🟠 Garbonzo’s Sports Pub Daily Beverage Features - Long Island Iced Tea\, 3oz Wide Mouth Masons\, 3oz Cocktail Masons
DESCRIPTION:
URL:https://www.canadinns.com/event/garbonzos-sports-pub-daily-beverage-features-long-island-iced-tea-3oz-wide-mouth-masons-3oz-cocktail-masons/2025-11-07/
LOCATION:Garbonzo’s 🟠
CATEGORIES:Garbonzo’s Daily Deals
END:VEVENT
BEGIN:VEVENT
DTSTART;TZID=America/Winnipeg:20251107T100000
DTEND;TZID=America/Winnipeg:20251107T180000
DTSTAMP:20260419T145717
CREATED:20240603T165315Z
LAST-MODIFIED:20240603T165315Z
UID:10031919-1762509600-1762538400@www.canadinns.com
SUMMARY:🟠 Garbonzo’s Sports Pub – Happier Hours Until 6pm
DESCRIPTION:
URL:https://www.canadinns.com/event/garbonzos-sports-pub-happier-hours-until-6pm/2025-11-07/
LOCATION:Garbonzo’s 🟠
CATEGORIES:Garbonzo’s Daily Deals
ATTACH;FMTTYPE=image/jpeg:https://www.canadinns.com/wp-content/uploads/2023-11-15_19087-CI-Garbonzos-Anti-Inflation-Happier-Hours-1080x1080-Nov2023-FNL.jpg
END:VEVENT
BEGIN:VEVENT
DTSTART;TZID=America/Winnipeg:20251107T100000
DTEND;TZID=America/Winnipeg:20251107T235900
DTSTAMP:20260419T145717
CREATED:20240603T164350Z
LAST-MODIFIED:20240603T164350Z
UID:10030761-1762509600-1762559940@www.canadinns.com
SUMMARY:🟠 Garbonzo’s Sports Pub – Wings N' Things Weekend!
DESCRIPTION:
URL:https://www.canadinns.com/event/garbonzos-sports-pub-wings-n-things-weekend/2025-11-07/
LOCATION:Garbonzo’s 🟠
CATEGORIES:Garbonzo’s Daily Deals
ATTACH;FMTTYPE=image/jpeg:https://www.canadinns.com/wp-content/uploads/GSP_Meal-Deal_Weekend.jpg
END:VEVENT
BEGIN:VEVENT
DTSTART;TZID=America/Winnipeg:20251108T100000
DTEND;TZID=America/Winnipeg:20251108T180000
DTSTAMP:20260419T145717
CREATED:20230327T122341Z
LAST-MODIFIED:20230327T122356Z
UID:10027327-1762596000-1762624800@www.canadinns.com
SUMMARY:🟠 Garbonzo’s Sports Pub Daily Beverage Features - Garbonzo’s Strawberry Lemonade\, 3oz Wide Mouth Masons\, 3oz Cocktail Masons
DESCRIPTION:
URL:https://www.canadinns.com/event/garbonzos-sports-pub-daily-beverage-features-garbonzos-strawberry-lemonade-3oz-wide-mouth-masons-3oz-cocktail-masons/2025-11-08/
LOCATION:Garbonzo’s 🟠
CATEGORIES:Garbonzo’s Daily Deals
END:VEVENT
BEGIN:VEVENT
DTSTART;TZID=America/Winnipeg:20251108T100000
DTEND;TZID=America/Winnipeg:20251108T180000
DTSTAMP:20260419T145717
CREATED:20240603T165315Z
LAST-MODIFIED:20240603T165315Z
UID:10031920-1762596000-1762624800@www.canadinns.com
SUMMARY:🟠 Garbonzo’s Sports Pub – Happier Hours Until 6pm
DESCRIPTION:
URL:https://www.canadinns.com/event/garbonzos-sports-pub-happier-hours-until-6pm/2025-11-08/
LOCATION:Garbonzo’s 🟠
CATEGORIES:Garbonzo’s Daily Deals
ATTACH;FMTTYPE=image/jpeg:https://www.canadinns.com/wp-content/uploads/2023-11-15_19087-CI-Garbonzos-Anti-Inflation-Happier-Hours-1080x1080-Nov2023-FNL.jpg
END:VEVENT
BEGIN:VEVENT
DTSTART;TZID=America/Winnipeg:20251108T100000
DTEND;TZID=America/Winnipeg:20251108T235900
DTSTAMP:20260419T145717
CREATED:20240603T164350Z
LAST-MODIFIED:20240603T164350Z
UID:10030762-1762596000-1762646340@www.canadinns.com
SUMMARY:🟠 Garbonzo’s Sports Pub – Wings N' Things Weekend!
DESCRIPTION:
URL:https://www.canadinns.com/event/garbonzos-sports-pub-wings-n-things-weekend/2025-11-08/
LOCATION:Garbonzo’s 🟠
CATEGORIES:Garbonzo’s Daily Deals
ATTACH;FMTTYPE=image/jpeg:https://www.canadinns.com/wp-content/uploads/GSP_Meal-Deal_Weekend.jpg
END:VEVENT
END:VCALENDAR