BEGIN:VCALENDAR
VERSION:2.0
PRODID:-//Canad Inns - ECPv6.15.17.1//NONSGML v1.0//EN
CALSCALE:GREGORIAN
METHOD:PUBLISH
X-ORIGINAL-URL:https://www.canadinns.com
X-WR-CALDESC:Events for Canad Inns
REFRESH-INTERVAL;VALUE=DURATION:PT1H
X-Robots-Tag:noindex
X-PUBLISHED-TTL:PT1H
BEGIN:VTIMEZONE
TZID:America/Winnipeg
BEGIN:DAYLIGHT
TZOFFSETFROM:-0600
TZOFFSETTO:-0500
TZNAME:CDT
DTSTART:20260308T080000
END:DAYLIGHT
BEGIN:STANDARD
TZOFFSETFROM:-0500
TZOFFSETTO:-0600
TZNAME:CST
DTSTART:20261101T070000
END:STANDARD
BEGIN:DAYLIGHT
TZOFFSETFROM:-0600
TZOFFSETTO:-0500
TZNAME:CDT
DTSTART:20270314T080000
END:DAYLIGHT
BEGIN:STANDARD
TZOFFSETFROM:-0500
TZOFFSETTO:-0600
TZNAME:CST
DTSTART:20271107T070000
END:STANDARD
BEGIN:DAYLIGHT
TZOFFSETFROM:-0600
TZOFFSETTO:-0500
TZNAME:CDT
DTSTART:20280312T080000
END:DAYLIGHT
BEGIN:STANDARD
TZOFFSETFROM:-0500
TZOFFSETTO:-0600
TZNAME:CST
DTSTART:20281105T070000
END:STANDARD
END:VTIMEZONE
BEGIN:VEVENT
DTSTART;TZID=America/Winnipeg:20271001T100000
DTEND;TZID=America/Winnipeg:20271001T180000
DTSTAMP:20260423T174527
CREATED:20230327T122304Z
LAST-MODIFIED:20230327T122317Z
UID:10026904-1822384800-1822413600@www.canadinns.com
SUMMARY:🟠 Garbonzo’s Sports Pub Daily Beverage Features - Long Island Iced Tea\, 3oz Wide Mouth Masons\, 3oz Cocktail Masons
DESCRIPTION:
URL:https://www.canadinns.com/event/garbonzos-sports-pub-daily-beverage-features-long-island-iced-tea-3oz-wide-mouth-masons-3oz-cocktail-masons/2027-10-01/
LOCATION:Garbonzo’s 🟠
CATEGORIES:Garbonzo’s Daily Deals
END:VEVENT
BEGIN:VEVENT
DTSTART;TZID=America/Winnipeg:20271001T100000
DTEND;TZID=America/Winnipeg:20271001T180000
DTSTAMP:20260423T174527
CREATED:20240603T165315Z
LAST-MODIFIED:20240603T165315Z
UID:10032612-1822384800-1822413600@www.canadinns.com
SUMMARY:🟠 Garbonzo’s Sports Pub – Happier Hours Until 6pm
DESCRIPTION:
URL:https://www.canadinns.com/event/garbonzos-sports-pub-happier-hours-until-6pm/2027-10-01/
LOCATION:Garbonzo’s 🟠
CATEGORIES:Garbonzo’s Daily Deals
ATTACH;FMTTYPE=image/jpeg:https://www.canadinns.com/wp-content/uploads/2023-11-15_19087-CI-Garbonzos-Anti-Inflation-Happier-Hours-1080x1080-Nov2023-FNL.jpg
END:VEVENT
BEGIN:VEVENT
DTSTART;TZID=America/Winnipeg:20271001T100000
DTEND;TZID=America/Winnipeg:20271001T235900
DTSTAMP:20260423T174527
CREATED:20240603T164350Z
LAST-MODIFIED:20240603T164350Z
UID:10030959-1822384800-1822435140@www.canadinns.com
SUMMARY:🟠 Garbonzo’s Sports Pub – Wings N' Things Weekend!
DESCRIPTION:
URL:https://www.canadinns.com/event/garbonzos-sports-pub-wings-n-things-weekend/2027-10-01/
LOCATION:Garbonzo’s 🟠
CATEGORIES:Garbonzo’s Daily Deals
ATTACH;FMTTYPE=image/jpeg:https://www.canadinns.com/wp-content/uploads/GSP_Meal-Deal_Weekend.jpg
END:VEVENT
BEGIN:VEVENT
DTSTART;TZID=America/Winnipeg:20271002T100000
DTEND;TZID=America/Winnipeg:20271002T180000
DTSTAMP:20260423T174527
CREATED:20230327T122341Z
LAST-MODIFIED:20230327T122356Z
UID:10027426-1822471200-1822500000@www.canadinns.com
SUMMARY:🟠 Garbonzo’s Sports Pub Daily Beverage Features - Garbonzo’s Strawberry Lemonade\, 3oz Wide Mouth Masons\, 3oz Cocktail Masons
DESCRIPTION:
URL:https://www.canadinns.com/event/garbonzos-sports-pub-daily-beverage-features-garbonzos-strawberry-lemonade-3oz-wide-mouth-masons-3oz-cocktail-masons/2027-10-02/
LOCATION:Garbonzo’s 🟠
CATEGORIES:Garbonzo’s Daily Deals
END:VEVENT
BEGIN:VEVENT
DTSTART;TZID=America/Winnipeg:20271002T100000
DTEND;TZID=America/Winnipeg:20271002T180000
DTSTAMP:20260423T174527
CREATED:20240603T165315Z
LAST-MODIFIED:20240603T165315Z
UID:10032613-1822471200-1822500000@www.canadinns.com
SUMMARY:🟠 Garbonzo’s Sports Pub – Happier Hours Until 6pm
DESCRIPTION:
URL:https://www.canadinns.com/event/garbonzos-sports-pub-happier-hours-until-6pm/2027-10-02/
LOCATION:Garbonzo’s 🟠
CATEGORIES:Garbonzo’s Daily Deals
ATTACH;FMTTYPE=image/jpeg:https://www.canadinns.com/wp-content/uploads/2023-11-15_19087-CI-Garbonzos-Anti-Inflation-Happier-Hours-1080x1080-Nov2023-FNL.jpg
END:VEVENT
BEGIN:VEVENT
DTSTART;TZID=America/Winnipeg:20271002T100000
DTEND;TZID=America/Winnipeg:20271002T235900
DTSTAMP:20260423T174527
CREATED:20240603T164350Z
LAST-MODIFIED:20240603T164350Z
UID:10030960-1822471200-1822521540@www.canadinns.com
SUMMARY:🟠 Garbonzo’s Sports Pub – Wings N' Things Weekend!
DESCRIPTION:
URL:https://www.canadinns.com/event/garbonzos-sports-pub-wings-n-things-weekend/2027-10-02/
LOCATION:Garbonzo’s 🟠
CATEGORIES:Garbonzo’s Daily Deals
ATTACH;FMTTYPE=image/jpeg:https://www.canadinns.com/wp-content/uploads/GSP_Meal-Deal_Weekend.jpg
END:VEVENT
BEGIN:VEVENT
DTSTART;TZID=America/Winnipeg:20271003T100000
DTEND;TZID=America/Winnipeg:20271003T180000
DTSTAMP:20260423T174527
CREATED:20230327T122421Z
LAST-MODIFIED:20230327T122440Z
UID:10027948-1822557600-1822586400@www.canadinns.com
SUMMARY:🟠 Garbonzo’s Sports Pub Daily Beverage Features - Garbonzo’s Signature Caesar
DESCRIPTION:
URL:https://www.canadinns.com/event/garbonzos-sports-pub-daily-beverage-features-garbonzos-signature-caesar/2027-10-03/
LOCATION:Garbonzo’s 🟠
CATEGORIES:Garbonzo’s Daily Deals
END:VEVENT
BEGIN:VEVENT
DTSTART;TZID=America/Winnipeg:20271003T100000
DTEND;TZID=America/Winnipeg:20271003T180000
DTSTAMP:20260423T174527
CREATED:20240603T165315Z
LAST-MODIFIED:20240603T165315Z
UID:10032614-1822557600-1822586400@www.canadinns.com
SUMMARY:🟠 Garbonzo’s Sports Pub – Happier Hours Until 6pm
DESCRIPTION:
URL:https://www.canadinns.com/event/garbonzos-sports-pub-happier-hours-until-6pm/2027-10-03/
LOCATION:Garbonzo’s 🟠
CATEGORIES:Garbonzo’s Daily Deals
ATTACH;FMTTYPE=image/jpeg:https://www.canadinns.com/wp-content/uploads/2023-11-15_19087-CI-Garbonzos-Anti-Inflation-Happier-Hours-1080x1080-Nov2023-FNL.jpg
END:VEVENT
BEGIN:VEVENT
DTSTART;TZID=America/Winnipeg:20271003T100000
DTEND;TZID=America/Winnipeg:20271003T235900
DTSTAMP:20260423T174527
CREATED:20230327T121535Z
LAST-MODIFIED:20240603T153930Z
UID:10029829-1822557600-1822607940@www.canadinns.com
SUMMARY:🟠 Garbonzo’s Sports Pub – Saucy Sunday
DESCRIPTION:
URL:https://www.canadinns.com/event/garbonzos-sports-pub-saucy-sunday/2027-10-03/
LOCATION:Garbonzo’s 🟠
CATEGORIES:Garbonzo’s Daily Deals
ATTACH;FMTTYPE=image/jpeg:https://www.canadinns.com/wp-content/uploads/GSP_Meal-Deal_Sunday.jpg
END:VEVENT
BEGIN:VEVENT
DTSTART;TZID=America/Winnipeg:20271004T100000
DTEND;TZID=America/Winnipeg:20271004T180000
DTSTAMP:20260423T174527
CREATED:20230327T121909Z
LAST-MODIFIED:20230327T121952Z
UID:10024815-1822644000-1822672800@www.canadinns.com
SUMMARY:🟠 Garbonzo’s Sports Pub Daily Beverage Features - Royal Peach Tea
DESCRIPTION:
URL:https://www.canadinns.com/event/garbonzos-sports-pub-daily-beverage-features-royal-peach-tea/2027-10-04/
LOCATION:Garbonzo’s 🟠
CATEGORIES:Garbonzo’s Daily Deals
END:VEVENT
BEGIN:VEVENT
DTSTART;TZID=America/Winnipeg:20271004T100000
DTEND;TZID=America/Winnipeg:20271004T180000
DTSTAMP:20260423T174527
CREATED:20240603T165315Z
LAST-MODIFIED:20240603T165315Z
UID:10032615-1822644000-1822672800@www.canadinns.com
SUMMARY:🟠 Garbonzo’s Sports Pub – Happier Hours Until 6pm
DESCRIPTION:
URL:https://www.canadinns.com/event/garbonzos-sports-pub-happier-hours-until-6pm/2027-10-04/
LOCATION:Garbonzo’s 🟠
CATEGORIES:Garbonzo’s Daily Deals
ATTACH;FMTTYPE=image/jpeg:https://www.canadinns.com/wp-content/uploads/2023-11-15_19087-CI-Garbonzos-Anti-Inflation-Happier-Hours-1080x1080-Nov2023-FNL.jpg
END:VEVENT
BEGIN:VEVENT
DTSTART;TZID=America/Winnipeg:20271004T100000
DTEND;TZID=America/Winnipeg:20271004T235900
DTSTAMP:20260423T174527
CREATED:20230327T121014Z
LAST-MODIFIED:20240603T154122Z
UID:10030046-1822644000-1822694340@www.canadinns.com
SUMMARY:🟠 Garbonzo’s Sports Pub – Meal Deal Monday
DESCRIPTION:
URL:https://www.canadinns.com/event/garbonzos-sports-pub-meal-deal-monday/2027-10-04/
LOCATION:Garbonzo’s 🟠
CATEGORIES:Garbonzo’s Daily Deals
ATTACH;FMTTYPE=image/jpeg:https://www.canadinns.com/wp-content/uploads/GSP_Meal-Deal_Monday.jpg
END:VEVENT
BEGIN:VEVENT
DTSTART;TZID=America/Winnipeg:20271005T100000
DTEND;TZID=America/Winnipeg:20271005T180000
DTSTAMP:20260423T174527
CREATED:20230327T122032Z
LAST-MODIFIED:20230327T122050Z
UID:10025339-1822730400-1822759200@www.canadinns.com
SUMMARY:🟠 Garbonzo’s Sports Pub Daily Beverage Features - Garbonzo’s Signature Slushie
DESCRIPTION:
URL:https://www.canadinns.com/event/garbonzos-sports-pub-daily-beverage-features-garbonzos-signature-slushie/2027-10-05/
LOCATION:Garbonzo’s 🟠
CATEGORIES:Garbonzo’s Daily Deals
END:VEVENT
BEGIN:VEVENT
DTSTART;TZID=America/Winnipeg:20271005T100000
DTEND;TZID=America/Winnipeg:20271005T180000
DTSTAMP:20260423T174527
CREATED:20240603T165315Z
LAST-MODIFIED:20240603T165315Z
UID:10032616-1822730400-1822759200@www.canadinns.com
SUMMARY:🟠 Garbonzo’s Sports Pub – Happier Hours Until 6pm
DESCRIPTION:
URL:https://www.canadinns.com/event/garbonzos-sports-pub-happier-hours-until-6pm/2027-10-05/
LOCATION:Garbonzo’s 🟠
CATEGORIES:Garbonzo’s Daily Deals
ATTACH;FMTTYPE=image/jpeg:https://www.canadinns.com/wp-content/uploads/2023-11-15_19087-CI-Garbonzos-Anti-Inflation-Happier-Hours-1080x1080-Nov2023-FNL.jpg
END:VEVENT
BEGIN:VEVENT
DTSTART;TZID=America/Winnipeg:20271005T100000
DTEND;TZID=America/Winnipeg:20271005T235900
DTSTAMP:20260423T174527
CREATED:20230327T121139Z
LAST-MODIFIED:20240603T154252Z
UID:10030262-1822730400-1822780740@www.canadinns.com
SUMMARY:🟠 Garbonzo’s Sports Pub – Two-Topping Tuesday
DESCRIPTION:
URL:https://www.canadinns.com/event/garbonzos-sports-pub-two-topping-tuesday/2027-10-05/
LOCATION:Garbonzo’s 🟠
CATEGORIES:Garbonzo’s Daily Deals
ATTACH;FMTTYPE=image/jpeg:https://www.canadinns.com/wp-content/uploads/GSP_Meal-Deal_Tuesday.jpg
END:VEVENT
BEGIN:VEVENT
DTSTART;TZID=America/Winnipeg:20271006T100000
DTEND;TZID=America/Winnipeg:20271006T180000
DTSTAMP:20260423T174527
CREATED:20230327T122135Z
LAST-MODIFIED:20240603T170150Z
UID:10025861-1822816800-1822845600@www.canadinns.com
SUMMARY:🟠 Garbonzo’s Sports Pub Daily Beverage Features - 14oz Glass Sangria
DESCRIPTION:
URL:https://www.canadinns.com/event/garbonzos-sports-pub-daily-beverage-features-14oz-glass-sangria/2027-10-06/
LOCATION:Garbonzo’s 🟠
CATEGORIES:Garbonzo’s Daily Deals
END:VEVENT
BEGIN:VEVENT
DTSTART;TZID=America/Winnipeg:20271006T100000
DTEND;TZID=America/Winnipeg:20271006T180000
DTSTAMP:20260423T174528
CREATED:20240603T165315Z
LAST-MODIFIED:20240603T165315Z
UID:10032617-1822816800-1822845600@www.canadinns.com
SUMMARY:🟠 Garbonzo’s Sports Pub – Happier Hours Until 6pm
DESCRIPTION:
URL:https://www.canadinns.com/event/garbonzos-sports-pub-happier-hours-until-6pm/2027-10-06/
LOCATION:Garbonzo’s 🟠
CATEGORIES:Garbonzo’s Daily Deals
ATTACH;FMTTYPE=image/jpeg:https://www.canadinns.com/wp-content/uploads/2023-11-15_19087-CI-Garbonzos-Anti-Inflation-Happier-Hours-1080x1080-Nov2023-FNL.jpg
END:VEVENT
BEGIN:VEVENT
DTSTART;TZID=America/Winnipeg:20271006T100000
DTEND;TZID=America/Winnipeg:20271006T235900
DTSTAMP:20260423T174528
CREATED:20240603T160207Z
LAST-MODIFIED:20240603T160207Z
UID:10030523-1822816800-1822867140@www.canadinns.com
SUMMARY:🟠 Garbonzo’s Sports Pub – BOGO Half Price Pasta
DESCRIPTION:
URL:https://www.canadinns.com/event/garbonzos-sports-pub-bogo-half-price-pasta/2027-10-06/
LOCATION:Garbonzo’s 🟠
CATEGORIES:Garbonzo’s Daily Deals
ATTACH;FMTTYPE=image/jpeg:https://www.canadinns.com/wp-content/uploads/GSP_Meal-Deal_Wednesday.jpg
END:VEVENT
BEGIN:VEVENT
DTSTART;TZID=America/Winnipeg:20271007T100000
DTEND;TZID=America/Winnipeg:20271007T180000
DTSTAMP:20260423T174528
CREATED:20230327T122226Z
LAST-MODIFIED:20230327T122240Z
UID:10026383-1822903200-1822932000@www.canadinns.com
SUMMARY:🟠 Garbonzo’s Sports Pub Daily Beverage Features - Garbonzo’s Paralyzer\, 3oz Wide Mouth Masons\, 3oz Cocktail Masons\, 22oz PBR Draught
DESCRIPTION:
URL:https://www.canadinns.com/event/garbonzos-sports-pub-daily-beverage-features-garbonzos-paralyzer-3oz-wide-mouth-masons-3oz-cocktail-masons-22oz-pbr-draught/2027-10-07/
LOCATION:Garbonzo’s 🟠
CATEGORIES:Garbonzo’s Daily Deals
END:VEVENT
BEGIN:VEVENT
DTSTART;TZID=America/Winnipeg:20271007T100000
DTEND;TZID=America/Winnipeg:20271007T180000
DTSTAMP:20260423T174528
CREATED:20240603T165315Z
LAST-MODIFIED:20240603T165315Z
UID:10032618-1822903200-1822932000@www.canadinns.com
SUMMARY:🟠 Garbonzo’s Sports Pub – Happier Hours Until 6pm
DESCRIPTION:
URL:https://www.canadinns.com/event/garbonzos-sports-pub-happier-hours-until-6pm/2027-10-07/
LOCATION:Garbonzo’s 🟠
CATEGORIES:Garbonzo’s Daily Deals
ATTACH;FMTTYPE=image/jpeg:https://www.canadinns.com/wp-content/uploads/2023-11-15_19087-CI-Garbonzos-Anti-Inflation-Happier-Hours-1080x1080-Nov2023-FNL.jpg
END:VEVENT
BEGIN:VEVENT
DTSTART;TZID=America/Winnipeg:20271007T100000
DTEND;TZID=America/Winnipeg:20271007T235900
DTSTAMP:20260423T174528
CREATED:20240603T164739Z
LAST-MODIFIED:20240603T164739Z
UID:10031309-1822903200-1822953540@www.canadinns.com
SUMMARY:🟠 Garbonzo’s Sports Pub – 2 for $25 Appys
DESCRIPTION:
URL:https://www.canadinns.com/event/garbonzos-sports-pub-2-for-25-appys/2027-10-07/
LOCATION:Garbonzo’s 🟠
CATEGORIES:Garbonzo’s Daily Deals
ATTACH;FMTTYPE=image/jpeg:https://www.canadinns.com/wp-content/uploads/GSP_Meal-Deal_Thursday.jpg
END:VEVENT
BEGIN:VEVENT
DTSTART;TZID=America/Winnipeg:20271008T100000
DTEND;TZID=America/Winnipeg:20271008T180000
DTSTAMP:20260423T174528
CREATED:20230327T122304Z
LAST-MODIFIED:20230327T122317Z
UID:10026905-1822989600-1823018400@www.canadinns.com
SUMMARY:🟠 Garbonzo’s Sports Pub Daily Beverage Features - Long Island Iced Tea\, 3oz Wide Mouth Masons\, 3oz Cocktail Masons
DESCRIPTION:
URL:https://www.canadinns.com/event/garbonzos-sports-pub-daily-beverage-features-long-island-iced-tea-3oz-wide-mouth-masons-3oz-cocktail-masons/2027-10-08/
LOCATION:Garbonzo’s 🟠
CATEGORIES:Garbonzo’s Daily Deals
END:VEVENT
BEGIN:VEVENT
DTSTART;TZID=America/Winnipeg:20271008T100000
DTEND;TZID=America/Winnipeg:20271008T180000
DTSTAMP:20260423T174528
CREATED:20240603T165315Z
LAST-MODIFIED:20240603T165315Z
UID:10032619-1822989600-1823018400@www.canadinns.com
SUMMARY:🟠 Garbonzo’s Sports Pub – Happier Hours Until 6pm
DESCRIPTION:
URL:https://www.canadinns.com/event/garbonzos-sports-pub-happier-hours-until-6pm/2027-10-08/
LOCATION:Garbonzo’s 🟠
CATEGORIES:Garbonzo’s Daily Deals
ATTACH;FMTTYPE=image/jpeg:https://www.canadinns.com/wp-content/uploads/2023-11-15_19087-CI-Garbonzos-Anti-Inflation-Happier-Hours-1080x1080-Nov2023-FNL.jpg
END:VEVENT
BEGIN:VEVENT
DTSTART;TZID=America/Winnipeg:20271008T100000
DTEND;TZID=America/Winnipeg:20271008T235900
DTSTAMP:20260423T174528
CREATED:20240603T164350Z
LAST-MODIFIED:20240603T164350Z
UID:10030961-1822989600-1823039940@www.canadinns.com
SUMMARY:🟠 Garbonzo’s Sports Pub – Wings N' Things Weekend!
DESCRIPTION:
URL:https://www.canadinns.com/event/garbonzos-sports-pub-wings-n-things-weekend/2027-10-08/
LOCATION:Garbonzo’s 🟠
CATEGORIES:Garbonzo’s Daily Deals
ATTACH;FMTTYPE=image/jpeg:https://www.canadinns.com/wp-content/uploads/GSP_Meal-Deal_Weekend.jpg
END:VEVENT
BEGIN:VEVENT
DTSTART;TZID=America/Winnipeg:20271009T100000
DTEND;TZID=America/Winnipeg:20271009T180000
DTSTAMP:20260423T174528
CREATED:20230327T122341Z
LAST-MODIFIED:20230327T122356Z
UID:10027427-1823076000-1823104800@www.canadinns.com
SUMMARY:🟠 Garbonzo’s Sports Pub Daily Beverage Features - Garbonzo’s Strawberry Lemonade\, 3oz Wide Mouth Masons\, 3oz Cocktail Masons
DESCRIPTION:
URL:https://www.canadinns.com/event/garbonzos-sports-pub-daily-beverage-features-garbonzos-strawberry-lemonade-3oz-wide-mouth-masons-3oz-cocktail-masons/2027-10-09/
LOCATION:Garbonzo’s 🟠
CATEGORIES:Garbonzo’s Daily Deals
END:VEVENT
BEGIN:VEVENT
DTSTART;TZID=America/Winnipeg:20271009T100000
DTEND;TZID=America/Winnipeg:20271009T180000
DTSTAMP:20260423T174528
CREATED:20240603T165315Z
LAST-MODIFIED:20240603T165315Z
UID:10032620-1823076000-1823104800@www.canadinns.com
SUMMARY:🟠 Garbonzo’s Sports Pub – Happier Hours Until 6pm
DESCRIPTION:
URL:https://www.canadinns.com/event/garbonzos-sports-pub-happier-hours-until-6pm/2027-10-09/
LOCATION:Garbonzo’s 🟠
CATEGORIES:Garbonzo’s Daily Deals
ATTACH;FMTTYPE=image/jpeg:https://www.canadinns.com/wp-content/uploads/2023-11-15_19087-CI-Garbonzos-Anti-Inflation-Happier-Hours-1080x1080-Nov2023-FNL.jpg
END:VEVENT
BEGIN:VEVENT
DTSTART;TZID=America/Winnipeg:20271009T100000
DTEND;TZID=America/Winnipeg:20271009T235900
DTSTAMP:20260423T174528
CREATED:20240603T164350Z
LAST-MODIFIED:20240603T164350Z
UID:10030962-1823076000-1823126340@www.canadinns.com
SUMMARY:🟠 Garbonzo’s Sports Pub – Wings N' Things Weekend!
DESCRIPTION:
URL:https://www.canadinns.com/event/garbonzos-sports-pub-wings-n-things-weekend/2027-10-09/
LOCATION:Garbonzo’s 🟠
CATEGORIES:Garbonzo’s Daily Deals
ATTACH;FMTTYPE=image/jpeg:https://www.canadinns.com/wp-content/uploads/GSP_Meal-Deal_Weekend.jpg
END:VEVENT
BEGIN:VEVENT
DTSTART;TZID=America/Winnipeg:20271010T100000
DTEND;TZID=America/Winnipeg:20271010T180000
DTSTAMP:20260423T174528
CREATED:20230327T122421Z
LAST-MODIFIED:20230327T122440Z
UID:10027949-1823162400-1823191200@www.canadinns.com
SUMMARY:🟠 Garbonzo’s Sports Pub Daily Beverage Features - Garbonzo’s Signature Caesar
DESCRIPTION:
URL:https://www.canadinns.com/event/garbonzos-sports-pub-daily-beverage-features-garbonzos-signature-caesar/2027-10-10/
LOCATION:Garbonzo’s 🟠
CATEGORIES:Garbonzo’s Daily Deals
END:VEVENT
BEGIN:VEVENT
DTSTART;TZID=America/Winnipeg:20271010T100000
DTEND;TZID=America/Winnipeg:20271010T180000
DTSTAMP:20260423T174528
CREATED:20240603T165315Z
LAST-MODIFIED:20240603T165315Z
UID:10032621-1823162400-1823191200@www.canadinns.com
SUMMARY:🟠 Garbonzo’s Sports Pub – Happier Hours Until 6pm
DESCRIPTION:
URL:https://www.canadinns.com/event/garbonzos-sports-pub-happier-hours-until-6pm/2027-10-10/
LOCATION:Garbonzo’s 🟠
CATEGORIES:Garbonzo’s Daily Deals
ATTACH;FMTTYPE=image/jpeg:https://www.canadinns.com/wp-content/uploads/2023-11-15_19087-CI-Garbonzos-Anti-Inflation-Happier-Hours-1080x1080-Nov2023-FNL.jpg
END:VEVENT
BEGIN:VEVENT
DTSTART;TZID=America/Winnipeg:20271010T100000
DTEND;TZID=America/Winnipeg:20271010T235900
DTSTAMP:20260423T174528
CREATED:20230327T121535Z
LAST-MODIFIED:20240603T153930Z
UID:10029830-1823162400-1823212740@www.canadinns.com
SUMMARY:🟠 Garbonzo’s Sports Pub – Saucy Sunday
DESCRIPTION:
URL:https://www.canadinns.com/event/garbonzos-sports-pub-saucy-sunday/2027-10-10/
LOCATION:Garbonzo’s 🟠
CATEGORIES:Garbonzo’s Daily Deals
ATTACH;FMTTYPE=image/jpeg:https://www.canadinns.com/wp-content/uploads/GSP_Meal-Deal_Sunday.jpg
END:VEVENT
END:VCALENDAR