BEGIN:VCALENDAR
VERSION:2.0
PRODID:-//Canad Inns - ECPv6.15.17.1//NONSGML v1.0//EN
CALSCALE:GREGORIAN
METHOD:PUBLISH
X-WR-CALNAME:Canad Inns
X-ORIGINAL-URL:https://www.canadinns.com
X-WR-CALDESC:Events for Canad Inns
REFRESH-INTERVAL;VALUE=DURATION:PT1H
X-Robots-Tag:noindex
X-PUBLISHED-TTL:PT1H
BEGIN:VTIMEZONE
TZID:America/Winnipeg
BEGIN:DAYLIGHT
TZOFFSETFROM:-0600
TZOFFSETTO:-0500
TZNAME:CDT
DTSTART:20260308T080000
END:DAYLIGHT
BEGIN:STANDARD
TZOFFSETFROM:-0500
TZOFFSETTO:-0600
TZNAME:CST
DTSTART:20261101T070000
END:STANDARD
BEGIN:DAYLIGHT
TZOFFSETFROM:-0600
TZOFFSETTO:-0500
TZNAME:CDT
DTSTART:20270314T080000
END:DAYLIGHT
BEGIN:STANDARD
TZOFFSETFROM:-0500
TZOFFSETTO:-0600
TZNAME:CST
DTSTART:20271107T070000
END:STANDARD
BEGIN:DAYLIGHT
TZOFFSETFROM:-0600
TZOFFSETTO:-0500
TZNAME:CDT
DTSTART:20280312T080000
END:DAYLIGHT
BEGIN:STANDARD
TZOFFSETFROM:-0500
TZOFFSETTO:-0600
TZNAME:CST
DTSTART:20281105T070000
END:STANDARD
END:VTIMEZONE
BEGIN:VEVENT
DTSTART;TZID=America/Winnipeg:20270301T100000
DTEND;TZID=America/Winnipeg:20270301T180000
DTSTAMP:20260420T200447
CREATED:20230327T121909Z
LAST-MODIFIED:20230327T121952Z
UID:10024784-1803895200-1803924000@www.canadinns.com
SUMMARY:🟠 Garbonzo’s Sports Pub Daily Beverage Features - Royal Peach Tea
DESCRIPTION:
URL:https://www.canadinns.com/event/garbonzos-sports-pub-daily-beverage-features-royal-peach-tea/2027-03-01/
LOCATION:Garbonzo’s 🟠
CATEGORIES:Garbonzo’s Daily Deals
END:VEVENT
BEGIN:VEVENT
DTSTART;TZID=America/Winnipeg:20270301T100000
DTEND;TZID=America/Winnipeg:20270301T180000
DTSTAMP:20260420T200447
CREATED:20240603T165315Z
LAST-MODIFIED:20240603T165315Z
UID:10032398-1803895200-1803924000@www.canadinns.com
SUMMARY:🟠 Garbonzo’s Sports Pub – Happier Hours Until 6pm
DESCRIPTION:
URL:https://www.canadinns.com/event/garbonzos-sports-pub-happier-hours-until-6pm/2027-03-01/
LOCATION:Garbonzo’s 🟠
CATEGORIES:Garbonzo’s Daily Deals
ATTACH;FMTTYPE=image/jpeg:https://www.canadinns.com/wp-content/uploads/2023-11-15_19087-CI-Garbonzos-Anti-Inflation-Happier-Hours-1080x1080-Nov2023-FNL.jpg
END:VEVENT
BEGIN:VEVENT
DTSTART;TZID=America/Winnipeg:20270301T100000
DTEND;TZID=America/Winnipeg:20270301T235900
DTSTAMP:20260420T200447
CREATED:20230327T121014Z
LAST-MODIFIED:20240603T154122Z
UID:10030015-1803895200-1803945540@www.canadinns.com
SUMMARY:🟠 Garbonzo’s Sports Pub – Meal Deal Monday
DESCRIPTION:
URL:https://www.canadinns.com/event/garbonzos-sports-pub-meal-deal-monday/2027-03-01/
LOCATION:Garbonzo’s 🟠
CATEGORIES:Garbonzo’s Daily Deals
ATTACH;FMTTYPE=image/jpeg:https://www.canadinns.com/wp-content/uploads/GSP_Meal-Deal_Monday.jpg
END:VEVENT
BEGIN:VEVENT
DTSTART;TZID=America/Winnipeg:20270302T100000
DTEND;TZID=America/Winnipeg:20270302T180000
DTSTAMP:20260420T200447
CREATED:20230327T122032Z
LAST-MODIFIED:20230327T122050Z
UID:10025308-1803981600-1804010400@www.canadinns.com
SUMMARY:🟠 Garbonzo’s Sports Pub Daily Beverage Features - Garbonzo’s Signature Slushie
DESCRIPTION:
URL:https://www.canadinns.com/event/garbonzos-sports-pub-daily-beverage-features-garbonzos-signature-slushie/2027-03-02/
LOCATION:Garbonzo’s 🟠
CATEGORIES:Garbonzo’s Daily Deals
END:VEVENT
BEGIN:VEVENT
DTSTART;TZID=America/Winnipeg:20270302T100000
DTEND;TZID=America/Winnipeg:20270302T180000
DTSTAMP:20260420T200447
CREATED:20240603T165315Z
LAST-MODIFIED:20240603T165315Z
UID:10032399-1803981600-1804010400@www.canadinns.com
SUMMARY:🟠 Garbonzo’s Sports Pub – Happier Hours Until 6pm
DESCRIPTION:
URL:https://www.canadinns.com/event/garbonzos-sports-pub-happier-hours-until-6pm/2027-03-02/
LOCATION:Garbonzo’s 🟠
CATEGORIES:Garbonzo’s Daily Deals
ATTACH;FMTTYPE=image/jpeg:https://www.canadinns.com/wp-content/uploads/2023-11-15_19087-CI-Garbonzos-Anti-Inflation-Happier-Hours-1080x1080-Nov2023-FNL.jpg
END:VEVENT
BEGIN:VEVENT
DTSTART;TZID=America/Winnipeg:20270302T100000
DTEND;TZID=America/Winnipeg:20270302T235900
DTSTAMP:20260420T200447
CREATED:20230327T121139Z
LAST-MODIFIED:20240603T154252Z
UID:10030231-1803981600-1804031940@www.canadinns.com
SUMMARY:🟠 Garbonzo’s Sports Pub – Two-Topping Tuesday
DESCRIPTION:
URL:https://www.canadinns.com/event/garbonzos-sports-pub-two-topping-tuesday/2027-03-02/
LOCATION:Garbonzo’s 🟠
CATEGORIES:Garbonzo’s Daily Deals
ATTACH;FMTTYPE=image/jpeg:https://www.canadinns.com/wp-content/uploads/GSP_Meal-Deal_Tuesday.jpg
END:VEVENT
BEGIN:VEVENT
DTSTART;TZID=America/Winnipeg:20270303T100000
DTEND;TZID=America/Winnipeg:20270303T180000
DTSTAMP:20260420T200447
CREATED:20230327T122135Z
LAST-MODIFIED:20240603T170150Z
UID:10025830-1804068000-1804096800@www.canadinns.com
SUMMARY:🟠 Garbonzo’s Sports Pub Daily Beverage Features - 14oz Glass Sangria
DESCRIPTION:
URL:https://www.canadinns.com/event/garbonzos-sports-pub-daily-beverage-features-14oz-glass-sangria/2027-03-03/
LOCATION:Garbonzo’s 🟠
CATEGORIES:Garbonzo’s Daily Deals
END:VEVENT
BEGIN:VEVENT
DTSTART;TZID=America/Winnipeg:20270303T100000
DTEND;TZID=America/Winnipeg:20270303T180000
DTSTAMP:20260420T200447
CREATED:20240603T165315Z
LAST-MODIFIED:20240603T165315Z
UID:10032400-1804068000-1804096800@www.canadinns.com
SUMMARY:🟠 Garbonzo’s Sports Pub – Happier Hours Until 6pm
DESCRIPTION:
URL:https://www.canadinns.com/event/garbonzos-sports-pub-happier-hours-until-6pm/2027-03-03/
LOCATION:Garbonzo’s 🟠
CATEGORIES:Garbonzo’s Daily Deals
ATTACH;FMTTYPE=image/jpeg:https://www.canadinns.com/wp-content/uploads/2023-11-15_19087-CI-Garbonzos-Anti-Inflation-Happier-Hours-1080x1080-Nov2023-FNL.jpg
END:VEVENT
BEGIN:VEVENT
DTSTART;TZID=America/Winnipeg:20270303T100000
DTEND;TZID=America/Winnipeg:20270303T235900
DTSTAMP:20260420T200447
CREATED:20240603T160207Z
LAST-MODIFIED:20240603T160207Z
UID:10030492-1804068000-1804118340@www.canadinns.com
SUMMARY:🟠 Garbonzo’s Sports Pub – BOGO Half Price Pasta
DESCRIPTION:
URL:https://www.canadinns.com/event/garbonzos-sports-pub-bogo-half-price-pasta/2027-03-03/
LOCATION:Garbonzo’s 🟠
CATEGORIES:Garbonzo’s Daily Deals
ATTACH;FMTTYPE=image/jpeg:https://www.canadinns.com/wp-content/uploads/GSP_Meal-Deal_Wednesday.jpg
END:VEVENT
BEGIN:VEVENT
DTSTART;TZID=America/Winnipeg:20270304T100000
DTEND;TZID=America/Winnipeg:20270304T180000
DTSTAMP:20260420T200447
CREATED:20230327T122226Z
LAST-MODIFIED:20230327T122240Z
UID:10026352-1804154400-1804183200@www.canadinns.com
SUMMARY:🟠 Garbonzo’s Sports Pub Daily Beverage Features - Garbonzo’s Paralyzer\, 3oz Wide Mouth Masons\, 3oz Cocktail Masons\, 22oz PBR Draught
DESCRIPTION:
URL:https://www.canadinns.com/event/garbonzos-sports-pub-daily-beverage-features-garbonzos-paralyzer-3oz-wide-mouth-masons-3oz-cocktail-masons-22oz-pbr-draught/2027-03-04/
LOCATION:Garbonzo’s 🟠
CATEGORIES:Garbonzo’s Daily Deals
END:VEVENT
BEGIN:VEVENT
DTSTART;TZID=America/Winnipeg:20270304T100000
DTEND;TZID=America/Winnipeg:20270304T180000
DTSTAMP:20260420T200447
CREATED:20240603T165315Z
LAST-MODIFIED:20240603T165315Z
UID:10032401-1804154400-1804183200@www.canadinns.com
SUMMARY:🟠 Garbonzo’s Sports Pub – Happier Hours Until 6pm
DESCRIPTION:
URL:https://www.canadinns.com/event/garbonzos-sports-pub-happier-hours-until-6pm/2027-03-04/
LOCATION:Garbonzo’s 🟠
CATEGORIES:Garbonzo’s Daily Deals
ATTACH;FMTTYPE=image/jpeg:https://www.canadinns.com/wp-content/uploads/2023-11-15_19087-CI-Garbonzos-Anti-Inflation-Happier-Hours-1080x1080-Nov2023-FNL.jpg
END:VEVENT
BEGIN:VEVENT
DTSTART;TZID=America/Winnipeg:20270304T100000
DTEND;TZID=America/Winnipeg:20270304T235900
DTSTAMP:20260420T200447
CREATED:20240603T164739Z
LAST-MODIFIED:20240603T164739Z
UID:10031278-1804154400-1804204740@www.canadinns.com
SUMMARY:🟠 Garbonzo’s Sports Pub – 2 for $25 Appys
DESCRIPTION:
URL:https://www.canadinns.com/event/garbonzos-sports-pub-2-for-25-appys/2027-03-04/
LOCATION:Garbonzo’s 🟠
CATEGORIES:Garbonzo’s Daily Deals
ATTACH;FMTTYPE=image/jpeg:https://www.canadinns.com/wp-content/uploads/GSP_Meal-Deal_Thursday.jpg
END:VEVENT
BEGIN:VEVENT
DTSTART;TZID=America/Winnipeg:20270305T100000
DTEND;TZID=America/Winnipeg:20270305T180000
DTSTAMP:20260420T200447
CREATED:20230327T122304Z
LAST-MODIFIED:20230327T122317Z
UID:10026874-1804240800-1804269600@www.canadinns.com
SUMMARY:🟠 Garbonzo’s Sports Pub Daily Beverage Features - Long Island Iced Tea\, 3oz Wide Mouth Masons\, 3oz Cocktail Masons
DESCRIPTION:
URL:https://www.canadinns.com/event/garbonzos-sports-pub-daily-beverage-features-long-island-iced-tea-3oz-wide-mouth-masons-3oz-cocktail-masons/2027-03-05/
LOCATION:Garbonzo’s 🟠
CATEGORIES:Garbonzo’s Daily Deals
END:VEVENT
BEGIN:VEVENT
DTSTART;TZID=America/Winnipeg:20270305T100000
DTEND;TZID=America/Winnipeg:20270305T180000
DTSTAMP:20260420T200447
CREATED:20240603T165315Z
LAST-MODIFIED:20240603T165315Z
UID:10032402-1804240800-1804269600@www.canadinns.com
SUMMARY:🟠 Garbonzo’s Sports Pub – Happier Hours Until 6pm
DESCRIPTION:
URL:https://www.canadinns.com/event/garbonzos-sports-pub-happier-hours-until-6pm/2027-03-05/
LOCATION:Garbonzo’s 🟠
CATEGORIES:Garbonzo’s Daily Deals
ATTACH;FMTTYPE=image/jpeg:https://www.canadinns.com/wp-content/uploads/2023-11-15_19087-CI-Garbonzos-Anti-Inflation-Happier-Hours-1080x1080-Nov2023-FNL.jpg
END:VEVENT
BEGIN:VEVENT
DTSTART;TZID=America/Winnipeg:20270305T100000
DTEND;TZID=America/Winnipeg:20270305T235900
DTSTAMP:20260420T200447
CREATED:20240603T164350Z
LAST-MODIFIED:20240603T164350Z
UID:10030899-1804240800-1804291140@www.canadinns.com
SUMMARY:🟠 Garbonzo’s Sports Pub – Wings N' Things Weekend!
DESCRIPTION:
URL:https://www.canadinns.com/event/garbonzos-sports-pub-wings-n-things-weekend/2027-03-05/
LOCATION:Garbonzo’s 🟠
CATEGORIES:Garbonzo’s Daily Deals
ATTACH;FMTTYPE=image/jpeg:https://www.canadinns.com/wp-content/uploads/GSP_Meal-Deal_Weekend.jpg
END:VEVENT
BEGIN:VEVENT
DTSTART;TZID=America/Winnipeg:20270306T100000
DTEND;TZID=America/Winnipeg:20270306T180000
DTSTAMP:20260420T200447
CREATED:20230327T122341Z
LAST-MODIFIED:20230327T122356Z
UID:10027396-1804327200-1804356000@www.canadinns.com
SUMMARY:🟠 Garbonzo’s Sports Pub Daily Beverage Features - Garbonzo’s Strawberry Lemonade\, 3oz Wide Mouth Masons\, 3oz Cocktail Masons
DESCRIPTION:
URL:https://www.canadinns.com/event/garbonzos-sports-pub-daily-beverage-features-garbonzos-strawberry-lemonade-3oz-wide-mouth-masons-3oz-cocktail-masons/2027-03-06/
LOCATION:Garbonzo’s 🟠
CATEGORIES:Garbonzo’s Daily Deals
END:VEVENT
BEGIN:VEVENT
DTSTART;TZID=America/Winnipeg:20270306T100000
DTEND;TZID=America/Winnipeg:20270306T180000
DTSTAMP:20260420T200447
CREATED:20240603T165315Z
LAST-MODIFIED:20240603T165315Z
UID:10032403-1804327200-1804356000@www.canadinns.com
SUMMARY:🟠 Garbonzo’s Sports Pub – Happier Hours Until 6pm
DESCRIPTION:
URL:https://www.canadinns.com/event/garbonzos-sports-pub-happier-hours-until-6pm/2027-03-06/
LOCATION:Garbonzo’s 🟠
CATEGORIES:Garbonzo’s Daily Deals
ATTACH;FMTTYPE=image/jpeg:https://www.canadinns.com/wp-content/uploads/2023-11-15_19087-CI-Garbonzos-Anti-Inflation-Happier-Hours-1080x1080-Nov2023-FNL.jpg
END:VEVENT
BEGIN:VEVENT
DTSTART;TZID=America/Winnipeg:20270306T100000
DTEND;TZID=America/Winnipeg:20270306T235900
DTSTAMP:20260420T200447
CREATED:20240603T164350Z
LAST-MODIFIED:20240603T164350Z
UID:10030900-1804327200-1804377540@www.canadinns.com
SUMMARY:🟠 Garbonzo’s Sports Pub – Wings N' Things Weekend!
DESCRIPTION:
URL:https://www.canadinns.com/event/garbonzos-sports-pub-wings-n-things-weekend/2027-03-06/
LOCATION:Garbonzo’s 🟠
CATEGORIES:Garbonzo’s Daily Deals
ATTACH;FMTTYPE=image/jpeg:https://www.canadinns.com/wp-content/uploads/GSP_Meal-Deal_Weekend.jpg
END:VEVENT
BEGIN:VEVENT
DTSTART;TZID=America/Winnipeg:20270307T100000
DTEND;TZID=America/Winnipeg:20270307T180000
DTSTAMP:20260420T200447
CREATED:20230327T122421Z
LAST-MODIFIED:20230327T122440Z
UID:10027918-1804413600-1804442400@www.canadinns.com
SUMMARY:🟠 Garbonzo’s Sports Pub Daily Beverage Features - Garbonzo’s Signature Caesar
DESCRIPTION:
URL:https://www.canadinns.com/event/garbonzos-sports-pub-daily-beverage-features-garbonzos-signature-caesar/2027-03-07/
LOCATION:Garbonzo’s 🟠
CATEGORIES:Garbonzo’s Daily Deals
END:VEVENT
BEGIN:VEVENT
DTSTART;TZID=America/Winnipeg:20270307T100000
DTEND;TZID=America/Winnipeg:20270307T180000
DTSTAMP:20260420T200447
CREATED:20240603T165315Z
LAST-MODIFIED:20240603T165315Z
UID:10032404-1804413600-1804442400@www.canadinns.com
SUMMARY:🟠 Garbonzo’s Sports Pub – Happier Hours Until 6pm
DESCRIPTION:
URL:https://www.canadinns.com/event/garbonzos-sports-pub-happier-hours-until-6pm/2027-03-07/
LOCATION:Garbonzo’s 🟠
CATEGORIES:Garbonzo’s Daily Deals
ATTACH;FMTTYPE=image/jpeg:https://www.canadinns.com/wp-content/uploads/2023-11-15_19087-CI-Garbonzos-Anti-Inflation-Happier-Hours-1080x1080-Nov2023-FNL.jpg
END:VEVENT
BEGIN:VEVENT
DTSTART;TZID=America/Winnipeg:20270307T100000
DTEND;TZID=America/Winnipeg:20270307T235900
DTSTAMP:20260420T200447
CREATED:20230327T121535Z
LAST-MODIFIED:20240603T153930Z
UID:10029799-1804413600-1804463940@www.canadinns.com
SUMMARY:🟠 Garbonzo’s Sports Pub – Saucy Sunday
DESCRIPTION:
URL:https://www.canadinns.com/event/garbonzos-sports-pub-saucy-sunday/2027-03-07/
LOCATION:Garbonzo’s 🟠
CATEGORIES:Garbonzo’s Daily Deals
ATTACH;FMTTYPE=image/jpeg:https://www.canadinns.com/wp-content/uploads/GSP_Meal-Deal_Sunday.jpg
END:VEVENT
BEGIN:VEVENT
DTSTART;TZID=America/Winnipeg:20270308T100000
DTEND;TZID=America/Winnipeg:20270308T180000
DTSTAMP:20260420T200447
CREATED:20230327T121909Z
LAST-MODIFIED:20230327T121952Z
UID:10024785-1804500000-1804528800@www.canadinns.com
SUMMARY:🟠 Garbonzo’s Sports Pub Daily Beverage Features - Royal Peach Tea
DESCRIPTION:
URL:https://www.canadinns.com/event/garbonzos-sports-pub-daily-beverage-features-royal-peach-tea/2027-03-08/
LOCATION:Garbonzo’s 🟠
CATEGORIES:Garbonzo’s Daily Deals
END:VEVENT
BEGIN:VEVENT
DTSTART;TZID=America/Winnipeg:20270308T100000
DTEND;TZID=America/Winnipeg:20270308T180000
DTSTAMP:20260420T200447
CREATED:20240603T165315Z
LAST-MODIFIED:20240603T165315Z
UID:10032405-1804500000-1804528800@www.canadinns.com
SUMMARY:🟠 Garbonzo’s Sports Pub – Happier Hours Until 6pm
DESCRIPTION:
URL:https://www.canadinns.com/event/garbonzos-sports-pub-happier-hours-until-6pm/2027-03-08/
LOCATION:Garbonzo’s 🟠
CATEGORIES:Garbonzo’s Daily Deals
ATTACH;FMTTYPE=image/jpeg:https://www.canadinns.com/wp-content/uploads/2023-11-15_19087-CI-Garbonzos-Anti-Inflation-Happier-Hours-1080x1080-Nov2023-FNL.jpg
END:VEVENT
BEGIN:VEVENT
DTSTART;TZID=America/Winnipeg:20270308T100000
DTEND;TZID=America/Winnipeg:20270308T235900
DTSTAMP:20260420T200447
CREATED:20230327T121014Z
LAST-MODIFIED:20240603T154122Z
UID:10030016-1804500000-1804550340@www.canadinns.com
SUMMARY:🟠 Garbonzo’s Sports Pub – Meal Deal Monday
DESCRIPTION:
URL:https://www.canadinns.com/event/garbonzos-sports-pub-meal-deal-monday/2027-03-08/
LOCATION:Garbonzo’s 🟠
CATEGORIES:Garbonzo’s Daily Deals
ATTACH;FMTTYPE=image/jpeg:https://www.canadinns.com/wp-content/uploads/GSP_Meal-Deal_Monday.jpg
END:VEVENT
BEGIN:VEVENT
DTSTART;TZID=America/Winnipeg:20270309T100000
DTEND;TZID=America/Winnipeg:20270309T180000
DTSTAMP:20260420T200447
CREATED:20230327T122032Z
LAST-MODIFIED:20230327T122050Z
UID:10025309-1804586400-1804615200@www.canadinns.com
SUMMARY:🟠 Garbonzo’s Sports Pub Daily Beverage Features - Garbonzo’s Signature Slushie
DESCRIPTION:
URL:https://www.canadinns.com/event/garbonzos-sports-pub-daily-beverage-features-garbonzos-signature-slushie/2027-03-09/
LOCATION:Garbonzo’s 🟠
CATEGORIES:Garbonzo’s Daily Deals
END:VEVENT
BEGIN:VEVENT
DTSTART;TZID=America/Winnipeg:20270309T100000
DTEND;TZID=America/Winnipeg:20270309T180000
DTSTAMP:20260420T200447
CREATED:20240603T165315Z
LAST-MODIFIED:20240603T165315Z
UID:10032406-1804586400-1804615200@www.canadinns.com
SUMMARY:🟠 Garbonzo’s Sports Pub – Happier Hours Until 6pm
DESCRIPTION:
URL:https://www.canadinns.com/event/garbonzos-sports-pub-happier-hours-until-6pm/2027-03-09/
LOCATION:Garbonzo’s 🟠
CATEGORIES:Garbonzo’s Daily Deals
ATTACH;FMTTYPE=image/jpeg:https://www.canadinns.com/wp-content/uploads/2023-11-15_19087-CI-Garbonzos-Anti-Inflation-Happier-Hours-1080x1080-Nov2023-FNL.jpg
END:VEVENT
BEGIN:VEVENT
DTSTART;TZID=America/Winnipeg:20270309T100000
DTEND;TZID=America/Winnipeg:20270309T235900
DTSTAMP:20260420T200447
CREATED:20230327T121139Z
LAST-MODIFIED:20240603T154252Z
UID:10030232-1804586400-1804636740@www.canadinns.com
SUMMARY:🟠 Garbonzo’s Sports Pub – Two-Topping Tuesday
DESCRIPTION:
URL:https://www.canadinns.com/event/garbonzos-sports-pub-two-topping-tuesday/2027-03-09/
LOCATION:Garbonzo’s 🟠
CATEGORIES:Garbonzo’s Daily Deals
ATTACH;FMTTYPE=image/jpeg:https://www.canadinns.com/wp-content/uploads/GSP_Meal-Deal_Tuesday.jpg
END:VEVENT
BEGIN:VEVENT
DTSTART;TZID=America/Winnipeg:20270310T100000
DTEND;TZID=America/Winnipeg:20270310T180000
DTSTAMP:20260420T200447
CREATED:20230327T122135Z
LAST-MODIFIED:20240603T170150Z
UID:10025831-1804672800-1804701600@www.canadinns.com
SUMMARY:🟠 Garbonzo’s Sports Pub Daily Beverage Features - 14oz Glass Sangria
DESCRIPTION:
URL:https://www.canadinns.com/event/garbonzos-sports-pub-daily-beverage-features-14oz-glass-sangria/2027-03-10/
LOCATION:Garbonzo’s 🟠
CATEGORIES:Garbonzo’s Daily Deals
END:VEVENT
BEGIN:VEVENT
DTSTART;TZID=America/Winnipeg:20270310T100000
DTEND;TZID=America/Winnipeg:20270310T180000
DTSTAMP:20260420T200447
CREATED:20240603T165315Z
LAST-MODIFIED:20240603T165315Z
UID:10032407-1804672800-1804701600@www.canadinns.com
SUMMARY:🟠 Garbonzo’s Sports Pub – Happier Hours Until 6pm
DESCRIPTION:
URL:https://www.canadinns.com/event/garbonzos-sports-pub-happier-hours-until-6pm/2027-03-10/
LOCATION:Garbonzo’s 🟠
CATEGORIES:Garbonzo’s Daily Deals
ATTACH;FMTTYPE=image/jpeg:https://www.canadinns.com/wp-content/uploads/2023-11-15_19087-CI-Garbonzos-Anti-Inflation-Happier-Hours-1080x1080-Nov2023-FNL.jpg
END:VEVENT
BEGIN:VEVENT
DTSTART;TZID=America/Winnipeg:20270310T100000
DTEND;TZID=America/Winnipeg:20270310T235900
DTSTAMP:20260420T200447
CREATED:20240603T160207Z
LAST-MODIFIED:20240603T160207Z
UID:10030493-1804672800-1804723140@www.canadinns.com
SUMMARY:🟠 Garbonzo’s Sports Pub – BOGO Half Price Pasta
DESCRIPTION:
URL:https://www.canadinns.com/event/garbonzos-sports-pub-bogo-half-price-pasta/2027-03-10/
LOCATION:Garbonzo’s 🟠
CATEGORIES:Garbonzo’s Daily Deals
ATTACH;FMTTYPE=image/jpeg:https://www.canadinns.com/wp-content/uploads/GSP_Meal-Deal_Wednesday.jpg
END:VEVENT
END:VCALENDAR