BEGIN:VCALENDAR
VERSION:2.0
PRODID:-//Canad Inns - ECPv6.15.17.1//NONSGML v1.0//EN
CALSCALE:GREGORIAN
METHOD:PUBLISH
X-WR-CALNAME:Canad Inns
X-ORIGINAL-URL:https://www.canadinns.com
X-WR-CALDESC:Events for Canad Inns
REFRESH-INTERVAL;VALUE=DURATION:PT1H
X-Robots-Tag:noindex
X-PUBLISHED-TTL:PT1H
BEGIN:VTIMEZONE
TZID:America/Winnipeg
BEGIN:DAYLIGHT
TZOFFSETFROM:-0600
TZOFFSETTO:-0500
TZNAME:CDT
DTSTART:20260308T080000
END:DAYLIGHT
BEGIN:STANDARD
TZOFFSETFROM:-0500
TZOFFSETTO:-0600
TZNAME:CST
DTSTART:20261101T070000
END:STANDARD
BEGIN:DAYLIGHT
TZOFFSETFROM:-0600
TZOFFSETTO:-0500
TZNAME:CDT
DTSTART:20270314T080000
END:DAYLIGHT
BEGIN:STANDARD
TZOFFSETFROM:-0500
TZOFFSETTO:-0600
TZNAME:CST
DTSTART:20271107T070000
END:STANDARD
BEGIN:DAYLIGHT
TZOFFSETFROM:-0600
TZOFFSETTO:-0500
TZNAME:CDT
DTSTART:20280312T080000
END:DAYLIGHT
BEGIN:STANDARD
TZOFFSETFROM:-0500
TZOFFSETTO:-0600
TZNAME:CST
DTSTART:20281105T070000
END:STANDARD
END:VTIMEZONE
BEGIN:VEVENT
DTSTART;TZID=America/Winnipeg:20270615T100000
DTEND;TZID=America/Winnipeg:20270615T180000
DTSTAMP:20260423T035004
CREATED:20230327T122032Z
LAST-MODIFIED:20230327T122050Z
UID:10025323-1813053600-1813082400@www.canadinns.com
SUMMARY:🟠 Garbonzo’s Sports Pub Daily Beverage Features - Garbonzo’s Signature Slushie
DESCRIPTION:
URL:https://www.canadinns.com/event/garbonzos-sports-pub-daily-beverage-features-garbonzos-signature-slushie/2027-06-15/
LOCATION:Garbonzo’s 🟠
CATEGORIES:Garbonzo’s Daily Deals
END:VEVENT
BEGIN:VEVENT
DTSTART;TZID=America/Winnipeg:20270615T100000
DTEND;TZID=America/Winnipeg:20270615T180000
DTSTAMP:20260423T035004
CREATED:20240603T165315Z
LAST-MODIFIED:20240603T165315Z
UID:10032504-1813053600-1813082400@www.canadinns.com
SUMMARY:🟠 Garbonzo’s Sports Pub – Happier Hours Until 6pm
DESCRIPTION:
URL:https://www.canadinns.com/event/garbonzos-sports-pub-happier-hours-until-6pm/2027-06-15/
LOCATION:Garbonzo’s 🟠
CATEGORIES:Garbonzo’s Daily Deals
ATTACH;FMTTYPE=image/jpeg:https://www.canadinns.com/wp-content/uploads/2023-11-15_19087-CI-Garbonzos-Anti-Inflation-Happier-Hours-1080x1080-Nov2023-FNL.jpg
END:VEVENT
BEGIN:VEVENT
DTSTART;TZID=America/Winnipeg:20270615T100000
DTEND;TZID=America/Winnipeg:20270615T235900
DTSTAMP:20260423T035004
CREATED:20230327T121139Z
LAST-MODIFIED:20240603T154252Z
UID:10030246-1813053600-1813103940@www.canadinns.com
SUMMARY:🟠 Garbonzo’s Sports Pub – Two-Topping Tuesday
DESCRIPTION:
URL:https://www.canadinns.com/event/garbonzos-sports-pub-two-topping-tuesday/2027-06-15/
LOCATION:Garbonzo’s 🟠
CATEGORIES:Garbonzo’s Daily Deals
ATTACH;FMTTYPE=image/jpeg:https://www.canadinns.com/wp-content/uploads/GSP_Meal-Deal_Tuesday.jpg
END:VEVENT
BEGIN:VEVENT
DTSTART;TZID=America/Winnipeg:20270616T100000
DTEND;TZID=America/Winnipeg:20270616T180000
DTSTAMP:20260423T035004
CREATED:20230327T122135Z
LAST-MODIFIED:20240603T170150Z
UID:10025845-1813140000-1813168800@www.canadinns.com
SUMMARY:🟠 Garbonzo’s Sports Pub Daily Beverage Features - 14oz Glass Sangria
DESCRIPTION:
URL:https://www.canadinns.com/event/garbonzos-sports-pub-daily-beverage-features-14oz-glass-sangria/2027-06-16/
LOCATION:Garbonzo’s 🟠
CATEGORIES:Garbonzo’s Daily Deals
END:VEVENT
BEGIN:VEVENT
DTSTART;TZID=America/Winnipeg:20270616T100000
DTEND;TZID=America/Winnipeg:20270616T180000
DTSTAMP:20260423T035004
CREATED:20240603T165315Z
LAST-MODIFIED:20240603T165315Z
UID:10032505-1813140000-1813168800@www.canadinns.com
SUMMARY:🟠 Garbonzo’s Sports Pub – Happier Hours Until 6pm
DESCRIPTION:
URL:https://www.canadinns.com/event/garbonzos-sports-pub-happier-hours-until-6pm/2027-06-16/
LOCATION:Garbonzo’s 🟠
CATEGORIES:Garbonzo’s Daily Deals
ATTACH;FMTTYPE=image/jpeg:https://www.canadinns.com/wp-content/uploads/2023-11-15_19087-CI-Garbonzos-Anti-Inflation-Happier-Hours-1080x1080-Nov2023-FNL.jpg
END:VEVENT
BEGIN:VEVENT
DTSTART;TZID=America/Winnipeg:20270616T100000
DTEND;TZID=America/Winnipeg:20270616T235900
DTSTAMP:20260423T035004
CREATED:20240603T160207Z
LAST-MODIFIED:20240603T160207Z
UID:10030507-1813140000-1813190340@www.canadinns.com
SUMMARY:🟠 Garbonzo’s Sports Pub – BOGO Half Price Pasta
DESCRIPTION:
URL:https://www.canadinns.com/event/garbonzos-sports-pub-bogo-half-price-pasta/2027-06-16/
LOCATION:Garbonzo’s 🟠
CATEGORIES:Garbonzo’s Daily Deals
ATTACH;FMTTYPE=image/jpeg:https://www.canadinns.com/wp-content/uploads/GSP_Meal-Deal_Wednesday.jpg
END:VEVENT
BEGIN:VEVENT
DTSTART;TZID=America/Winnipeg:20270617T100000
DTEND;TZID=America/Winnipeg:20270617T180000
DTSTAMP:20260423T035004
CREATED:20230327T122226Z
LAST-MODIFIED:20230327T122240Z
UID:10026367-1813226400-1813255200@www.canadinns.com
SUMMARY:🟠 Garbonzo’s Sports Pub Daily Beverage Features - Garbonzo’s Paralyzer\, 3oz Wide Mouth Masons\, 3oz Cocktail Masons\, 22oz PBR Draught
DESCRIPTION:
URL:https://www.canadinns.com/event/garbonzos-sports-pub-daily-beverage-features-garbonzos-paralyzer-3oz-wide-mouth-masons-3oz-cocktail-masons-22oz-pbr-draught/2027-06-17/
LOCATION:Garbonzo’s 🟠
CATEGORIES:Garbonzo’s Daily Deals
END:VEVENT
BEGIN:VEVENT
DTSTART;TZID=America/Winnipeg:20270617T100000
DTEND;TZID=America/Winnipeg:20270617T180000
DTSTAMP:20260423T035004
CREATED:20240603T165315Z
LAST-MODIFIED:20240603T165315Z
UID:10032506-1813226400-1813255200@www.canadinns.com
SUMMARY:🟠 Garbonzo’s Sports Pub – Happier Hours Until 6pm
DESCRIPTION:
URL:https://www.canadinns.com/event/garbonzos-sports-pub-happier-hours-until-6pm/2027-06-17/
LOCATION:Garbonzo’s 🟠
CATEGORIES:Garbonzo’s Daily Deals
ATTACH;FMTTYPE=image/jpeg:https://www.canadinns.com/wp-content/uploads/2023-11-15_19087-CI-Garbonzos-Anti-Inflation-Happier-Hours-1080x1080-Nov2023-FNL.jpg
END:VEVENT
BEGIN:VEVENT
DTSTART;TZID=America/Winnipeg:20270617T100000
DTEND;TZID=America/Winnipeg:20270617T235900
DTSTAMP:20260423T035004
CREATED:20240603T164739Z
LAST-MODIFIED:20240603T164739Z
UID:10031293-1813226400-1813276740@www.canadinns.com
SUMMARY:🟠 Garbonzo’s Sports Pub – 2 for $25 Appys
DESCRIPTION:
URL:https://www.canadinns.com/event/garbonzos-sports-pub-2-for-25-appys/2027-06-17/
LOCATION:Garbonzo’s 🟠
CATEGORIES:Garbonzo’s Daily Deals
ATTACH;FMTTYPE=image/jpeg:https://www.canadinns.com/wp-content/uploads/GSP_Meal-Deal_Thursday.jpg
END:VEVENT
BEGIN:VEVENT
DTSTART;TZID=America/Winnipeg:20270618T100000
DTEND;TZID=America/Winnipeg:20270618T180000
DTSTAMP:20260423T035004
CREATED:20230327T122304Z
LAST-MODIFIED:20230327T122317Z
UID:10026889-1813312800-1813341600@www.canadinns.com
SUMMARY:🟠 Garbonzo’s Sports Pub Daily Beverage Features - Long Island Iced Tea\, 3oz Wide Mouth Masons\, 3oz Cocktail Masons
DESCRIPTION:
URL:https://www.canadinns.com/event/garbonzos-sports-pub-daily-beverage-features-long-island-iced-tea-3oz-wide-mouth-masons-3oz-cocktail-masons/2027-06-18/
LOCATION:Garbonzo’s 🟠
CATEGORIES:Garbonzo’s Daily Deals
END:VEVENT
BEGIN:VEVENT
DTSTART;TZID=America/Winnipeg:20270618T100000
DTEND;TZID=America/Winnipeg:20270618T180000
DTSTAMP:20260423T035004
CREATED:20240603T165315Z
LAST-MODIFIED:20240603T165315Z
UID:10032507-1813312800-1813341600@www.canadinns.com
SUMMARY:🟠 Garbonzo’s Sports Pub – Happier Hours Until 6pm
DESCRIPTION:
URL:https://www.canadinns.com/event/garbonzos-sports-pub-happier-hours-until-6pm/2027-06-18/
LOCATION:Garbonzo’s 🟠
CATEGORIES:Garbonzo’s Daily Deals
ATTACH;FMTTYPE=image/jpeg:https://www.canadinns.com/wp-content/uploads/2023-11-15_19087-CI-Garbonzos-Anti-Inflation-Happier-Hours-1080x1080-Nov2023-FNL.jpg
END:VEVENT
BEGIN:VEVENT
DTSTART;TZID=America/Winnipeg:20270618T100000
DTEND;TZID=America/Winnipeg:20270618T235900
DTSTAMP:20260423T035004
CREATED:20240603T164350Z
LAST-MODIFIED:20240603T164350Z
UID:10030929-1813312800-1813363140@www.canadinns.com
SUMMARY:🟠 Garbonzo’s Sports Pub – Wings N' Things Weekend!
DESCRIPTION:
URL:https://www.canadinns.com/event/garbonzos-sports-pub-wings-n-things-weekend/2027-06-18/
LOCATION:Garbonzo’s 🟠
CATEGORIES:Garbonzo’s Daily Deals
ATTACH;FMTTYPE=image/jpeg:https://www.canadinns.com/wp-content/uploads/GSP_Meal-Deal_Weekend.jpg
END:VEVENT
BEGIN:VEVENT
DTSTART;TZID=America/Winnipeg:20270619T100000
DTEND;TZID=America/Winnipeg:20270619T180000
DTSTAMP:20260423T035004
CREATED:20230327T122341Z
LAST-MODIFIED:20230327T122356Z
UID:10027411-1813399200-1813428000@www.canadinns.com
SUMMARY:🟠 Garbonzo’s Sports Pub Daily Beverage Features - Garbonzo’s Strawberry Lemonade\, 3oz Wide Mouth Masons\, 3oz Cocktail Masons
DESCRIPTION:
URL:https://www.canadinns.com/event/garbonzos-sports-pub-daily-beverage-features-garbonzos-strawberry-lemonade-3oz-wide-mouth-masons-3oz-cocktail-masons/2027-06-19/
LOCATION:Garbonzo’s 🟠
CATEGORIES:Garbonzo’s Daily Deals
END:VEVENT
BEGIN:VEVENT
DTSTART;TZID=America/Winnipeg:20270619T100000
DTEND;TZID=America/Winnipeg:20270619T180000
DTSTAMP:20260423T035004
CREATED:20240603T165315Z
LAST-MODIFIED:20240603T165315Z
UID:10032508-1813399200-1813428000@www.canadinns.com
SUMMARY:🟠 Garbonzo’s Sports Pub – Happier Hours Until 6pm
DESCRIPTION:
URL:https://www.canadinns.com/event/garbonzos-sports-pub-happier-hours-until-6pm/2027-06-19/
LOCATION:Garbonzo’s 🟠
CATEGORIES:Garbonzo’s Daily Deals
ATTACH;FMTTYPE=image/jpeg:https://www.canadinns.com/wp-content/uploads/2023-11-15_19087-CI-Garbonzos-Anti-Inflation-Happier-Hours-1080x1080-Nov2023-FNL.jpg
END:VEVENT
BEGIN:VEVENT
DTSTART;TZID=America/Winnipeg:20270619T100000
DTEND;TZID=America/Winnipeg:20270619T235900
DTSTAMP:20260423T035004
CREATED:20240603T164350Z
LAST-MODIFIED:20240603T164350Z
UID:10030930-1813399200-1813449540@www.canadinns.com
SUMMARY:🟠 Garbonzo’s Sports Pub – Wings N' Things Weekend!
DESCRIPTION:
URL:https://www.canadinns.com/event/garbonzos-sports-pub-wings-n-things-weekend/2027-06-19/
LOCATION:Garbonzo’s 🟠
CATEGORIES:Garbonzo’s Daily Deals
ATTACH;FMTTYPE=image/jpeg:https://www.canadinns.com/wp-content/uploads/GSP_Meal-Deal_Weekend.jpg
END:VEVENT
BEGIN:VEVENT
DTSTART;TZID=America/Winnipeg:20270620T100000
DTEND;TZID=America/Winnipeg:20270620T180000
DTSTAMP:20260423T035004
CREATED:20230327T122421Z
LAST-MODIFIED:20230327T122440Z
UID:10027933-1813485600-1813514400@www.canadinns.com
SUMMARY:🟠 Garbonzo’s Sports Pub Daily Beverage Features - Garbonzo’s Signature Caesar
DESCRIPTION:
URL:https://www.canadinns.com/event/garbonzos-sports-pub-daily-beverage-features-garbonzos-signature-caesar/2027-06-20/
LOCATION:Garbonzo’s 🟠
CATEGORIES:Garbonzo’s Daily Deals
END:VEVENT
BEGIN:VEVENT
DTSTART;TZID=America/Winnipeg:20270620T100000
DTEND;TZID=America/Winnipeg:20270620T180000
DTSTAMP:20260423T035004
CREATED:20240603T165315Z
LAST-MODIFIED:20240603T165315Z
UID:10032509-1813485600-1813514400@www.canadinns.com
SUMMARY:🟠 Garbonzo’s Sports Pub – Happier Hours Until 6pm
DESCRIPTION:
URL:https://www.canadinns.com/event/garbonzos-sports-pub-happier-hours-until-6pm/2027-06-20/
LOCATION:Garbonzo’s 🟠
CATEGORIES:Garbonzo’s Daily Deals
ATTACH;FMTTYPE=image/jpeg:https://www.canadinns.com/wp-content/uploads/2023-11-15_19087-CI-Garbonzos-Anti-Inflation-Happier-Hours-1080x1080-Nov2023-FNL.jpg
END:VEVENT
BEGIN:VEVENT
DTSTART;TZID=America/Winnipeg:20270620T100000
DTEND;TZID=America/Winnipeg:20270620T235900
DTSTAMP:20260423T035004
CREATED:20230327T121535Z
LAST-MODIFIED:20240603T153930Z
UID:10029814-1813485600-1813535940@www.canadinns.com
SUMMARY:🟠 Garbonzo’s Sports Pub – Saucy Sunday
DESCRIPTION:
URL:https://www.canadinns.com/event/garbonzos-sports-pub-saucy-sunday/2027-06-20/
LOCATION:Garbonzo’s 🟠
CATEGORIES:Garbonzo’s Daily Deals
ATTACH;FMTTYPE=image/jpeg:https://www.canadinns.com/wp-content/uploads/GSP_Meal-Deal_Sunday.jpg
END:VEVENT
BEGIN:VEVENT
DTSTART;TZID=America/Winnipeg:20270621T100000
DTEND;TZID=America/Winnipeg:20270621T180000
DTSTAMP:20260423T035004
CREATED:20230327T121909Z
LAST-MODIFIED:20230327T121952Z
UID:10024800-1813572000-1813600800@www.canadinns.com
SUMMARY:🟠 Garbonzo’s Sports Pub Daily Beverage Features - Royal Peach Tea
DESCRIPTION:
URL:https://www.canadinns.com/event/garbonzos-sports-pub-daily-beverage-features-royal-peach-tea/2027-06-21/
LOCATION:Garbonzo’s 🟠
CATEGORIES:Garbonzo’s Daily Deals
END:VEVENT
BEGIN:VEVENT
DTSTART;TZID=America/Winnipeg:20270621T100000
DTEND;TZID=America/Winnipeg:20270621T180000
DTSTAMP:20260423T035004
CREATED:20240603T165315Z
LAST-MODIFIED:20240603T165315Z
UID:10032510-1813572000-1813600800@www.canadinns.com
SUMMARY:🟠 Garbonzo’s Sports Pub – Happier Hours Until 6pm
DESCRIPTION:
URL:https://www.canadinns.com/event/garbonzos-sports-pub-happier-hours-until-6pm/2027-06-21/
LOCATION:Garbonzo’s 🟠
CATEGORIES:Garbonzo’s Daily Deals
ATTACH;FMTTYPE=image/jpeg:https://www.canadinns.com/wp-content/uploads/2023-11-15_19087-CI-Garbonzos-Anti-Inflation-Happier-Hours-1080x1080-Nov2023-FNL.jpg
END:VEVENT
BEGIN:VEVENT
DTSTART;TZID=America/Winnipeg:20270621T100000
DTEND;TZID=America/Winnipeg:20270621T235900
DTSTAMP:20260423T035004
CREATED:20230327T121014Z
LAST-MODIFIED:20240603T154122Z
UID:10030031-1813572000-1813622340@www.canadinns.com
SUMMARY:🟠 Garbonzo’s Sports Pub – Meal Deal Monday
DESCRIPTION:
URL:https://www.canadinns.com/event/garbonzos-sports-pub-meal-deal-monday/2027-06-21/
LOCATION:Garbonzo’s 🟠
CATEGORIES:Garbonzo’s Daily Deals
ATTACH;FMTTYPE=image/jpeg:https://www.canadinns.com/wp-content/uploads/GSP_Meal-Deal_Monday.jpg
END:VEVENT
BEGIN:VEVENT
DTSTART;TZID=America/Winnipeg:20270622T100000
DTEND;TZID=America/Winnipeg:20270622T180000
DTSTAMP:20260423T035004
CREATED:20230327T122032Z
LAST-MODIFIED:20230327T122050Z
UID:10025324-1813658400-1813687200@www.canadinns.com
SUMMARY:🟠 Garbonzo’s Sports Pub Daily Beverage Features - Garbonzo’s Signature Slushie
DESCRIPTION:
URL:https://www.canadinns.com/event/garbonzos-sports-pub-daily-beverage-features-garbonzos-signature-slushie/2027-06-22/
LOCATION:Garbonzo’s 🟠
CATEGORIES:Garbonzo’s Daily Deals
END:VEVENT
BEGIN:VEVENT
DTSTART;TZID=America/Winnipeg:20270622T100000
DTEND;TZID=America/Winnipeg:20270622T180000
DTSTAMP:20260423T035004
CREATED:20240603T165315Z
LAST-MODIFIED:20240603T165315Z
UID:10032511-1813658400-1813687200@www.canadinns.com
SUMMARY:🟠 Garbonzo’s Sports Pub – Happier Hours Until 6pm
DESCRIPTION:
URL:https://www.canadinns.com/event/garbonzos-sports-pub-happier-hours-until-6pm/2027-06-22/
LOCATION:Garbonzo’s 🟠
CATEGORIES:Garbonzo’s Daily Deals
ATTACH;FMTTYPE=image/jpeg:https://www.canadinns.com/wp-content/uploads/2023-11-15_19087-CI-Garbonzos-Anti-Inflation-Happier-Hours-1080x1080-Nov2023-FNL.jpg
END:VEVENT
BEGIN:VEVENT
DTSTART;TZID=America/Winnipeg:20270622T100000
DTEND;TZID=America/Winnipeg:20270622T235900
DTSTAMP:20260423T035004
CREATED:20230327T121139Z
LAST-MODIFIED:20240603T154252Z
UID:10030247-1813658400-1813708740@www.canadinns.com
SUMMARY:🟠 Garbonzo’s Sports Pub – Two-Topping Tuesday
DESCRIPTION:
URL:https://www.canadinns.com/event/garbonzos-sports-pub-two-topping-tuesday/2027-06-22/
LOCATION:Garbonzo’s 🟠
CATEGORIES:Garbonzo’s Daily Deals
ATTACH;FMTTYPE=image/jpeg:https://www.canadinns.com/wp-content/uploads/GSP_Meal-Deal_Tuesday.jpg
END:VEVENT
BEGIN:VEVENT
DTSTART;TZID=America/Winnipeg:20270623T100000
DTEND;TZID=America/Winnipeg:20270623T180000
DTSTAMP:20260423T035004
CREATED:20230327T122135Z
LAST-MODIFIED:20240603T170150Z
UID:10025846-1813744800-1813773600@www.canadinns.com
SUMMARY:🟠 Garbonzo’s Sports Pub Daily Beverage Features - 14oz Glass Sangria
DESCRIPTION:
URL:https://www.canadinns.com/event/garbonzos-sports-pub-daily-beverage-features-14oz-glass-sangria/2027-06-23/
LOCATION:Garbonzo’s 🟠
CATEGORIES:Garbonzo’s Daily Deals
END:VEVENT
BEGIN:VEVENT
DTSTART;TZID=America/Winnipeg:20270623T100000
DTEND;TZID=America/Winnipeg:20270623T180000
DTSTAMP:20260423T035004
CREATED:20240603T165315Z
LAST-MODIFIED:20240603T165315Z
UID:10032512-1813744800-1813773600@www.canadinns.com
SUMMARY:🟠 Garbonzo’s Sports Pub – Happier Hours Until 6pm
DESCRIPTION:
URL:https://www.canadinns.com/event/garbonzos-sports-pub-happier-hours-until-6pm/2027-06-23/
LOCATION:Garbonzo’s 🟠
CATEGORIES:Garbonzo’s Daily Deals
ATTACH;FMTTYPE=image/jpeg:https://www.canadinns.com/wp-content/uploads/2023-11-15_19087-CI-Garbonzos-Anti-Inflation-Happier-Hours-1080x1080-Nov2023-FNL.jpg
END:VEVENT
BEGIN:VEVENT
DTSTART;TZID=America/Winnipeg:20270623T100000
DTEND;TZID=America/Winnipeg:20270623T235900
DTSTAMP:20260423T035004
CREATED:20240603T160207Z
LAST-MODIFIED:20240603T160207Z
UID:10030508-1813744800-1813795140@www.canadinns.com
SUMMARY:🟠 Garbonzo’s Sports Pub – BOGO Half Price Pasta
DESCRIPTION:
URL:https://www.canadinns.com/event/garbonzos-sports-pub-bogo-half-price-pasta/2027-06-23/
LOCATION:Garbonzo’s 🟠
CATEGORIES:Garbonzo’s Daily Deals
ATTACH;FMTTYPE=image/jpeg:https://www.canadinns.com/wp-content/uploads/GSP_Meal-Deal_Wednesday.jpg
END:VEVENT
BEGIN:VEVENT
DTSTART;TZID=America/Winnipeg:20270624T100000
DTEND;TZID=America/Winnipeg:20270624T180000
DTSTAMP:20260423T035004
CREATED:20230327T122226Z
LAST-MODIFIED:20230327T122240Z
UID:10026368-1813831200-1813860000@www.canadinns.com
SUMMARY:🟠 Garbonzo’s Sports Pub Daily Beverage Features - Garbonzo’s Paralyzer\, 3oz Wide Mouth Masons\, 3oz Cocktail Masons\, 22oz PBR Draught
DESCRIPTION:
URL:https://www.canadinns.com/event/garbonzos-sports-pub-daily-beverage-features-garbonzos-paralyzer-3oz-wide-mouth-masons-3oz-cocktail-masons-22oz-pbr-draught/2027-06-24/
LOCATION:Garbonzo’s 🟠
CATEGORIES:Garbonzo’s Daily Deals
END:VEVENT
BEGIN:VEVENT
DTSTART;TZID=America/Winnipeg:20270624T100000
DTEND;TZID=America/Winnipeg:20270624T180000
DTSTAMP:20260423T035004
CREATED:20240603T165315Z
LAST-MODIFIED:20240603T165315Z
UID:10032513-1813831200-1813860000@www.canadinns.com
SUMMARY:🟠 Garbonzo’s Sports Pub – Happier Hours Until 6pm
DESCRIPTION:
URL:https://www.canadinns.com/event/garbonzos-sports-pub-happier-hours-until-6pm/2027-06-24/
LOCATION:Garbonzo’s 🟠
CATEGORIES:Garbonzo’s Daily Deals
ATTACH;FMTTYPE=image/jpeg:https://www.canadinns.com/wp-content/uploads/2023-11-15_19087-CI-Garbonzos-Anti-Inflation-Happier-Hours-1080x1080-Nov2023-FNL.jpg
END:VEVENT
BEGIN:VEVENT
DTSTART;TZID=America/Winnipeg:20270624T100000
DTEND;TZID=America/Winnipeg:20270624T235900
DTSTAMP:20260423T035004
CREATED:20240603T164739Z
LAST-MODIFIED:20240603T164739Z
UID:10031294-1813831200-1813881540@www.canadinns.com
SUMMARY:🟠 Garbonzo’s Sports Pub – 2 for $25 Appys
DESCRIPTION:
URL:https://www.canadinns.com/event/garbonzos-sports-pub-2-for-25-appys/2027-06-24/
LOCATION:Garbonzo’s 🟠
CATEGORIES:Garbonzo’s Daily Deals
ATTACH;FMTTYPE=image/jpeg:https://www.canadinns.com/wp-content/uploads/GSP_Meal-Deal_Thursday.jpg
END:VEVENT
END:VCALENDAR