BEGIN:VCALENDAR
VERSION:2.0
PRODID:-//Canad Inns - ECPv6.15.17.1//NONSGML v1.0//EN
CALSCALE:GREGORIAN
METHOD:PUBLISH
X-WR-CALNAME:Canad Inns
X-ORIGINAL-URL:https://www.canadinns.com
X-WR-CALDESC:Events for Canad Inns
REFRESH-INTERVAL;VALUE=DURATION:PT1H
X-Robots-Tag:noindex
X-PUBLISHED-TTL:PT1H
BEGIN:VTIMEZONE
TZID:America/Winnipeg
BEGIN:DAYLIGHT
TZOFFSETFROM:-0600
TZOFFSETTO:-0500
TZNAME:CDT
DTSTART:20280312T080000
END:DAYLIGHT
BEGIN:STANDARD
TZOFFSETFROM:-0500
TZOFFSETTO:-0600
TZNAME:CST
DTSTART:20281105T070000
END:STANDARD
BEGIN:DAYLIGHT
TZOFFSETFROM:-0600
TZOFFSETTO:-0500
TZNAME:CDT
DTSTART:20290311T080000
END:DAYLIGHT
BEGIN:STANDARD
TZOFFSETFROM:-0500
TZOFFSETTO:-0600
TZNAME:CST
DTSTART:20291104T070000
END:STANDARD
BEGIN:DAYLIGHT
TZOFFSETFROM:-0600
TZOFFSETTO:-0500
TZNAME:CDT
DTSTART:20300310T080000
END:DAYLIGHT
BEGIN:STANDARD
TZOFFSETFROM:-0500
TZOFFSETTO:-0600
TZNAME:CST
DTSTART:20301103T070000
END:STANDARD
END:VTIMEZONE
BEGIN:VEVENT
DTSTART;TZID=America/Winnipeg:20290117T070000
DTEND;TZID=America/Winnipeg:20290117T103000
DTSTAMP:20260423T083931
CREATED:20260402T160402Z
LAST-MODIFIED:20260402T160402Z
UID:10051898-1863327600-1863340200@www.canadinns.com
SUMMARY:🟢 Aaltos - $5.99 Breakfast Special
DESCRIPTION:Aaltos $5.99 Breakfast Special\nKickstart your morning with Aaltos $5.99* Breakfast with a beverage purchase! Choose between a Classic Breakfast or Pancake Breakfast! \n📅 Weekdays until 10:30AM | Dine-in only Limited time offer. \n*Excludes holidays and not available at Aaltos Health Sciences Centre. \n\nVisit canadinns.com/aaltos for more info!
URL:https://www.canadinns.com/event/aaltos-5-99-breakfast-special/2029-01-17/
LOCATION:Aaltos 🟢
CATEGORIES:Aaltos Buffets
ATTACH;FMTTYPE=image/png:https://www.canadinns.com/wp-content/uploads/04-02-26-Aaltos-Breakfast-Special-IG-scaled.png
END:VEVENT
BEGIN:VEVENT
DTSTART;TZID=America/Winnipeg:20290118T070000
DTEND;TZID=America/Winnipeg:20290118T103000
DTSTAMP:20260423T083931
CREATED:20260402T160402Z
LAST-MODIFIED:20260402T160402Z
UID:10051899-1863414000-1863426600@www.canadinns.com
SUMMARY:🟢 Aaltos - $5.99 Breakfast Special
DESCRIPTION:Aaltos $5.99 Breakfast Special\nKickstart your morning with Aaltos $5.99* Breakfast with a beverage purchase! Choose between a Classic Breakfast or Pancake Breakfast! \n📅 Weekdays until 10:30AM | Dine-in only Limited time offer. \n*Excludes holidays and not available at Aaltos Health Sciences Centre. \n\nVisit canadinns.com/aaltos for more info!
URL:https://www.canadinns.com/event/aaltos-5-99-breakfast-special/2029-01-18/
LOCATION:Aaltos 🟢
CATEGORIES:Aaltos Buffets
ATTACH;FMTTYPE=image/png:https://www.canadinns.com/wp-content/uploads/04-02-26-Aaltos-Breakfast-Special-IG-scaled.png
END:VEVENT
BEGIN:VEVENT
DTSTART;TZID=America/Winnipeg:20290119T070000
DTEND;TZID=America/Winnipeg:20290119T103000
DTSTAMP:20260423T083931
CREATED:20260402T160402Z
LAST-MODIFIED:20260402T160402Z
UID:10051900-1863500400-1863513000@www.canadinns.com
SUMMARY:🟢 Aaltos - $5.99 Breakfast Special
DESCRIPTION:Aaltos $5.99 Breakfast Special\nKickstart your morning with Aaltos $5.99* Breakfast with a beverage purchase! Choose between a Classic Breakfast or Pancake Breakfast! \n📅 Weekdays until 10:30AM | Dine-in only Limited time offer. \n*Excludes holidays and not available at Aaltos Health Sciences Centre. \n\nVisit canadinns.com/aaltos for more info!
URL:https://www.canadinns.com/event/aaltos-5-99-breakfast-special/2029-01-19/
LOCATION:Aaltos 🟢
CATEGORIES:Aaltos Buffets
ATTACH;FMTTYPE=image/png:https://www.canadinns.com/wp-content/uploads/04-02-26-Aaltos-Breakfast-Special-IG-scaled.png
END:VEVENT
BEGIN:VEVENT
DTSTART;TZID=America/Winnipeg:20290122T070000
DTEND;TZID=America/Winnipeg:20290122T103000
DTSTAMP:20260423T083931
CREATED:20260402T160402Z
LAST-MODIFIED:20260402T160402Z
UID:10051901-1863759600-1863772200@www.canadinns.com
SUMMARY:🟢 Aaltos - $5.99 Breakfast Special
DESCRIPTION:Aaltos $5.99 Breakfast Special\nKickstart your morning with Aaltos $5.99* Breakfast with a beverage purchase! Choose between a Classic Breakfast or Pancake Breakfast! \n📅 Weekdays until 10:30AM | Dine-in only Limited time offer. \n*Excludes holidays and not available at Aaltos Health Sciences Centre. \n\nVisit canadinns.com/aaltos for more info!
URL:https://www.canadinns.com/event/aaltos-5-99-breakfast-special/2029-01-22/
LOCATION:Aaltos 🟢
CATEGORIES:Aaltos Buffets
ATTACH;FMTTYPE=image/png:https://www.canadinns.com/wp-content/uploads/04-02-26-Aaltos-Breakfast-Special-IG-scaled.png
END:VEVENT
BEGIN:VEVENT
DTSTART;TZID=America/Winnipeg:20290123T070000
DTEND;TZID=America/Winnipeg:20290123T103000
DTSTAMP:20260423T083931
CREATED:20260402T160402Z
LAST-MODIFIED:20260402T160402Z
UID:10051902-1863846000-1863858600@www.canadinns.com
SUMMARY:🟢 Aaltos - $5.99 Breakfast Special
DESCRIPTION:Aaltos $5.99 Breakfast Special\nKickstart your morning with Aaltos $5.99* Breakfast with a beverage purchase! Choose between a Classic Breakfast or Pancake Breakfast! \n📅 Weekdays until 10:30AM | Dine-in only Limited time offer. \n*Excludes holidays and not available at Aaltos Health Sciences Centre. \n\nVisit canadinns.com/aaltos for more info!
URL:https://www.canadinns.com/event/aaltos-5-99-breakfast-special/2029-01-23/
LOCATION:Aaltos 🟢
CATEGORIES:Aaltos Buffets
ATTACH;FMTTYPE=image/png:https://www.canadinns.com/wp-content/uploads/04-02-26-Aaltos-Breakfast-Special-IG-scaled.png
END:VEVENT
BEGIN:VEVENT
DTSTART;TZID=America/Winnipeg:20290124T070000
DTEND;TZID=America/Winnipeg:20290124T103000
DTSTAMP:20260423T083931
CREATED:20260402T160402Z
LAST-MODIFIED:20260402T160402Z
UID:10051903-1863932400-1863945000@www.canadinns.com
SUMMARY:🟢 Aaltos - $5.99 Breakfast Special
DESCRIPTION:Aaltos $5.99 Breakfast Special\nKickstart your morning with Aaltos $5.99* Breakfast with a beverage purchase! Choose between a Classic Breakfast or Pancake Breakfast! \n📅 Weekdays until 10:30AM | Dine-in only Limited time offer. \n*Excludes holidays and not available at Aaltos Health Sciences Centre. \n\nVisit canadinns.com/aaltos for more info!
URL:https://www.canadinns.com/event/aaltos-5-99-breakfast-special/2029-01-24/
LOCATION:Aaltos 🟢
CATEGORIES:Aaltos Buffets
ATTACH;FMTTYPE=image/png:https://www.canadinns.com/wp-content/uploads/04-02-26-Aaltos-Breakfast-Special-IG-scaled.png
END:VEVENT
BEGIN:VEVENT
DTSTART;TZID=America/Winnipeg:20290125T070000
DTEND;TZID=America/Winnipeg:20290125T103000
DTSTAMP:20260423T083931
CREATED:20260402T160402Z
LAST-MODIFIED:20260402T160402Z
UID:10051904-1864018800-1864031400@www.canadinns.com
SUMMARY:🟢 Aaltos - $5.99 Breakfast Special
DESCRIPTION:Aaltos $5.99 Breakfast Special\nKickstart your morning with Aaltos $5.99* Breakfast with a beverage purchase! Choose between a Classic Breakfast or Pancake Breakfast! \n📅 Weekdays until 10:30AM | Dine-in only Limited time offer. \n*Excludes holidays and not available at Aaltos Health Sciences Centre. \n\nVisit canadinns.com/aaltos for more info!
URL:https://www.canadinns.com/event/aaltos-5-99-breakfast-special/2029-01-25/
LOCATION:Aaltos 🟢
CATEGORIES:Aaltos Buffets
ATTACH;FMTTYPE=image/png:https://www.canadinns.com/wp-content/uploads/04-02-26-Aaltos-Breakfast-Special-IG-scaled.png
END:VEVENT
BEGIN:VEVENT
DTSTART;TZID=America/Winnipeg:20290126T070000
DTEND;TZID=America/Winnipeg:20290126T103000
DTSTAMP:20260423T083931
CREATED:20260402T160402Z
LAST-MODIFIED:20260402T160402Z
UID:10051905-1864105200-1864117800@www.canadinns.com
SUMMARY:🟢 Aaltos - $5.99 Breakfast Special
DESCRIPTION:Aaltos $5.99 Breakfast Special\nKickstart your morning with Aaltos $5.99* Breakfast with a beverage purchase! Choose between a Classic Breakfast or Pancake Breakfast! \n📅 Weekdays until 10:30AM | Dine-in only Limited time offer. \n*Excludes holidays and not available at Aaltos Health Sciences Centre. \n\nVisit canadinns.com/aaltos for more info!
URL:https://www.canadinns.com/event/aaltos-5-99-breakfast-special/2029-01-26/
LOCATION:Aaltos 🟢
CATEGORIES:Aaltos Buffets
ATTACH;FMTTYPE=image/png:https://www.canadinns.com/wp-content/uploads/04-02-26-Aaltos-Breakfast-Special-IG-scaled.png
END:VEVENT
BEGIN:VEVENT
DTSTART;TZID=America/Winnipeg:20290129T070000
DTEND;TZID=America/Winnipeg:20290129T103000
DTSTAMP:20260423T083931
CREATED:20260402T160402Z
LAST-MODIFIED:20260402T160402Z
UID:10051906-1864364400-1864377000@www.canadinns.com
SUMMARY:🟢 Aaltos - $5.99 Breakfast Special
DESCRIPTION:Aaltos $5.99 Breakfast Special\nKickstart your morning with Aaltos $5.99* Breakfast with a beverage purchase! Choose between a Classic Breakfast or Pancake Breakfast! \n📅 Weekdays until 10:30AM | Dine-in only Limited time offer. \n*Excludes holidays and not available at Aaltos Health Sciences Centre. \n\nVisit canadinns.com/aaltos for more info!
URL:https://www.canadinns.com/event/aaltos-5-99-breakfast-special/2029-01-29/
LOCATION:Aaltos 🟢
CATEGORIES:Aaltos Buffets
ATTACH;FMTTYPE=image/png:https://www.canadinns.com/wp-content/uploads/04-02-26-Aaltos-Breakfast-Special-IG-scaled.png
END:VEVENT
BEGIN:VEVENT
DTSTART;TZID=America/Winnipeg:20290130T070000
DTEND;TZID=America/Winnipeg:20290130T103000
DTSTAMP:20260423T083931
CREATED:20260402T160402Z
LAST-MODIFIED:20260402T160402Z
UID:10051907-1864450800-1864463400@www.canadinns.com
SUMMARY:🟢 Aaltos - $5.99 Breakfast Special
DESCRIPTION:Aaltos $5.99 Breakfast Special\nKickstart your morning with Aaltos $5.99* Breakfast with a beverage purchase! Choose between a Classic Breakfast or Pancake Breakfast! \n📅 Weekdays until 10:30AM | Dine-in only Limited time offer. \n*Excludes holidays and not available at Aaltos Health Sciences Centre. \n\nVisit canadinns.com/aaltos for more info!
URL:https://www.canadinns.com/event/aaltos-5-99-breakfast-special/2029-01-30/
LOCATION:Aaltos 🟢
CATEGORIES:Aaltos Buffets
ATTACH;FMTTYPE=image/png:https://www.canadinns.com/wp-content/uploads/04-02-26-Aaltos-Breakfast-Special-IG-scaled.png
END:VEVENT
BEGIN:VEVENT
DTSTART;TZID=America/Winnipeg:20290131T070000
DTEND;TZID=America/Winnipeg:20290131T103000
DTSTAMP:20260423T083931
CREATED:20260402T160402Z
LAST-MODIFIED:20260402T160402Z
UID:10051908-1864537200-1864549800@www.canadinns.com
SUMMARY:🟢 Aaltos - $5.99 Breakfast Special
DESCRIPTION:Aaltos $5.99 Breakfast Special\nKickstart your morning with Aaltos $5.99* Breakfast with a beverage purchase! Choose between a Classic Breakfast or Pancake Breakfast! \n📅 Weekdays until 10:30AM | Dine-in only Limited time offer. \n*Excludes holidays and not available at Aaltos Health Sciences Centre. \n\nVisit canadinns.com/aaltos for more info!
URL:https://www.canadinns.com/event/aaltos-5-99-breakfast-special/2029-01-31/
LOCATION:Aaltos 🟢
CATEGORIES:Aaltos Buffets
ATTACH;FMTTYPE=image/png:https://www.canadinns.com/wp-content/uploads/04-02-26-Aaltos-Breakfast-Special-IG-scaled.png
END:VEVENT
BEGIN:VEVENT
DTSTART;TZID=America/Winnipeg:20290201T070000
DTEND;TZID=America/Winnipeg:20290201T103000
DTSTAMP:20260423T083931
CREATED:20260402T160402Z
LAST-MODIFIED:20260402T160402Z
UID:10051909-1864623600-1864636200@www.canadinns.com
SUMMARY:🟢 Aaltos - $5.99 Breakfast Special
DESCRIPTION:Aaltos $5.99 Breakfast Special\nKickstart your morning with Aaltos $5.99* Breakfast with a beverage purchase! Choose between a Classic Breakfast or Pancake Breakfast! \n📅 Weekdays until 10:30AM | Dine-in only Limited time offer. \n*Excludes holidays and not available at Aaltos Health Sciences Centre. \n\nVisit canadinns.com/aaltos for more info!
URL:https://www.canadinns.com/event/aaltos-5-99-breakfast-special/2029-02-01/
LOCATION:Aaltos 🟢
CATEGORIES:Aaltos Buffets
ATTACH;FMTTYPE=image/png:https://www.canadinns.com/wp-content/uploads/04-02-26-Aaltos-Breakfast-Special-IG-scaled.png
END:VEVENT
BEGIN:VEVENT
DTSTART;TZID=America/Winnipeg:20290202T070000
DTEND;TZID=America/Winnipeg:20290202T103000
DTSTAMP:20260423T083931
CREATED:20260402T160402Z
LAST-MODIFIED:20260402T160402Z
UID:10051910-1864710000-1864722600@www.canadinns.com
SUMMARY:🟢 Aaltos - $5.99 Breakfast Special
DESCRIPTION:Aaltos $5.99 Breakfast Special\nKickstart your morning with Aaltos $5.99* Breakfast with a beverage purchase! Choose between a Classic Breakfast or Pancake Breakfast! \n📅 Weekdays until 10:30AM | Dine-in only Limited time offer. \n*Excludes holidays and not available at Aaltos Health Sciences Centre. \n\nVisit canadinns.com/aaltos for more info!
URL:https://www.canadinns.com/event/aaltos-5-99-breakfast-special/2029-02-02/
LOCATION:Aaltos 🟢
CATEGORIES:Aaltos Buffets
ATTACH;FMTTYPE=image/png:https://www.canadinns.com/wp-content/uploads/04-02-26-Aaltos-Breakfast-Special-IG-scaled.png
END:VEVENT
BEGIN:VEVENT
DTSTART;TZID=America/Winnipeg:20290205T070000
DTEND;TZID=America/Winnipeg:20290205T103000
DTSTAMP:20260423T083931
CREATED:20260402T160402Z
LAST-MODIFIED:20260402T160402Z
UID:10051911-1864969200-1864981800@www.canadinns.com
SUMMARY:🟢 Aaltos - $5.99 Breakfast Special
DESCRIPTION:Aaltos $5.99 Breakfast Special\nKickstart your morning with Aaltos $5.99* Breakfast with a beverage purchase! Choose between a Classic Breakfast or Pancake Breakfast! \n📅 Weekdays until 10:30AM | Dine-in only Limited time offer. \n*Excludes holidays and not available at Aaltos Health Sciences Centre. \n\nVisit canadinns.com/aaltos for more info!
URL:https://www.canadinns.com/event/aaltos-5-99-breakfast-special/2029-02-05/
LOCATION:Aaltos 🟢
CATEGORIES:Aaltos Buffets
ATTACH;FMTTYPE=image/png:https://www.canadinns.com/wp-content/uploads/04-02-26-Aaltos-Breakfast-Special-IG-scaled.png
END:VEVENT
BEGIN:VEVENT
DTSTART;TZID=America/Winnipeg:20290206T070000
DTEND;TZID=America/Winnipeg:20290206T103000
DTSTAMP:20260423T083931
CREATED:20260402T160402Z
LAST-MODIFIED:20260402T160402Z
UID:10051912-1865055600-1865068200@www.canadinns.com
SUMMARY:🟢 Aaltos - $5.99 Breakfast Special
DESCRIPTION:Aaltos $5.99 Breakfast Special\nKickstart your morning with Aaltos $5.99* Breakfast with a beverage purchase! Choose between a Classic Breakfast or Pancake Breakfast! \n📅 Weekdays until 10:30AM | Dine-in only Limited time offer. \n*Excludes holidays and not available at Aaltos Health Sciences Centre. \n\nVisit canadinns.com/aaltos for more info!
URL:https://www.canadinns.com/event/aaltos-5-99-breakfast-special/2029-02-06/
LOCATION:Aaltos 🟢
CATEGORIES:Aaltos Buffets
ATTACH;FMTTYPE=image/png:https://www.canadinns.com/wp-content/uploads/04-02-26-Aaltos-Breakfast-Special-IG-scaled.png
END:VEVENT
BEGIN:VEVENT
DTSTART;TZID=America/Winnipeg:20290207T070000
DTEND;TZID=America/Winnipeg:20290207T103000
DTSTAMP:20260423T083931
CREATED:20260402T160402Z
LAST-MODIFIED:20260402T160402Z
UID:10051913-1865142000-1865154600@www.canadinns.com
SUMMARY:🟢 Aaltos - $5.99 Breakfast Special
DESCRIPTION:Aaltos $5.99 Breakfast Special\nKickstart your morning with Aaltos $5.99* Breakfast with a beverage purchase! Choose between a Classic Breakfast or Pancake Breakfast! \n📅 Weekdays until 10:30AM | Dine-in only Limited time offer. \n*Excludes holidays and not available at Aaltos Health Sciences Centre. \n\nVisit canadinns.com/aaltos for more info!
URL:https://www.canadinns.com/event/aaltos-5-99-breakfast-special/2029-02-07/
LOCATION:Aaltos 🟢
CATEGORIES:Aaltos Buffets
ATTACH;FMTTYPE=image/png:https://www.canadinns.com/wp-content/uploads/04-02-26-Aaltos-Breakfast-Special-IG-scaled.png
END:VEVENT
BEGIN:VEVENT
DTSTART;TZID=America/Winnipeg:20290208T070000
DTEND;TZID=America/Winnipeg:20290208T103000
DTSTAMP:20260423T083931
CREATED:20260402T160402Z
LAST-MODIFIED:20260402T160402Z
UID:10051914-1865228400-1865241000@www.canadinns.com
SUMMARY:🟢 Aaltos - $5.99 Breakfast Special
DESCRIPTION:Aaltos $5.99 Breakfast Special\nKickstart your morning with Aaltos $5.99* Breakfast with a beverage purchase! Choose between a Classic Breakfast or Pancake Breakfast! \n📅 Weekdays until 10:30AM | Dine-in only Limited time offer. \n*Excludes holidays and not available at Aaltos Health Sciences Centre. \n\nVisit canadinns.com/aaltos for more info!
URL:https://www.canadinns.com/event/aaltos-5-99-breakfast-special/2029-02-08/
LOCATION:Aaltos 🟢
CATEGORIES:Aaltos Buffets
ATTACH;FMTTYPE=image/png:https://www.canadinns.com/wp-content/uploads/04-02-26-Aaltos-Breakfast-Special-IG-scaled.png
END:VEVENT
BEGIN:VEVENT
DTSTART;TZID=America/Winnipeg:20290209T070000
DTEND;TZID=America/Winnipeg:20290209T103000
DTSTAMP:20260423T083931
CREATED:20260402T160402Z
LAST-MODIFIED:20260402T160402Z
UID:10051915-1865314800-1865327400@www.canadinns.com
SUMMARY:🟢 Aaltos - $5.99 Breakfast Special
DESCRIPTION:Aaltos $5.99 Breakfast Special\nKickstart your morning with Aaltos $5.99* Breakfast with a beverage purchase! Choose between a Classic Breakfast or Pancake Breakfast! \n📅 Weekdays until 10:30AM | Dine-in only Limited time offer. \n*Excludes holidays and not available at Aaltos Health Sciences Centre. \n\nVisit canadinns.com/aaltos for more info!
URL:https://www.canadinns.com/event/aaltos-5-99-breakfast-special/2029-02-09/
LOCATION:Aaltos 🟢
CATEGORIES:Aaltos Buffets
ATTACH;FMTTYPE=image/png:https://www.canadinns.com/wp-content/uploads/04-02-26-Aaltos-Breakfast-Special-IG-scaled.png
END:VEVENT
BEGIN:VEVENT
DTSTART;TZID=America/Winnipeg:20290212T070000
DTEND;TZID=America/Winnipeg:20290212T103000
DTSTAMP:20260423T083931
CREATED:20260402T160402Z
LAST-MODIFIED:20260402T160402Z
UID:10051916-1865574000-1865586600@www.canadinns.com
SUMMARY:🟢 Aaltos - $5.99 Breakfast Special
DESCRIPTION:Aaltos $5.99 Breakfast Special\nKickstart your morning with Aaltos $5.99* Breakfast with a beverage purchase! Choose between a Classic Breakfast or Pancake Breakfast! \n📅 Weekdays until 10:30AM | Dine-in only Limited time offer. \n*Excludes holidays and not available at Aaltos Health Sciences Centre. \n\nVisit canadinns.com/aaltos for more info!
URL:https://www.canadinns.com/event/aaltos-5-99-breakfast-special/2029-02-12/
LOCATION:Aaltos 🟢
CATEGORIES:Aaltos Buffets
ATTACH;FMTTYPE=image/png:https://www.canadinns.com/wp-content/uploads/04-02-26-Aaltos-Breakfast-Special-IG-scaled.png
END:VEVENT
BEGIN:VEVENT
DTSTART;TZID=America/Winnipeg:20290213T070000
DTEND;TZID=America/Winnipeg:20290213T103000
DTSTAMP:20260423T083931
CREATED:20260402T160402Z
LAST-MODIFIED:20260402T160402Z
UID:10051917-1865660400-1865673000@www.canadinns.com
SUMMARY:🟢 Aaltos - $5.99 Breakfast Special
DESCRIPTION:Aaltos $5.99 Breakfast Special\nKickstart your morning with Aaltos $5.99* Breakfast with a beverage purchase! Choose between a Classic Breakfast or Pancake Breakfast! \n📅 Weekdays until 10:30AM | Dine-in only Limited time offer. \n*Excludes holidays and not available at Aaltos Health Sciences Centre. \n\nVisit canadinns.com/aaltos for more info!
URL:https://www.canadinns.com/event/aaltos-5-99-breakfast-special/2029-02-13/
LOCATION:Aaltos 🟢
CATEGORIES:Aaltos Buffets
ATTACH;FMTTYPE=image/png:https://www.canadinns.com/wp-content/uploads/04-02-26-Aaltos-Breakfast-Special-IG-scaled.png
END:VEVENT
BEGIN:VEVENT
DTSTART;TZID=America/Winnipeg:20290214T070000
DTEND;TZID=America/Winnipeg:20290214T103000
DTSTAMP:20260423T083931
CREATED:20260402T160402Z
LAST-MODIFIED:20260402T160402Z
UID:10051918-1865746800-1865759400@www.canadinns.com
SUMMARY:🟢 Aaltos - $5.99 Breakfast Special
DESCRIPTION:Aaltos $5.99 Breakfast Special\nKickstart your morning with Aaltos $5.99* Breakfast with a beverage purchase! Choose between a Classic Breakfast or Pancake Breakfast! \n📅 Weekdays until 10:30AM | Dine-in only Limited time offer. \n*Excludes holidays and not available at Aaltos Health Sciences Centre. \n\nVisit canadinns.com/aaltos for more info!
URL:https://www.canadinns.com/event/aaltos-5-99-breakfast-special/2029-02-14/
LOCATION:Aaltos 🟢
CATEGORIES:Aaltos Buffets
ATTACH;FMTTYPE=image/png:https://www.canadinns.com/wp-content/uploads/04-02-26-Aaltos-Breakfast-Special-IG-scaled.png
END:VEVENT
BEGIN:VEVENT
DTSTART;TZID=America/Winnipeg:20290215T070000
DTEND;TZID=America/Winnipeg:20290215T103000
DTSTAMP:20260423T083931
CREATED:20260402T160402Z
LAST-MODIFIED:20260402T160402Z
UID:10051919-1865833200-1865845800@www.canadinns.com
SUMMARY:🟢 Aaltos - $5.99 Breakfast Special
DESCRIPTION:Aaltos $5.99 Breakfast Special\nKickstart your morning with Aaltos $5.99* Breakfast with a beverage purchase! Choose between a Classic Breakfast or Pancake Breakfast! \n📅 Weekdays until 10:30AM | Dine-in only Limited time offer. \n*Excludes holidays and not available at Aaltos Health Sciences Centre. \n\nVisit canadinns.com/aaltos for more info!
URL:https://www.canadinns.com/event/aaltos-5-99-breakfast-special/2029-02-15/
LOCATION:Aaltos 🟢
CATEGORIES:Aaltos Buffets
ATTACH;FMTTYPE=image/png:https://www.canadinns.com/wp-content/uploads/04-02-26-Aaltos-Breakfast-Special-IG-scaled.png
END:VEVENT
BEGIN:VEVENT
DTSTART;TZID=America/Winnipeg:20290216T070000
DTEND;TZID=America/Winnipeg:20290216T103000
DTSTAMP:20260423T083931
CREATED:20260402T160402Z
LAST-MODIFIED:20260402T160402Z
UID:10051920-1865919600-1865932200@www.canadinns.com
SUMMARY:🟢 Aaltos - $5.99 Breakfast Special
DESCRIPTION:Aaltos $5.99 Breakfast Special\nKickstart your morning with Aaltos $5.99* Breakfast with a beverage purchase! Choose between a Classic Breakfast or Pancake Breakfast! \n📅 Weekdays until 10:30AM | Dine-in only Limited time offer. \n*Excludes holidays and not available at Aaltos Health Sciences Centre. \n\nVisit canadinns.com/aaltos for more info!
URL:https://www.canadinns.com/event/aaltos-5-99-breakfast-special/2029-02-16/
LOCATION:Aaltos 🟢
CATEGORIES:Aaltos Buffets
ATTACH;FMTTYPE=image/png:https://www.canadinns.com/wp-content/uploads/04-02-26-Aaltos-Breakfast-Special-IG-scaled.png
END:VEVENT
BEGIN:VEVENT
DTSTART;TZID=America/Winnipeg:20290219T070000
DTEND;TZID=America/Winnipeg:20290219T103000
DTSTAMP:20260423T083932
CREATED:20260402T160402Z
LAST-MODIFIED:20260402T160402Z
UID:10051921-1866178800-1866191400@www.canadinns.com
SUMMARY:🟢 Aaltos - $5.99 Breakfast Special
DESCRIPTION:Aaltos $5.99 Breakfast Special\nKickstart your morning with Aaltos $5.99* Breakfast with a beverage purchase! Choose between a Classic Breakfast or Pancake Breakfast! \n📅 Weekdays until 10:30AM | Dine-in only Limited time offer. \n*Excludes holidays and not available at Aaltos Health Sciences Centre. \n\nVisit canadinns.com/aaltos for more info!
URL:https://www.canadinns.com/event/aaltos-5-99-breakfast-special/2029-02-19/
LOCATION:Aaltos 🟢
CATEGORIES:Aaltos Buffets
ATTACH;FMTTYPE=image/png:https://www.canadinns.com/wp-content/uploads/04-02-26-Aaltos-Breakfast-Special-IG-scaled.png
END:VEVENT
BEGIN:VEVENT
DTSTART;TZID=America/Winnipeg:20290220T070000
DTEND;TZID=America/Winnipeg:20290220T103000
DTSTAMP:20260423T083932
CREATED:20260402T160402Z
LAST-MODIFIED:20260402T160402Z
UID:10051922-1866265200-1866277800@www.canadinns.com
SUMMARY:🟢 Aaltos - $5.99 Breakfast Special
DESCRIPTION:Aaltos $5.99 Breakfast Special\nKickstart your morning with Aaltos $5.99* Breakfast with a beverage purchase! Choose between a Classic Breakfast or Pancake Breakfast! \n📅 Weekdays until 10:30AM | Dine-in only Limited time offer. \n*Excludes holidays and not available at Aaltos Health Sciences Centre. \n\nVisit canadinns.com/aaltos for more info!
URL:https://www.canadinns.com/event/aaltos-5-99-breakfast-special/2029-02-20/
LOCATION:Aaltos 🟢
CATEGORIES:Aaltos Buffets
ATTACH;FMTTYPE=image/png:https://www.canadinns.com/wp-content/uploads/04-02-26-Aaltos-Breakfast-Special-IG-scaled.png
END:VEVENT
BEGIN:VEVENT
DTSTART;TZID=America/Winnipeg:20290221T070000
DTEND;TZID=America/Winnipeg:20290221T103000
DTSTAMP:20260423T083932
CREATED:20260402T160402Z
LAST-MODIFIED:20260402T160402Z
UID:10051923-1866351600-1866364200@www.canadinns.com
SUMMARY:🟢 Aaltos - $5.99 Breakfast Special
DESCRIPTION:Aaltos $5.99 Breakfast Special\nKickstart your morning with Aaltos $5.99* Breakfast with a beverage purchase! Choose between a Classic Breakfast or Pancake Breakfast! \n📅 Weekdays until 10:30AM | Dine-in only Limited time offer. \n*Excludes holidays and not available at Aaltos Health Sciences Centre. \n\nVisit canadinns.com/aaltos for more info!
URL:https://www.canadinns.com/event/aaltos-5-99-breakfast-special/2029-02-21/
LOCATION:Aaltos 🟢
CATEGORIES:Aaltos Buffets
ATTACH;FMTTYPE=image/png:https://www.canadinns.com/wp-content/uploads/04-02-26-Aaltos-Breakfast-Special-IG-scaled.png
END:VEVENT
BEGIN:VEVENT
DTSTART;TZID=America/Winnipeg:20290222T070000
DTEND;TZID=America/Winnipeg:20290222T103000
DTSTAMP:20260423T083932
CREATED:20260402T160402Z
LAST-MODIFIED:20260402T160402Z
UID:10051924-1866438000-1866450600@www.canadinns.com
SUMMARY:🟢 Aaltos - $5.99 Breakfast Special
DESCRIPTION:Aaltos $5.99 Breakfast Special\nKickstart your morning with Aaltos $5.99* Breakfast with a beverage purchase! Choose between a Classic Breakfast or Pancake Breakfast! \n📅 Weekdays until 10:30AM | Dine-in only Limited time offer. \n*Excludes holidays and not available at Aaltos Health Sciences Centre. \n\nVisit canadinns.com/aaltos for more info!
URL:https://www.canadinns.com/event/aaltos-5-99-breakfast-special/2029-02-22/
LOCATION:Aaltos 🟢
CATEGORIES:Aaltos Buffets
ATTACH;FMTTYPE=image/png:https://www.canadinns.com/wp-content/uploads/04-02-26-Aaltos-Breakfast-Special-IG-scaled.png
END:VEVENT
BEGIN:VEVENT
DTSTART;TZID=America/Winnipeg:20290223T070000
DTEND;TZID=America/Winnipeg:20290223T103000
DTSTAMP:20260423T083932
CREATED:20260402T160402Z
LAST-MODIFIED:20260402T160402Z
UID:10051925-1866524400-1866537000@www.canadinns.com
SUMMARY:🟢 Aaltos - $5.99 Breakfast Special
DESCRIPTION:Aaltos $5.99 Breakfast Special\nKickstart your morning with Aaltos $5.99* Breakfast with a beverage purchase! Choose between a Classic Breakfast or Pancake Breakfast! \n📅 Weekdays until 10:30AM | Dine-in only Limited time offer. \n*Excludes holidays and not available at Aaltos Health Sciences Centre. \n\nVisit canadinns.com/aaltos for more info!
URL:https://www.canadinns.com/event/aaltos-5-99-breakfast-special/2029-02-23/
LOCATION:Aaltos 🟢
CATEGORIES:Aaltos Buffets
ATTACH;FMTTYPE=image/png:https://www.canadinns.com/wp-content/uploads/04-02-26-Aaltos-Breakfast-Special-IG-scaled.png
END:VEVENT
BEGIN:VEVENT
DTSTART;TZID=America/Winnipeg:20290226T070000
DTEND;TZID=America/Winnipeg:20290226T103000
DTSTAMP:20260423T083932
CREATED:20260402T160402Z
LAST-MODIFIED:20260402T160402Z
UID:10051926-1866783600-1866796200@www.canadinns.com
SUMMARY:🟢 Aaltos - $5.99 Breakfast Special
DESCRIPTION:Aaltos $5.99 Breakfast Special\nKickstart your morning with Aaltos $5.99* Breakfast with a beverage purchase! Choose between a Classic Breakfast or Pancake Breakfast! \n📅 Weekdays until 10:30AM | Dine-in only Limited time offer. \n*Excludes holidays and not available at Aaltos Health Sciences Centre. \n\nVisit canadinns.com/aaltos for more info!
URL:https://www.canadinns.com/event/aaltos-5-99-breakfast-special/2029-02-26/
LOCATION:Aaltos 🟢
CATEGORIES:Aaltos Buffets
ATTACH;FMTTYPE=image/png:https://www.canadinns.com/wp-content/uploads/04-02-26-Aaltos-Breakfast-Special-IG-scaled.png
END:VEVENT
BEGIN:VEVENT
DTSTART;TZID=America/Winnipeg:20290227T070000
DTEND;TZID=America/Winnipeg:20290227T103000
DTSTAMP:20260423T083932
CREATED:20260402T160402Z
LAST-MODIFIED:20260402T160402Z
UID:10051927-1866870000-1866882600@www.canadinns.com
SUMMARY:🟢 Aaltos - $5.99 Breakfast Special
DESCRIPTION:Aaltos $5.99 Breakfast Special\nKickstart your morning with Aaltos $5.99* Breakfast with a beverage purchase! Choose between a Classic Breakfast or Pancake Breakfast! \n📅 Weekdays until 10:30AM | Dine-in only Limited time offer. \n*Excludes holidays and not available at Aaltos Health Sciences Centre. \n\nVisit canadinns.com/aaltos for more info!
URL:https://www.canadinns.com/event/aaltos-5-99-breakfast-special/2029-02-27/
LOCATION:Aaltos 🟢
CATEGORIES:Aaltos Buffets
ATTACH;FMTTYPE=image/png:https://www.canadinns.com/wp-content/uploads/04-02-26-Aaltos-Breakfast-Special-IG-scaled.png
END:VEVENT
END:VCALENDAR