BEGIN:VCALENDAR
VERSION:2.0
PRODID:-//Canad Inns - ECPv6.15.17.1//NONSGML v1.0//EN
CALSCALE:GREGORIAN
METHOD:PUBLISH
X-ORIGINAL-URL:https://www.canadinns.com
X-WR-CALDESC:Events for Canad Inns
REFRESH-INTERVAL;VALUE=DURATION:PT1H
X-Robots-Tag:noindex
X-PUBLISHED-TTL:PT1H
BEGIN:VTIMEZONE
TZID:America/Winnipeg
BEGIN:DAYLIGHT
TZOFFSETFROM:-0600
TZOFFSETTO:-0500
TZNAME:CDT
DTSTART:20270314T080000
END:DAYLIGHT
BEGIN:STANDARD
TZOFFSETFROM:-0500
TZOFFSETTO:-0600
TZNAME:CST
DTSTART:20271107T070000
END:STANDARD
BEGIN:DAYLIGHT
TZOFFSETFROM:-0600
TZOFFSETTO:-0500
TZNAME:CDT
DTSTART:20280312T080000
END:DAYLIGHT
BEGIN:STANDARD
TZOFFSETFROM:-0500
TZOFFSETTO:-0600
TZNAME:CST
DTSTART:20281105T070000
END:STANDARD
BEGIN:DAYLIGHT
TZOFFSETFROM:-0600
TZOFFSETTO:-0500
TZNAME:CDT
DTSTART:20290311T080000
END:DAYLIGHT
BEGIN:STANDARD
TZOFFSETFROM:-0500
TZOFFSETTO:-0600
TZNAME:CST
DTSTART:20291104T070000
END:STANDARD
BEGIN:DAYLIGHT
TZOFFSETFROM:-0600
TZOFFSETTO:-0500
TZNAME:CDT
DTSTART:20300310T080000
END:DAYLIGHT
BEGIN:STANDARD
TZOFFSETFROM:-0500
TZOFFSETTO:-0600
TZNAME:CST
DTSTART:20301103T070000
END:STANDARD
END:VTIMEZONE
BEGIN:VEVENT
DTSTART;TZID=America/Winnipeg:20281222T070000
DTEND;TZID=America/Winnipeg:20281222T103000
DTSTAMP:20260423T040014
CREATED:20260402T160402Z
LAST-MODIFIED:20260402T160402Z
UID:10051880-1861081200-1861093800@www.canadinns.com
SUMMARY:🟢 Aaltos - $5.99 Breakfast Special
DESCRIPTION:Aaltos $5.99 Breakfast Special\nKickstart your morning with Aaltos $5.99* Breakfast with a beverage purchase! Choose between a Classic Breakfast or Pancake Breakfast! \n📅 Weekdays until 10:30AM | Dine-in only Limited time offer. \n*Excludes holidays and not available at Aaltos Health Sciences Centre. \n\nVisit canadinns.com/aaltos for more info!
URL:https://www.canadinns.com/event/aaltos-5-99-breakfast-special/2028-12-22/
LOCATION:Aaltos 🟢
CATEGORIES:Aaltos Buffets
ATTACH;FMTTYPE=image/png:https://www.canadinns.com/wp-content/uploads/04-02-26-Aaltos-Breakfast-Special-IG-scaled.png
END:VEVENT
BEGIN:VEVENT
DTSTART;TZID=America/Winnipeg:20281225T070000
DTEND;TZID=America/Winnipeg:20281225T103000
DTSTAMP:20260423T040014
CREATED:20260402T160402Z
LAST-MODIFIED:20260402T160402Z
UID:10051881-1861340400-1861353000@www.canadinns.com
SUMMARY:🟢 Aaltos - $5.99 Breakfast Special
DESCRIPTION:Aaltos $5.99 Breakfast Special\nKickstart your morning with Aaltos $5.99* Breakfast with a beverage purchase! Choose between a Classic Breakfast or Pancake Breakfast! \n📅 Weekdays until 10:30AM | Dine-in only Limited time offer. \n*Excludes holidays and not available at Aaltos Health Sciences Centre. \n\nVisit canadinns.com/aaltos for more info!
URL:https://www.canadinns.com/event/aaltos-5-99-breakfast-special/2028-12-25/
LOCATION:Aaltos 🟢
CATEGORIES:Aaltos Buffets
ATTACH;FMTTYPE=image/png:https://www.canadinns.com/wp-content/uploads/04-02-26-Aaltos-Breakfast-Special-IG-scaled.png
END:VEVENT
BEGIN:VEVENT
DTSTART;TZID=America/Winnipeg:20281226T070000
DTEND;TZID=America/Winnipeg:20281226T103000
DTSTAMP:20260423T040014
CREATED:20260402T160402Z
LAST-MODIFIED:20260402T160402Z
UID:10051882-1861426800-1861439400@www.canadinns.com
SUMMARY:🟢 Aaltos - $5.99 Breakfast Special
DESCRIPTION:Aaltos $5.99 Breakfast Special\nKickstart your morning with Aaltos $5.99* Breakfast with a beverage purchase! Choose between a Classic Breakfast or Pancake Breakfast! \n📅 Weekdays until 10:30AM | Dine-in only Limited time offer. \n*Excludes holidays and not available at Aaltos Health Sciences Centre. \n\nVisit canadinns.com/aaltos for more info!
URL:https://www.canadinns.com/event/aaltos-5-99-breakfast-special/2028-12-26/
LOCATION:Aaltos 🟢
CATEGORIES:Aaltos Buffets
ATTACH;FMTTYPE=image/png:https://www.canadinns.com/wp-content/uploads/04-02-26-Aaltos-Breakfast-Special-IG-scaled.png
END:VEVENT
BEGIN:VEVENT
DTSTART;TZID=America/Winnipeg:20281227T070000
DTEND;TZID=America/Winnipeg:20281227T103000
DTSTAMP:20260423T040014
CREATED:20260402T160402Z
LAST-MODIFIED:20260402T160402Z
UID:10051883-1861513200-1861525800@www.canadinns.com
SUMMARY:🟢 Aaltos - $5.99 Breakfast Special
DESCRIPTION:Aaltos $5.99 Breakfast Special\nKickstart your morning with Aaltos $5.99* Breakfast with a beverage purchase! Choose between a Classic Breakfast or Pancake Breakfast! \n📅 Weekdays until 10:30AM | Dine-in only Limited time offer. \n*Excludes holidays and not available at Aaltos Health Sciences Centre. \n\nVisit canadinns.com/aaltos for more info!
URL:https://www.canadinns.com/event/aaltos-5-99-breakfast-special/2028-12-27/
LOCATION:Aaltos 🟢
CATEGORIES:Aaltos Buffets
ATTACH;FMTTYPE=image/png:https://www.canadinns.com/wp-content/uploads/04-02-26-Aaltos-Breakfast-Special-IG-scaled.png
END:VEVENT
BEGIN:VEVENT
DTSTART;TZID=America/Winnipeg:20281228T070000
DTEND;TZID=America/Winnipeg:20281228T103000
DTSTAMP:20260423T040014
CREATED:20260402T160402Z
LAST-MODIFIED:20260402T160402Z
UID:10051884-1861599600-1861612200@www.canadinns.com
SUMMARY:🟢 Aaltos - $5.99 Breakfast Special
DESCRIPTION:Aaltos $5.99 Breakfast Special\nKickstart your morning with Aaltos $5.99* Breakfast with a beverage purchase! Choose between a Classic Breakfast or Pancake Breakfast! \n📅 Weekdays until 10:30AM | Dine-in only Limited time offer. \n*Excludes holidays and not available at Aaltos Health Sciences Centre. \n\nVisit canadinns.com/aaltos for more info!
URL:https://www.canadinns.com/event/aaltos-5-99-breakfast-special/2028-12-28/
LOCATION:Aaltos 🟢
CATEGORIES:Aaltos Buffets
ATTACH;FMTTYPE=image/png:https://www.canadinns.com/wp-content/uploads/04-02-26-Aaltos-Breakfast-Special-IG-scaled.png
END:VEVENT
BEGIN:VEVENT
DTSTART;TZID=America/Winnipeg:20281229T070000
DTEND;TZID=America/Winnipeg:20281229T103000
DTSTAMP:20260423T040014
CREATED:20260402T160402Z
LAST-MODIFIED:20260402T160402Z
UID:10051885-1861686000-1861698600@www.canadinns.com
SUMMARY:🟢 Aaltos - $5.99 Breakfast Special
DESCRIPTION:Aaltos $5.99 Breakfast Special\nKickstart your morning with Aaltos $5.99* Breakfast with a beverage purchase! Choose between a Classic Breakfast or Pancake Breakfast! \n📅 Weekdays until 10:30AM | Dine-in only Limited time offer. \n*Excludes holidays and not available at Aaltos Health Sciences Centre. \n\nVisit canadinns.com/aaltos for more info!
URL:https://www.canadinns.com/event/aaltos-5-99-breakfast-special/2028-12-29/
LOCATION:Aaltos 🟢
CATEGORIES:Aaltos Buffets
ATTACH;FMTTYPE=image/png:https://www.canadinns.com/wp-content/uploads/04-02-26-Aaltos-Breakfast-Special-IG-scaled.png
END:VEVENT
BEGIN:VEVENT
DTSTART;TZID=America/Winnipeg:20290101T070000
DTEND;TZID=America/Winnipeg:20290101T103000
DTSTAMP:20260423T040014
CREATED:20260402T160402Z
LAST-MODIFIED:20260402T160402Z
UID:10051886-1861945200-1861957800@www.canadinns.com
SUMMARY:🟢 Aaltos - $5.99 Breakfast Special
DESCRIPTION:Aaltos $5.99 Breakfast Special\nKickstart your morning with Aaltos $5.99* Breakfast with a beverage purchase! Choose between a Classic Breakfast or Pancake Breakfast! \n📅 Weekdays until 10:30AM | Dine-in only Limited time offer. \n*Excludes holidays and not available at Aaltos Health Sciences Centre. \n\nVisit canadinns.com/aaltos for more info!
URL:https://www.canadinns.com/event/aaltos-5-99-breakfast-special/2029-01-01/
LOCATION:Aaltos 🟢
CATEGORIES:Aaltos Buffets
ATTACH;FMTTYPE=image/png:https://www.canadinns.com/wp-content/uploads/04-02-26-Aaltos-Breakfast-Special-IG-scaled.png
END:VEVENT
BEGIN:VEVENT
DTSTART;TZID=America/Winnipeg:20290102T070000
DTEND;TZID=America/Winnipeg:20290102T103000
DTSTAMP:20260423T040014
CREATED:20260402T160402Z
LAST-MODIFIED:20260402T160402Z
UID:10051887-1862031600-1862044200@www.canadinns.com
SUMMARY:🟢 Aaltos - $5.99 Breakfast Special
DESCRIPTION:Aaltos $5.99 Breakfast Special\nKickstart your morning with Aaltos $5.99* Breakfast with a beverage purchase! Choose between a Classic Breakfast or Pancake Breakfast! \n📅 Weekdays until 10:30AM | Dine-in only Limited time offer. \n*Excludes holidays and not available at Aaltos Health Sciences Centre. \n\nVisit canadinns.com/aaltos for more info!
URL:https://www.canadinns.com/event/aaltos-5-99-breakfast-special/2029-01-02/
LOCATION:Aaltos 🟢
CATEGORIES:Aaltos Buffets
ATTACH;FMTTYPE=image/png:https://www.canadinns.com/wp-content/uploads/04-02-26-Aaltos-Breakfast-Special-IG-scaled.png
END:VEVENT
BEGIN:VEVENT
DTSTART;TZID=America/Winnipeg:20290103T070000
DTEND;TZID=America/Winnipeg:20290103T103000
DTSTAMP:20260423T040014
CREATED:20260402T160402Z
LAST-MODIFIED:20260402T160402Z
UID:10051888-1862118000-1862130600@www.canadinns.com
SUMMARY:🟢 Aaltos - $5.99 Breakfast Special
DESCRIPTION:Aaltos $5.99 Breakfast Special\nKickstart your morning with Aaltos $5.99* Breakfast with a beverage purchase! Choose between a Classic Breakfast or Pancake Breakfast! \n📅 Weekdays until 10:30AM | Dine-in only Limited time offer. \n*Excludes holidays and not available at Aaltos Health Sciences Centre. \n\nVisit canadinns.com/aaltos for more info!
URL:https://www.canadinns.com/event/aaltos-5-99-breakfast-special/2029-01-03/
LOCATION:Aaltos 🟢
CATEGORIES:Aaltos Buffets
ATTACH;FMTTYPE=image/png:https://www.canadinns.com/wp-content/uploads/04-02-26-Aaltos-Breakfast-Special-IG-scaled.png
END:VEVENT
BEGIN:VEVENT
DTSTART;TZID=America/Winnipeg:20290104T070000
DTEND;TZID=America/Winnipeg:20290104T103000
DTSTAMP:20260423T040014
CREATED:20260402T160402Z
LAST-MODIFIED:20260402T160402Z
UID:10051889-1862204400-1862217000@www.canadinns.com
SUMMARY:🟢 Aaltos - $5.99 Breakfast Special
DESCRIPTION:Aaltos $5.99 Breakfast Special\nKickstart your morning with Aaltos $5.99* Breakfast with a beverage purchase! Choose between a Classic Breakfast or Pancake Breakfast! \n📅 Weekdays until 10:30AM | Dine-in only Limited time offer. \n*Excludes holidays and not available at Aaltos Health Sciences Centre. \n\nVisit canadinns.com/aaltos for more info!
URL:https://www.canadinns.com/event/aaltos-5-99-breakfast-special/2029-01-04/
LOCATION:Aaltos 🟢
CATEGORIES:Aaltos Buffets
ATTACH;FMTTYPE=image/png:https://www.canadinns.com/wp-content/uploads/04-02-26-Aaltos-Breakfast-Special-IG-scaled.png
END:VEVENT
BEGIN:VEVENT
DTSTART;TZID=America/Winnipeg:20290105T070000
DTEND;TZID=America/Winnipeg:20290105T103000
DTSTAMP:20260423T040014
CREATED:20260402T160402Z
LAST-MODIFIED:20260402T160402Z
UID:10051890-1862290800-1862303400@www.canadinns.com
SUMMARY:🟢 Aaltos - $5.99 Breakfast Special
DESCRIPTION:Aaltos $5.99 Breakfast Special\nKickstart your morning with Aaltos $5.99* Breakfast with a beverage purchase! Choose between a Classic Breakfast or Pancake Breakfast! \n📅 Weekdays until 10:30AM | Dine-in only Limited time offer. \n*Excludes holidays and not available at Aaltos Health Sciences Centre. \n\nVisit canadinns.com/aaltos for more info!
URL:https://www.canadinns.com/event/aaltos-5-99-breakfast-special/2029-01-05/
LOCATION:Aaltos 🟢
CATEGORIES:Aaltos Buffets
ATTACH;FMTTYPE=image/png:https://www.canadinns.com/wp-content/uploads/04-02-26-Aaltos-Breakfast-Special-IG-scaled.png
END:VEVENT
BEGIN:VEVENT
DTSTART;TZID=America/Winnipeg:20290108T070000
DTEND;TZID=America/Winnipeg:20290108T103000
DTSTAMP:20260423T040014
CREATED:20260402T160402Z
LAST-MODIFIED:20260402T160402Z
UID:10051891-1862550000-1862562600@www.canadinns.com
SUMMARY:🟢 Aaltos - $5.99 Breakfast Special
DESCRIPTION:Aaltos $5.99 Breakfast Special\nKickstart your morning with Aaltos $5.99* Breakfast with a beverage purchase! Choose between a Classic Breakfast or Pancake Breakfast! \n📅 Weekdays until 10:30AM | Dine-in only Limited time offer. \n*Excludes holidays and not available at Aaltos Health Sciences Centre. \n\nVisit canadinns.com/aaltos for more info!
URL:https://www.canadinns.com/event/aaltos-5-99-breakfast-special/2029-01-08/
LOCATION:Aaltos 🟢
CATEGORIES:Aaltos Buffets
ATTACH;FMTTYPE=image/png:https://www.canadinns.com/wp-content/uploads/04-02-26-Aaltos-Breakfast-Special-IG-scaled.png
END:VEVENT
BEGIN:VEVENT
DTSTART;TZID=America/Winnipeg:20290109T070000
DTEND;TZID=America/Winnipeg:20290109T103000
DTSTAMP:20260423T040014
CREATED:20260402T160402Z
LAST-MODIFIED:20260402T160402Z
UID:10051892-1862636400-1862649000@www.canadinns.com
SUMMARY:🟢 Aaltos - $5.99 Breakfast Special
DESCRIPTION:Aaltos $5.99 Breakfast Special\nKickstart your morning with Aaltos $5.99* Breakfast with a beverage purchase! Choose between a Classic Breakfast or Pancake Breakfast! \n📅 Weekdays until 10:30AM | Dine-in only Limited time offer. \n*Excludes holidays and not available at Aaltos Health Sciences Centre. \n\nVisit canadinns.com/aaltos for more info!
URL:https://www.canadinns.com/event/aaltos-5-99-breakfast-special/2029-01-09/
LOCATION:Aaltos 🟢
CATEGORIES:Aaltos Buffets
ATTACH;FMTTYPE=image/png:https://www.canadinns.com/wp-content/uploads/04-02-26-Aaltos-Breakfast-Special-IG-scaled.png
END:VEVENT
BEGIN:VEVENT
DTSTART;TZID=America/Winnipeg:20290110T070000
DTEND;TZID=America/Winnipeg:20290110T103000
DTSTAMP:20260423T040014
CREATED:20260402T160402Z
LAST-MODIFIED:20260402T160402Z
UID:10051893-1862722800-1862735400@www.canadinns.com
SUMMARY:🟢 Aaltos - $5.99 Breakfast Special
DESCRIPTION:Aaltos $5.99 Breakfast Special\nKickstart your morning with Aaltos $5.99* Breakfast with a beverage purchase! Choose between a Classic Breakfast or Pancake Breakfast! \n📅 Weekdays until 10:30AM | Dine-in only Limited time offer. \n*Excludes holidays and not available at Aaltos Health Sciences Centre. \n\nVisit canadinns.com/aaltos for more info!
URL:https://www.canadinns.com/event/aaltos-5-99-breakfast-special/2029-01-10/
LOCATION:Aaltos 🟢
CATEGORIES:Aaltos Buffets
ATTACH;FMTTYPE=image/png:https://www.canadinns.com/wp-content/uploads/04-02-26-Aaltos-Breakfast-Special-IG-scaled.png
END:VEVENT
BEGIN:VEVENT
DTSTART;TZID=America/Winnipeg:20290111T070000
DTEND;TZID=America/Winnipeg:20290111T103000
DTSTAMP:20260423T040014
CREATED:20260402T160402Z
LAST-MODIFIED:20260402T160402Z
UID:10051894-1862809200-1862821800@www.canadinns.com
SUMMARY:🟢 Aaltos - $5.99 Breakfast Special
DESCRIPTION:Aaltos $5.99 Breakfast Special\nKickstart your morning with Aaltos $5.99* Breakfast with a beverage purchase! Choose between a Classic Breakfast or Pancake Breakfast! \n📅 Weekdays until 10:30AM | Dine-in only Limited time offer. \n*Excludes holidays and not available at Aaltos Health Sciences Centre. \n\nVisit canadinns.com/aaltos for more info!
URL:https://www.canadinns.com/event/aaltos-5-99-breakfast-special/2029-01-11/
LOCATION:Aaltos 🟢
CATEGORIES:Aaltos Buffets
ATTACH;FMTTYPE=image/png:https://www.canadinns.com/wp-content/uploads/04-02-26-Aaltos-Breakfast-Special-IG-scaled.png
END:VEVENT
BEGIN:VEVENT
DTSTART;TZID=America/Winnipeg:20290112T070000
DTEND;TZID=America/Winnipeg:20290112T103000
DTSTAMP:20260423T040014
CREATED:20260402T160402Z
LAST-MODIFIED:20260402T160402Z
UID:10051895-1862895600-1862908200@www.canadinns.com
SUMMARY:🟢 Aaltos - $5.99 Breakfast Special
DESCRIPTION:Aaltos $5.99 Breakfast Special\nKickstart your morning with Aaltos $5.99* Breakfast with a beverage purchase! Choose between a Classic Breakfast or Pancake Breakfast! \n📅 Weekdays until 10:30AM | Dine-in only Limited time offer. \n*Excludes holidays and not available at Aaltos Health Sciences Centre. \n\nVisit canadinns.com/aaltos for more info!
URL:https://www.canadinns.com/event/aaltos-5-99-breakfast-special/2029-01-12/
LOCATION:Aaltos 🟢
CATEGORIES:Aaltos Buffets
ATTACH;FMTTYPE=image/png:https://www.canadinns.com/wp-content/uploads/04-02-26-Aaltos-Breakfast-Special-IG-scaled.png
END:VEVENT
BEGIN:VEVENT
DTSTART;TZID=America/Winnipeg:20290115T070000
DTEND;TZID=America/Winnipeg:20290115T103000
DTSTAMP:20260423T040014
CREATED:20260402T160402Z
LAST-MODIFIED:20260402T160402Z
UID:10051896-1863154800-1863167400@www.canadinns.com
SUMMARY:🟢 Aaltos - $5.99 Breakfast Special
DESCRIPTION:Aaltos $5.99 Breakfast Special\nKickstart your morning with Aaltos $5.99* Breakfast with a beverage purchase! Choose between a Classic Breakfast or Pancake Breakfast! \n📅 Weekdays until 10:30AM | Dine-in only Limited time offer. \n*Excludes holidays and not available at Aaltos Health Sciences Centre. \n\nVisit canadinns.com/aaltos for more info!
URL:https://www.canadinns.com/event/aaltos-5-99-breakfast-special/2029-01-15/
LOCATION:Aaltos 🟢
CATEGORIES:Aaltos Buffets
ATTACH;FMTTYPE=image/png:https://www.canadinns.com/wp-content/uploads/04-02-26-Aaltos-Breakfast-Special-IG-scaled.png
END:VEVENT
BEGIN:VEVENT
DTSTART;TZID=America/Winnipeg:20290116T070000
DTEND;TZID=America/Winnipeg:20290116T103000
DTSTAMP:20260423T040014
CREATED:20260402T160402Z
LAST-MODIFIED:20260402T160402Z
UID:10051897-1863241200-1863253800@www.canadinns.com
SUMMARY:🟢 Aaltos - $5.99 Breakfast Special
DESCRIPTION:Aaltos $5.99 Breakfast Special\nKickstart your morning with Aaltos $5.99* Breakfast with a beverage purchase! Choose between a Classic Breakfast or Pancake Breakfast! \n📅 Weekdays until 10:30AM | Dine-in only Limited time offer. \n*Excludes holidays and not available at Aaltos Health Sciences Centre. \n\nVisit canadinns.com/aaltos for more info!
URL:https://www.canadinns.com/event/aaltos-5-99-breakfast-special/2029-01-16/
LOCATION:Aaltos 🟢
CATEGORIES:Aaltos Buffets
ATTACH;FMTTYPE=image/png:https://www.canadinns.com/wp-content/uploads/04-02-26-Aaltos-Breakfast-Special-IG-scaled.png
END:VEVENT
BEGIN:VEVENT
DTSTART;TZID=America/Winnipeg:20290117T070000
DTEND;TZID=America/Winnipeg:20290117T103000
DTSTAMP:20260423T040014
CREATED:20260402T160402Z
LAST-MODIFIED:20260402T160402Z
UID:10051898-1863327600-1863340200@www.canadinns.com
SUMMARY:🟢 Aaltos - $5.99 Breakfast Special
DESCRIPTION:Aaltos $5.99 Breakfast Special\nKickstart your morning with Aaltos $5.99* Breakfast with a beverage purchase! Choose between a Classic Breakfast or Pancake Breakfast! \n📅 Weekdays until 10:30AM | Dine-in only Limited time offer. \n*Excludes holidays and not available at Aaltos Health Sciences Centre. \n\nVisit canadinns.com/aaltos for more info!
URL:https://www.canadinns.com/event/aaltos-5-99-breakfast-special/2029-01-17/
LOCATION:Aaltos 🟢
CATEGORIES:Aaltos Buffets
ATTACH;FMTTYPE=image/png:https://www.canadinns.com/wp-content/uploads/04-02-26-Aaltos-Breakfast-Special-IG-scaled.png
END:VEVENT
BEGIN:VEVENT
DTSTART;TZID=America/Winnipeg:20290118T070000
DTEND;TZID=America/Winnipeg:20290118T103000
DTSTAMP:20260423T040014
CREATED:20260402T160402Z
LAST-MODIFIED:20260402T160402Z
UID:10051899-1863414000-1863426600@www.canadinns.com
SUMMARY:🟢 Aaltos - $5.99 Breakfast Special
DESCRIPTION:Aaltos $5.99 Breakfast Special\nKickstart your morning with Aaltos $5.99* Breakfast with a beverage purchase! Choose between a Classic Breakfast or Pancake Breakfast! \n📅 Weekdays until 10:30AM | Dine-in only Limited time offer. \n*Excludes holidays and not available at Aaltos Health Sciences Centre. \n\nVisit canadinns.com/aaltos for more info!
URL:https://www.canadinns.com/event/aaltos-5-99-breakfast-special/2029-01-18/
LOCATION:Aaltos 🟢
CATEGORIES:Aaltos Buffets
ATTACH;FMTTYPE=image/png:https://www.canadinns.com/wp-content/uploads/04-02-26-Aaltos-Breakfast-Special-IG-scaled.png
END:VEVENT
BEGIN:VEVENT
DTSTART;TZID=America/Winnipeg:20290119T070000
DTEND;TZID=America/Winnipeg:20290119T103000
DTSTAMP:20260423T040014
CREATED:20260402T160402Z
LAST-MODIFIED:20260402T160402Z
UID:10051900-1863500400-1863513000@www.canadinns.com
SUMMARY:🟢 Aaltos - $5.99 Breakfast Special
DESCRIPTION:Aaltos $5.99 Breakfast Special\nKickstart your morning with Aaltos $5.99* Breakfast with a beverage purchase! Choose between a Classic Breakfast or Pancake Breakfast! \n📅 Weekdays until 10:30AM | Dine-in only Limited time offer. \n*Excludes holidays and not available at Aaltos Health Sciences Centre. \n\nVisit canadinns.com/aaltos for more info!
URL:https://www.canadinns.com/event/aaltos-5-99-breakfast-special/2029-01-19/
LOCATION:Aaltos 🟢
CATEGORIES:Aaltos Buffets
ATTACH;FMTTYPE=image/png:https://www.canadinns.com/wp-content/uploads/04-02-26-Aaltos-Breakfast-Special-IG-scaled.png
END:VEVENT
BEGIN:VEVENT
DTSTART;TZID=America/Winnipeg:20290122T070000
DTEND;TZID=America/Winnipeg:20290122T103000
DTSTAMP:20260423T040014
CREATED:20260402T160402Z
LAST-MODIFIED:20260402T160402Z
UID:10051901-1863759600-1863772200@www.canadinns.com
SUMMARY:🟢 Aaltos - $5.99 Breakfast Special
DESCRIPTION:Aaltos $5.99 Breakfast Special\nKickstart your morning with Aaltos $5.99* Breakfast with a beverage purchase! Choose between a Classic Breakfast or Pancake Breakfast! \n📅 Weekdays until 10:30AM | Dine-in only Limited time offer. \n*Excludes holidays and not available at Aaltos Health Sciences Centre. \n\nVisit canadinns.com/aaltos for more info!
URL:https://www.canadinns.com/event/aaltos-5-99-breakfast-special/2029-01-22/
LOCATION:Aaltos 🟢
CATEGORIES:Aaltos Buffets
ATTACH;FMTTYPE=image/png:https://www.canadinns.com/wp-content/uploads/04-02-26-Aaltos-Breakfast-Special-IG-scaled.png
END:VEVENT
BEGIN:VEVENT
DTSTART;TZID=America/Winnipeg:20290123T070000
DTEND;TZID=America/Winnipeg:20290123T103000
DTSTAMP:20260423T040014
CREATED:20260402T160402Z
LAST-MODIFIED:20260402T160402Z
UID:10051902-1863846000-1863858600@www.canadinns.com
SUMMARY:🟢 Aaltos - $5.99 Breakfast Special
DESCRIPTION:Aaltos $5.99 Breakfast Special\nKickstart your morning with Aaltos $5.99* Breakfast with a beverage purchase! Choose between a Classic Breakfast or Pancake Breakfast! \n📅 Weekdays until 10:30AM | Dine-in only Limited time offer. \n*Excludes holidays and not available at Aaltos Health Sciences Centre. \n\nVisit canadinns.com/aaltos for more info!
URL:https://www.canadinns.com/event/aaltos-5-99-breakfast-special/2029-01-23/
LOCATION:Aaltos 🟢
CATEGORIES:Aaltos Buffets
ATTACH;FMTTYPE=image/png:https://www.canadinns.com/wp-content/uploads/04-02-26-Aaltos-Breakfast-Special-IG-scaled.png
END:VEVENT
BEGIN:VEVENT
DTSTART;TZID=America/Winnipeg:20290124T070000
DTEND;TZID=America/Winnipeg:20290124T103000
DTSTAMP:20260423T040014
CREATED:20260402T160402Z
LAST-MODIFIED:20260402T160402Z
UID:10051903-1863932400-1863945000@www.canadinns.com
SUMMARY:🟢 Aaltos - $5.99 Breakfast Special
DESCRIPTION:Aaltos $5.99 Breakfast Special\nKickstart your morning with Aaltos $5.99* Breakfast with a beverage purchase! Choose between a Classic Breakfast or Pancake Breakfast! \n📅 Weekdays until 10:30AM | Dine-in only Limited time offer. \n*Excludes holidays and not available at Aaltos Health Sciences Centre. \n\nVisit canadinns.com/aaltos for more info!
URL:https://www.canadinns.com/event/aaltos-5-99-breakfast-special/2029-01-24/
LOCATION:Aaltos 🟢
CATEGORIES:Aaltos Buffets
ATTACH;FMTTYPE=image/png:https://www.canadinns.com/wp-content/uploads/04-02-26-Aaltos-Breakfast-Special-IG-scaled.png
END:VEVENT
BEGIN:VEVENT
DTSTART;TZID=America/Winnipeg:20290125T070000
DTEND;TZID=America/Winnipeg:20290125T103000
DTSTAMP:20260423T040014
CREATED:20260402T160402Z
LAST-MODIFIED:20260402T160402Z
UID:10051904-1864018800-1864031400@www.canadinns.com
SUMMARY:🟢 Aaltos - $5.99 Breakfast Special
DESCRIPTION:Aaltos $5.99 Breakfast Special\nKickstart your morning with Aaltos $5.99* Breakfast with a beverage purchase! Choose between a Classic Breakfast or Pancake Breakfast! \n📅 Weekdays until 10:30AM | Dine-in only Limited time offer. \n*Excludes holidays and not available at Aaltos Health Sciences Centre. \n\nVisit canadinns.com/aaltos for more info!
URL:https://www.canadinns.com/event/aaltos-5-99-breakfast-special/2029-01-25/
LOCATION:Aaltos 🟢
CATEGORIES:Aaltos Buffets
ATTACH;FMTTYPE=image/png:https://www.canadinns.com/wp-content/uploads/04-02-26-Aaltos-Breakfast-Special-IG-scaled.png
END:VEVENT
BEGIN:VEVENT
DTSTART;TZID=America/Winnipeg:20290126T070000
DTEND;TZID=America/Winnipeg:20290126T103000
DTSTAMP:20260423T040014
CREATED:20260402T160402Z
LAST-MODIFIED:20260402T160402Z
UID:10051905-1864105200-1864117800@www.canadinns.com
SUMMARY:🟢 Aaltos - $5.99 Breakfast Special
DESCRIPTION:Aaltos $5.99 Breakfast Special\nKickstart your morning with Aaltos $5.99* Breakfast with a beverage purchase! Choose between a Classic Breakfast or Pancake Breakfast! \n📅 Weekdays until 10:30AM | Dine-in only Limited time offer. \n*Excludes holidays and not available at Aaltos Health Sciences Centre. \n\nVisit canadinns.com/aaltos for more info!
URL:https://www.canadinns.com/event/aaltos-5-99-breakfast-special/2029-01-26/
LOCATION:Aaltos 🟢
CATEGORIES:Aaltos Buffets
ATTACH;FMTTYPE=image/png:https://www.canadinns.com/wp-content/uploads/04-02-26-Aaltos-Breakfast-Special-IG-scaled.png
END:VEVENT
BEGIN:VEVENT
DTSTART;TZID=America/Winnipeg:20290129T070000
DTEND;TZID=America/Winnipeg:20290129T103000
DTSTAMP:20260423T040014
CREATED:20260402T160402Z
LAST-MODIFIED:20260402T160402Z
UID:10051906-1864364400-1864377000@www.canadinns.com
SUMMARY:🟢 Aaltos - $5.99 Breakfast Special
DESCRIPTION:Aaltos $5.99 Breakfast Special\nKickstart your morning with Aaltos $5.99* Breakfast with a beverage purchase! Choose between a Classic Breakfast or Pancake Breakfast! \n📅 Weekdays until 10:30AM | Dine-in only Limited time offer. \n*Excludes holidays and not available at Aaltos Health Sciences Centre. \n\nVisit canadinns.com/aaltos for more info!
URL:https://www.canadinns.com/event/aaltos-5-99-breakfast-special/2029-01-29/
LOCATION:Aaltos 🟢
CATEGORIES:Aaltos Buffets
ATTACH;FMTTYPE=image/png:https://www.canadinns.com/wp-content/uploads/04-02-26-Aaltos-Breakfast-Special-IG-scaled.png
END:VEVENT
BEGIN:VEVENT
DTSTART;TZID=America/Winnipeg:20290130T070000
DTEND;TZID=America/Winnipeg:20290130T103000
DTSTAMP:20260423T040014
CREATED:20260402T160402Z
LAST-MODIFIED:20260402T160402Z
UID:10051907-1864450800-1864463400@www.canadinns.com
SUMMARY:🟢 Aaltos - $5.99 Breakfast Special
DESCRIPTION:Aaltos $5.99 Breakfast Special\nKickstart your morning with Aaltos $5.99* Breakfast with a beverage purchase! Choose between a Classic Breakfast or Pancake Breakfast! \n📅 Weekdays until 10:30AM | Dine-in only Limited time offer. \n*Excludes holidays and not available at Aaltos Health Sciences Centre. \n\nVisit canadinns.com/aaltos for more info!
URL:https://www.canadinns.com/event/aaltos-5-99-breakfast-special/2029-01-30/
LOCATION:Aaltos 🟢
CATEGORIES:Aaltos Buffets
ATTACH;FMTTYPE=image/png:https://www.canadinns.com/wp-content/uploads/04-02-26-Aaltos-Breakfast-Special-IG-scaled.png
END:VEVENT
BEGIN:VEVENT
DTSTART;TZID=America/Winnipeg:20290131T070000
DTEND;TZID=America/Winnipeg:20290131T103000
DTSTAMP:20260423T040014
CREATED:20260402T160402Z
LAST-MODIFIED:20260402T160402Z
UID:10051908-1864537200-1864549800@www.canadinns.com
SUMMARY:🟢 Aaltos - $5.99 Breakfast Special
DESCRIPTION:Aaltos $5.99 Breakfast Special\nKickstart your morning with Aaltos $5.99* Breakfast with a beverage purchase! Choose between a Classic Breakfast or Pancake Breakfast! \n📅 Weekdays until 10:30AM | Dine-in only Limited time offer. \n*Excludes holidays and not available at Aaltos Health Sciences Centre. \n\nVisit canadinns.com/aaltos for more info!
URL:https://www.canadinns.com/event/aaltos-5-99-breakfast-special/2029-01-31/
LOCATION:Aaltos 🟢
CATEGORIES:Aaltos Buffets
ATTACH;FMTTYPE=image/png:https://www.canadinns.com/wp-content/uploads/04-02-26-Aaltos-Breakfast-Special-IG-scaled.png
END:VEVENT
BEGIN:VEVENT
DTSTART;TZID=America/Winnipeg:20290201T070000
DTEND;TZID=America/Winnipeg:20290201T103000
DTSTAMP:20260423T040014
CREATED:20260402T160402Z
LAST-MODIFIED:20260402T160402Z
UID:10051909-1864623600-1864636200@www.canadinns.com
SUMMARY:🟢 Aaltos - $5.99 Breakfast Special
DESCRIPTION:Aaltos $5.99 Breakfast Special\nKickstart your morning with Aaltos $5.99* Breakfast with a beverage purchase! Choose between a Classic Breakfast or Pancake Breakfast! \n📅 Weekdays until 10:30AM | Dine-in only Limited time offer. \n*Excludes holidays and not available at Aaltos Health Sciences Centre. \n\nVisit canadinns.com/aaltos for more info!
URL:https://www.canadinns.com/event/aaltos-5-99-breakfast-special/2029-02-01/
LOCATION:Aaltos 🟢
CATEGORIES:Aaltos Buffets
ATTACH;FMTTYPE=image/png:https://www.canadinns.com/wp-content/uploads/04-02-26-Aaltos-Breakfast-Special-IG-scaled.png
END:VEVENT
END:VCALENDAR