BEGIN:VCALENDAR
VERSION:2.0
PRODID:-//Canad Inns - ECPv6.15.17.1//NONSGML v1.0//EN
CALSCALE:GREGORIAN
METHOD:PUBLISH
X-ORIGINAL-URL:https://www.canadinns.com
X-WR-CALDESC:Events for Canad Inns
REFRESH-INTERVAL;VALUE=DURATION:PT1H
X-Robots-Tag:noindex
X-PUBLISHED-TTL:PT1H
BEGIN:VTIMEZONE
TZID:America/Winnipeg
BEGIN:DAYLIGHT
TZOFFSETFROM:-0600
TZOFFSETTO:-0500
TZNAME:CDT
DTSTART:20260308T080000
END:DAYLIGHT
BEGIN:STANDARD
TZOFFSETFROM:-0500
TZOFFSETTO:-0600
TZNAME:CST
DTSTART:20261101T070000
END:STANDARD
BEGIN:DAYLIGHT
TZOFFSETFROM:-0600
TZOFFSETTO:-0500
TZNAME:CDT
DTSTART:20270314T080000
END:DAYLIGHT
BEGIN:STANDARD
TZOFFSETFROM:-0500
TZOFFSETTO:-0600
TZNAME:CST
DTSTART:20271107T070000
END:STANDARD
BEGIN:DAYLIGHT
TZOFFSETFROM:-0600
TZOFFSETTO:-0500
TZNAME:CDT
DTSTART:20280312T080000
END:DAYLIGHT
BEGIN:STANDARD
TZOFFSETFROM:-0500
TZOFFSETTO:-0600
TZNAME:CST
DTSTART:20281105T070000
END:STANDARD
BEGIN:DAYLIGHT
TZOFFSETFROM:-0600
TZOFFSETTO:-0500
TZNAME:CDT
DTSTART:20290311T080000
END:DAYLIGHT
BEGIN:STANDARD
TZOFFSETFROM:-0500
TZOFFSETTO:-0600
TZNAME:CST
DTSTART:20291104T070000
END:STANDARD
END:VTIMEZONE
BEGIN:VEVENT
DTSTART;TZID=America/Winnipeg:20271230T070000
DTEND;TZID=America/Winnipeg:20271230T103000
DTSTAMP:20260420T015256
CREATED:20260402T160402Z
LAST-MODIFIED:20260402T160402Z
UID:10051624-1830150000-1830162600@www.canadinns.com
SUMMARY:🟢 Aaltos - $5.99 Breakfast Special
DESCRIPTION:Aaltos $5.99 Breakfast Special\nKickstart your morning with Aaltos $5.99* Breakfast with a beverage purchase! Choose between a Classic Breakfast or Pancake Breakfast! \n📅 Weekdays until 10:30AM | Dine-in only Limited time offer. \n*Excludes holidays and not available at Aaltos Health Sciences Centre. \n\nVisit canadinns.com/aaltos for more info!
URL:https://www.canadinns.com/event/aaltos-5-99-breakfast-special/2027-12-30/
LOCATION:Aaltos 🟢
CATEGORIES:Aaltos Buffets
ATTACH;FMTTYPE=image/png:https://www.canadinns.com/wp-content/uploads/04-02-26-Aaltos-Breakfast-Special-IG-scaled.png
END:VEVENT
BEGIN:VEVENT
DTSTART;TZID=America/Winnipeg:20271231T070000
DTEND;TZID=America/Winnipeg:20271231T103000
DTSTAMP:20260420T015256
CREATED:20260402T160402Z
LAST-MODIFIED:20260402T160402Z
UID:10051625-1830236400-1830249000@www.canadinns.com
SUMMARY:🟢 Aaltos - $5.99 Breakfast Special
DESCRIPTION:Aaltos $5.99 Breakfast Special\nKickstart your morning with Aaltos $5.99* Breakfast with a beverage purchase! Choose between a Classic Breakfast or Pancake Breakfast! \n📅 Weekdays until 10:30AM | Dine-in only Limited time offer. \n*Excludes holidays and not available at Aaltos Health Sciences Centre. \n\nVisit canadinns.com/aaltos for more info!
URL:https://www.canadinns.com/event/aaltos-5-99-breakfast-special/2027-12-31/
LOCATION:Aaltos 🟢
CATEGORIES:Aaltos Buffets
ATTACH;FMTTYPE=image/png:https://www.canadinns.com/wp-content/uploads/04-02-26-Aaltos-Breakfast-Special-IG-scaled.png
END:VEVENT
BEGIN:VEVENT
DTSTART;TZID=America/Winnipeg:20280103T070000
DTEND;TZID=America/Winnipeg:20280103T103000
DTSTAMP:20260420T015256
CREATED:20260402T160402Z
LAST-MODIFIED:20260402T160402Z
UID:10051626-1830495600-1830508200@www.canadinns.com
SUMMARY:🟢 Aaltos - $5.99 Breakfast Special
DESCRIPTION:Aaltos $5.99 Breakfast Special\nKickstart your morning with Aaltos $5.99* Breakfast with a beverage purchase! Choose between a Classic Breakfast or Pancake Breakfast! \n📅 Weekdays until 10:30AM | Dine-in only Limited time offer. \n*Excludes holidays and not available at Aaltos Health Sciences Centre. \n\nVisit canadinns.com/aaltos for more info!
URL:https://www.canadinns.com/event/aaltos-5-99-breakfast-special/2028-01-03/
LOCATION:Aaltos 🟢
CATEGORIES:Aaltos Buffets
ATTACH;FMTTYPE=image/png:https://www.canadinns.com/wp-content/uploads/04-02-26-Aaltos-Breakfast-Special-IG-scaled.png
END:VEVENT
BEGIN:VEVENT
DTSTART;TZID=America/Winnipeg:20280104T070000
DTEND;TZID=America/Winnipeg:20280104T103000
DTSTAMP:20260420T015256
CREATED:20260402T160402Z
LAST-MODIFIED:20260402T160402Z
UID:10051627-1830582000-1830594600@www.canadinns.com
SUMMARY:🟢 Aaltos - $5.99 Breakfast Special
DESCRIPTION:Aaltos $5.99 Breakfast Special\nKickstart your morning with Aaltos $5.99* Breakfast with a beverage purchase! Choose between a Classic Breakfast or Pancake Breakfast! \n📅 Weekdays until 10:30AM | Dine-in only Limited time offer. \n*Excludes holidays and not available at Aaltos Health Sciences Centre. \n\nVisit canadinns.com/aaltos for more info!
URL:https://www.canadinns.com/event/aaltos-5-99-breakfast-special/2028-01-04/
LOCATION:Aaltos 🟢
CATEGORIES:Aaltos Buffets
ATTACH;FMTTYPE=image/png:https://www.canadinns.com/wp-content/uploads/04-02-26-Aaltos-Breakfast-Special-IG-scaled.png
END:VEVENT
BEGIN:VEVENT
DTSTART;TZID=America/Winnipeg:20280105T070000
DTEND;TZID=America/Winnipeg:20280105T103000
DTSTAMP:20260420T015256
CREATED:20260402T160402Z
LAST-MODIFIED:20260402T160402Z
UID:10051628-1830668400-1830681000@www.canadinns.com
SUMMARY:🟢 Aaltos - $5.99 Breakfast Special
DESCRIPTION:Aaltos $5.99 Breakfast Special\nKickstart your morning with Aaltos $5.99* Breakfast with a beverage purchase! Choose between a Classic Breakfast or Pancake Breakfast! \n📅 Weekdays until 10:30AM | Dine-in only Limited time offer. \n*Excludes holidays and not available at Aaltos Health Sciences Centre. \n\nVisit canadinns.com/aaltos for more info!
URL:https://www.canadinns.com/event/aaltos-5-99-breakfast-special/2028-01-05/
LOCATION:Aaltos 🟢
CATEGORIES:Aaltos Buffets
ATTACH;FMTTYPE=image/png:https://www.canadinns.com/wp-content/uploads/04-02-26-Aaltos-Breakfast-Special-IG-scaled.png
END:VEVENT
BEGIN:VEVENT
DTSTART;TZID=America/Winnipeg:20280106T070000
DTEND;TZID=America/Winnipeg:20280106T103000
DTSTAMP:20260420T015256
CREATED:20260402T160402Z
LAST-MODIFIED:20260402T160402Z
UID:10051629-1830754800-1830767400@www.canadinns.com
SUMMARY:🟢 Aaltos - $5.99 Breakfast Special
DESCRIPTION:Aaltos $5.99 Breakfast Special\nKickstart your morning with Aaltos $5.99* Breakfast with a beverage purchase! Choose between a Classic Breakfast or Pancake Breakfast! \n📅 Weekdays until 10:30AM | Dine-in only Limited time offer. \n*Excludes holidays and not available at Aaltos Health Sciences Centre. \n\nVisit canadinns.com/aaltos for more info!
URL:https://www.canadinns.com/event/aaltos-5-99-breakfast-special/2028-01-06/
LOCATION:Aaltos 🟢
CATEGORIES:Aaltos Buffets
ATTACH;FMTTYPE=image/png:https://www.canadinns.com/wp-content/uploads/04-02-26-Aaltos-Breakfast-Special-IG-scaled.png
END:VEVENT
BEGIN:VEVENT
DTSTART;TZID=America/Winnipeg:20280107T070000
DTEND;TZID=America/Winnipeg:20280107T103000
DTSTAMP:20260420T015256
CREATED:20260402T160402Z
LAST-MODIFIED:20260402T160402Z
UID:10051630-1830841200-1830853800@www.canadinns.com
SUMMARY:🟢 Aaltos - $5.99 Breakfast Special
DESCRIPTION:Aaltos $5.99 Breakfast Special\nKickstart your morning with Aaltos $5.99* Breakfast with a beverage purchase! Choose between a Classic Breakfast or Pancake Breakfast! \n📅 Weekdays until 10:30AM | Dine-in only Limited time offer. \n*Excludes holidays and not available at Aaltos Health Sciences Centre. \n\nVisit canadinns.com/aaltos for more info!
URL:https://www.canadinns.com/event/aaltos-5-99-breakfast-special/2028-01-07/
LOCATION:Aaltos 🟢
CATEGORIES:Aaltos Buffets
ATTACH;FMTTYPE=image/png:https://www.canadinns.com/wp-content/uploads/04-02-26-Aaltos-Breakfast-Special-IG-scaled.png
END:VEVENT
BEGIN:VEVENT
DTSTART;TZID=America/Winnipeg:20280110T070000
DTEND;TZID=America/Winnipeg:20280110T103000
DTSTAMP:20260420T015256
CREATED:20260402T160402Z
LAST-MODIFIED:20260402T160402Z
UID:10051631-1831100400-1831113000@www.canadinns.com
SUMMARY:🟢 Aaltos - $5.99 Breakfast Special
DESCRIPTION:Aaltos $5.99 Breakfast Special\nKickstart your morning with Aaltos $5.99* Breakfast with a beverage purchase! Choose between a Classic Breakfast or Pancake Breakfast! \n📅 Weekdays until 10:30AM | Dine-in only Limited time offer. \n*Excludes holidays and not available at Aaltos Health Sciences Centre. \n\nVisit canadinns.com/aaltos for more info!
URL:https://www.canadinns.com/event/aaltos-5-99-breakfast-special/2028-01-10/
LOCATION:Aaltos 🟢
CATEGORIES:Aaltos Buffets
ATTACH;FMTTYPE=image/png:https://www.canadinns.com/wp-content/uploads/04-02-26-Aaltos-Breakfast-Special-IG-scaled.png
END:VEVENT
BEGIN:VEVENT
DTSTART;TZID=America/Winnipeg:20280111T070000
DTEND;TZID=America/Winnipeg:20280111T103000
DTSTAMP:20260420T015256
CREATED:20260402T160402Z
LAST-MODIFIED:20260402T160402Z
UID:10051632-1831186800-1831199400@www.canadinns.com
SUMMARY:🟢 Aaltos - $5.99 Breakfast Special
DESCRIPTION:Aaltos $5.99 Breakfast Special\nKickstart your morning with Aaltos $5.99* Breakfast with a beverage purchase! Choose between a Classic Breakfast or Pancake Breakfast! \n📅 Weekdays until 10:30AM | Dine-in only Limited time offer. \n*Excludes holidays and not available at Aaltos Health Sciences Centre. \n\nVisit canadinns.com/aaltos for more info!
URL:https://www.canadinns.com/event/aaltos-5-99-breakfast-special/2028-01-11/
LOCATION:Aaltos 🟢
CATEGORIES:Aaltos Buffets
ATTACH;FMTTYPE=image/png:https://www.canadinns.com/wp-content/uploads/04-02-26-Aaltos-Breakfast-Special-IG-scaled.png
END:VEVENT
BEGIN:VEVENT
DTSTART;TZID=America/Winnipeg:20280112T070000
DTEND;TZID=America/Winnipeg:20280112T103000
DTSTAMP:20260420T015256
CREATED:20260402T160402Z
LAST-MODIFIED:20260402T160402Z
UID:10051633-1831273200-1831285800@www.canadinns.com
SUMMARY:🟢 Aaltos - $5.99 Breakfast Special
DESCRIPTION:Aaltos $5.99 Breakfast Special\nKickstart your morning with Aaltos $5.99* Breakfast with a beverage purchase! Choose between a Classic Breakfast or Pancake Breakfast! \n📅 Weekdays until 10:30AM | Dine-in only Limited time offer. \n*Excludes holidays and not available at Aaltos Health Sciences Centre. \n\nVisit canadinns.com/aaltos for more info!
URL:https://www.canadinns.com/event/aaltos-5-99-breakfast-special/2028-01-12/
LOCATION:Aaltos 🟢
CATEGORIES:Aaltos Buffets
ATTACH;FMTTYPE=image/png:https://www.canadinns.com/wp-content/uploads/04-02-26-Aaltos-Breakfast-Special-IG-scaled.png
END:VEVENT
BEGIN:VEVENT
DTSTART;TZID=America/Winnipeg:20280113T070000
DTEND;TZID=America/Winnipeg:20280113T103000
DTSTAMP:20260420T015256
CREATED:20260402T160402Z
LAST-MODIFIED:20260402T160402Z
UID:10051634-1831359600-1831372200@www.canadinns.com
SUMMARY:🟢 Aaltos - $5.99 Breakfast Special
DESCRIPTION:Aaltos $5.99 Breakfast Special\nKickstart your morning with Aaltos $5.99* Breakfast with a beverage purchase! Choose between a Classic Breakfast or Pancake Breakfast! \n📅 Weekdays until 10:30AM | Dine-in only Limited time offer. \n*Excludes holidays and not available at Aaltos Health Sciences Centre. \n\nVisit canadinns.com/aaltos for more info!
URL:https://www.canadinns.com/event/aaltos-5-99-breakfast-special/2028-01-13/
LOCATION:Aaltos 🟢
CATEGORIES:Aaltos Buffets
ATTACH;FMTTYPE=image/png:https://www.canadinns.com/wp-content/uploads/04-02-26-Aaltos-Breakfast-Special-IG-scaled.png
END:VEVENT
BEGIN:VEVENT
DTSTART;TZID=America/Winnipeg:20280114T070000
DTEND;TZID=America/Winnipeg:20280114T103000
DTSTAMP:20260420T015256
CREATED:20260402T160402Z
LAST-MODIFIED:20260402T160402Z
UID:10051635-1831446000-1831458600@www.canadinns.com
SUMMARY:🟢 Aaltos - $5.99 Breakfast Special
DESCRIPTION:Aaltos $5.99 Breakfast Special\nKickstart your morning with Aaltos $5.99* Breakfast with a beverage purchase! Choose between a Classic Breakfast or Pancake Breakfast! \n📅 Weekdays until 10:30AM | Dine-in only Limited time offer. \n*Excludes holidays and not available at Aaltos Health Sciences Centre. \n\nVisit canadinns.com/aaltos for more info!
URL:https://www.canadinns.com/event/aaltos-5-99-breakfast-special/2028-01-14/
LOCATION:Aaltos 🟢
CATEGORIES:Aaltos Buffets
ATTACH;FMTTYPE=image/png:https://www.canadinns.com/wp-content/uploads/04-02-26-Aaltos-Breakfast-Special-IG-scaled.png
END:VEVENT
BEGIN:VEVENT
DTSTART;TZID=America/Winnipeg:20280117T070000
DTEND;TZID=America/Winnipeg:20280117T103000
DTSTAMP:20260420T015256
CREATED:20260402T160402Z
LAST-MODIFIED:20260402T160402Z
UID:10051636-1831705200-1831717800@www.canadinns.com
SUMMARY:🟢 Aaltos - $5.99 Breakfast Special
DESCRIPTION:Aaltos $5.99 Breakfast Special\nKickstart your morning with Aaltos $5.99* Breakfast with a beverage purchase! Choose between a Classic Breakfast or Pancake Breakfast! \n📅 Weekdays until 10:30AM | Dine-in only Limited time offer. \n*Excludes holidays and not available at Aaltos Health Sciences Centre. \n\nVisit canadinns.com/aaltos for more info!
URL:https://www.canadinns.com/event/aaltos-5-99-breakfast-special/2028-01-17/
LOCATION:Aaltos 🟢
CATEGORIES:Aaltos Buffets
ATTACH;FMTTYPE=image/png:https://www.canadinns.com/wp-content/uploads/04-02-26-Aaltos-Breakfast-Special-IG-scaled.png
END:VEVENT
BEGIN:VEVENT
DTSTART;TZID=America/Winnipeg:20280118T070000
DTEND;TZID=America/Winnipeg:20280118T103000
DTSTAMP:20260420T015256
CREATED:20260402T160402Z
LAST-MODIFIED:20260402T160402Z
UID:10051637-1831791600-1831804200@www.canadinns.com
SUMMARY:🟢 Aaltos - $5.99 Breakfast Special
DESCRIPTION:Aaltos $5.99 Breakfast Special\nKickstart your morning with Aaltos $5.99* Breakfast with a beverage purchase! Choose between a Classic Breakfast or Pancake Breakfast! \n📅 Weekdays until 10:30AM | Dine-in only Limited time offer. \n*Excludes holidays and not available at Aaltos Health Sciences Centre. \n\nVisit canadinns.com/aaltos for more info!
URL:https://www.canadinns.com/event/aaltos-5-99-breakfast-special/2028-01-18/
LOCATION:Aaltos 🟢
CATEGORIES:Aaltos Buffets
ATTACH;FMTTYPE=image/png:https://www.canadinns.com/wp-content/uploads/04-02-26-Aaltos-Breakfast-Special-IG-scaled.png
END:VEVENT
BEGIN:VEVENT
DTSTART;TZID=America/Winnipeg:20280119T070000
DTEND;TZID=America/Winnipeg:20280119T103000
DTSTAMP:20260420T015256
CREATED:20260402T160402Z
LAST-MODIFIED:20260402T160402Z
UID:10051638-1831878000-1831890600@www.canadinns.com
SUMMARY:🟢 Aaltos - $5.99 Breakfast Special
DESCRIPTION:Aaltos $5.99 Breakfast Special\nKickstart your morning with Aaltos $5.99* Breakfast with a beverage purchase! Choose between a Classic Breakfast or Pancake Breakfast! \n📅 Weekdays until 10:30AM | Dine-in only Limited time offer. \n*Excludes holidays and not available at Aaltos Health Sciences Centre. \n\nVisit canadinns.com/aaltos for more info!
URL:https://www.canadinns.com/event/aaltos-5-99-breakfast-special/2028-01-19/
LOCATION:Aaltos 🟢
CATEGORIES:Aaltos Buffets
ATTACH;FMTTYPE=image/png:https://www.canadinns.com/wp-content/uploads/04-02-26-Aaltos-Breakfast-Special-IG-scaled.png
END:VEVENT
BEGIN:VEVENT
DTSTART;TZID=America/Winnipeg:20280120T070000
DTEND;TZID=America/Winnipeg:20280120T103000
DTSTAMP:20260420T015256
CREATED:20260402T160402Z
LAST-MODIFIED:20260402T160402Z
UID:10051639-1831964400-1831977000@www.canadinns.com
SUMMARY:🟢 Aaltos - $5.99 Breakfast Special
DESCRIPTION:Aaltos $5.99 Breakfast Special\nKickstart your morning with Aaltos $5.99* Breakfast with a beverage purchase! Choose between a Classic Breakfast or Pancake Breakfast! \n📅 Weekdays until 10:30AM | Dine-in only Limited time offer. \n*Excludes holidays and not available at Aaltos Health Sciences Centre. \n\nVisit canadinns.com/aaltos for more info!
URL:https://www.canadinns.com/event/aaltos-5-99-breakfast-special/2028-01-20/
LOCATION:Aaltos 🟢
CATEGORIES:Aaltos Buffets
ATTACH;FMTTYPE=image/png:https://www.canadinns.com/wp-content/uploads/04-02-26-Aaltos-Breakfast-Special-IG-scaled.png
END:VEVENT
BEGIN:VEVENT
DTSTART;TZID=America/Winnipeg:20280121T070000
DTEND;TZID=America/Winnipeg:20280121T103000
DTSTAMP:20260420T015256
CREATED:20260402T160402Z
LAST-MODIFIED:20260402T160402Z
UID:10051640-1832050800-1832063400@www.canadinns.com
SUMMARY:🟢 Aaltos - $5.99 Breakfast Special
DESCRIPTION:Aaltos $5.99 Breakfast Special\nKickstart your morning with Aaltos $5.99* Breakfast with a beverage purchase! Choose between a Classic Breakfast or Pancake Breakfast! \n📅 Weekdays until 10:30AM | Dine-in only Limited time offer. \n*Excludes holidays and not available at Aaltos Health Sciences Centre. \n\nVisit canadinns.com/aaltos for more info!
URL:https://www.canadinns.com/event/aaltos-5-99-breakfast-special/2028-01-21/
LOCATION:Aaltos 🟢
CATEGORIES:Aaltos Buffets
ATTACH;FMTTYPE=image/png:https://www.canadinns.com/wp-content/uploads/04-02-26-Aaltos-Breakfast-Special-IG-scaled.png
END:VEVENT
BEGIN:VEVENT
DTSTART;TZID=America/Winnipeg:20280124T070000
DTEND;TZID=America/Winnipeg:20280124T103000
DTSTAMP:20260420T015256
CREATED:20260402T160402Z
LAST-MODIFIED:20260402T160402Z
UID:10051641-1832310000-1832322600@www.canadinns.com
SUMMARY:🟢 Aaltos - $5.99 Breakfast Special
DESCRIPTION:Aaltos $5.99 Breakfast Special\nKickstart your morning with Aaltos $5.99* Breakfast with a beverage purchase! Choose between a Classic Breakfast or Pancake Breakfast! \n📅 Weekdays until 10:30AM | Dine-in only Limited time offer. \n*Excludes holidays and not available at Aaltos Health Sciences Centre. \n\nVisit canadinns.com/aaltos for more info!
URL:https://www.canadinns.com/event/aaltos-5-99-breakfast-special/2028-01-24/
LOCATION:Aaltos 🟢
CATEGORIES:Aaltos Buffets
ATTACH;FMTTYPE=image/png:https://www.canadinns.com/wp-content/uploads/04-02-26-Aaltos-Breakfast-Special-IG-scaled.png
END:VEVENT
BEGIN:VEVENT
DTSTART;TZID=America/Winnipeg:20280125T070000
DTEND;TZID=America/Winnipeg:20280125T103000
DTSTAMP:20260420T015256
CREATED:20260402T160402Z
LAST-MODIFIED:20260402T160402Z
UID:10051642-1832396400-1832409000@www.canadinns.com
SUMMARY:🟢 Aaltos - $5.99 Breakfast Special
DESCRIPTION:Aaltos $5.99 Breakfast Special\nKickstart your morning with Aaltos $5.99* Breakfast with a beverage purchase! Choose between a Classic Breakfast or Pancake Breakfast! \n📅 Weekdays until 10:30AM | Dine-in only Limited time offer. \n*Excludes holidays and not available at Aaltos Health Sciences Centre. \n\nVisit canadinns.com/aaltos for more info!
URL:https://www.canadinns.com/event/aaltos-5-99-breakfast-special/2028-01-25/
LOCATION:Aaltos 🟢
CATEGORIES:Aaltos Buffets
ATTACH;FMTTYPE=image/png:https://www.canadinns.com/wp-content/uploads/04-02-26-Aaltos-Breakfast-Special-IG-scaled.png
END:VEVENT
BEGIN:VEVENT
DTSTART;TZID=America/Winnipeg:20280126T070000
DTEND;TZID=America/Winnipeg:20280126T103000
DTSTAMP:20260420T015256
CREATED:20260402T160402Z
LAST-MODIFIED:20260402T160402Z
UID:10051643-1832482800-1832495400@www.canadinns.com
SUMMARY:🟢 Aaltos - $5.99 Breakfast Special
DESCRIPTION:Aaltos $5.99 Breakfast Special\nKickstart your morning with Aaltos $5.99* Breakfast with a beverage purchase! Choose between a Classic Breakfast or Pancake Breakfast! \n📅 Weekdays until 10:30AM | Dine-in only Limited time offer. \n*Excludes holidays and not available at Aaltos Health Sciences Centre. \n\nVisit canadinns.com/aaltos for more info!
URL:https://www.canadinns.com/event/aaltos-5-99-breakfast-special/2028-01-26/
LOCATION:Aaltos 🟢
CATEGORIES:Aaltos Buffets
ATTACH;FMTTYPE=image/png:https://www.canadinns.com/wp-content/uploads/04-02-26-Aaltos-Breakfast-Special-IG-scaled.png
END:VEVENT
BEGIN:VEVENT
DTSTART;TZID=America/Winnipeg:20280127T070000
DTEND;TZID=America/Winnipeg:20280127T103000
DTSTAMP:20260420T015256
CREATED:20260402T160402Z
LAST-MODIFIED:20260402T160402Z
UID:10051644-1832569200-1832581800@www.canadinns.com
SUMMARY:🟢 Aaltos - $5.99 Breakfast Special
DESCRIPTION:Aaltos $5.99 Breakfast Special\nKickstart your morning with Aaltos $5.99* Breakfast with a beverage purchase! Choose between a Classic Breakfast or Pancake Breakfast! \n📅 Weekdays until 10:30AM | Dine-in only Limited time offer. \n*Excludes holidays and not available at Aaltos Health Sciences Centre. \n\nVisit canadinns.com/aaltos for more info!
URL:https://www.canadinns.com/event/aaltos-5-99-breakfast-special/2028-01-27/
LOCATION:Aaltos 🟢
CATEGORIES:Aaltos Buffets
ATTACH;FMTTYPE=image/png:https://www.canadinns.com/wp-content/uploads/04-02-26-Aaltos-Breakfast-Special-IG-scaled.png
END:VEVENT
BEGIN:VEVENT
DTSTART;TZID=America/Winnipeg:20280128T070000
DTEND;TZID=America/Winnipeg:20280128T103000
DTSTAMP:20260420T015256
CREATED:20260402T160402Z
LAST-MODIFIED:20260402T160402Z
UID:10051645-1832655600-1832668200@www.canadinns.com
SUMMARY:🟢 Aaltos - $5.99 Breakfast Special
DESCRIPTION:Aaltos $5.99 Breakfast Special\nKickstart your morning with Aaltos $5.99* Breakfast with a beverage purchase! Choose between a Classic Breakfast or Pancake Breakfast! \n📅 Weekdays until 10:30AM | Dine-in only Limited time offer. \n*Excludes holidays and not available at Aaltos Health Sciences Centre. \n\nVisit canadinns.com/aaltos for more info!
URL:https://www.canadinns.com/event/aaltos-5-99-breakfast-special/2028-01-28/
LOCATION:Aaltos 🟢
CATEGORIES:Aaltos Buffets
ATTACH;FMTTYPE=image/png:https://www.canadinns.com/wp-content/uploads/04-02-26-Aaltos-Breakfast-Special-IG-scaled.png
END:VEVENT
BEGIN:VEVENT
DTSTART;TZID=America/Winnipeg:20280131T070000
DTEND;TZID=America/Winnipeg:20280131T103000
DTSTAMP:20260420T015256
CREATED:20260402T160402Z
LAST-MODIFIED:20260402T160402Z
UID:10051646-1832914800-1832927400@www.canadinns.com
SUMMARY:🟢 Aaltos - $5.99 Breakfast Special
DESCRIPTION:Aaltos $5.99 Breakfast Special\nKickstart your morning with Aaltos $5.99* Breakfast with a beverage purchase! Choose between a Classic Breakfast or Pancake Breakfast! \n📅 Weekdays until 10:30AM | Dine-in only Limited time offer. \n*Excludes holidays and not available at Aaltos Health Sciences Centre. \n\nVisit canadinns.com/aaltos for more info!
URL:https://www.canadinns.com/event/aaltos-5-99-breakfast-special/2028-01-31/
LOCATION:Aaltos 🟢
CATEGORIES:Aaltos Buffets
ATTACH;FMTTYPE=image/png:https://www.canadinns.com/wp-content/uploads/04-02-26-Aaltos-Breakfast-Special-IG-scaled.png
END:VEVENT
BEGIN:VEVENT
DTSTART;TZID=America/Winnipeg:20280201T070000
DTEND;TZID=America/Winnipeg:20280201T103000
DTSTAMP:20260420T015256
CREATED:20260402T160402Z
LAST-MODIFIED:20260402T160402Z
UID:10051647-1833001200-1833013800@www.canadinns.com
SUMMARY:🟢 Aaltos - $5.99 Breakfast Special
DESCRIPTION:Aaltos $5.99 Breakfast Special\nKickstart your morning with Aaltos $5.99* Breakfast with a beverage purchase! Choose between a Classic Breakfast or Pancake Breakfast! \n📅 Weekdays until 10:30AM | Dine-in only Limited time offer. \n*Excludes holidays and not available at Aaltos Health Sciences Centre. \n\nVisit canadinns.com/aaltos for more info!
URL:https://www.canadinns.com/event/aaltos-5-99-breakfast-special/2028-02-01/
LOCATION:Aaltos 🟢
CATEGORIES:Aaltos Buffets
ATTACH;FMTTYPE=image/png:https://www.canadinns.com/wp-content/uploads/04-02-26-Aaltos-Breakfast-Special-IG-scaled.png
END:VEVENT
BEGIN:VEVENT
DTSTART;TZID=America/Winnipeg:20280202T070000
DTEND;TZID=America/Winnipeg:20280202T103000
DTSTAMP:20260420T015256
CREATED:20260402T160402Z
LAST-MODIFIED:20260402T160402Z
UID:10051648-1833087600-1833100200@www.canadinns.com
SUMMARY:🟢 Aaltos - $5.99 Breakfast Special
DESCRIPTION:Aaltos $5.99 Breakfast Special\nKickstart your morning with Aaltos $5.99* Breakfast with a beverage purchase! Choose between a Classic Breakfast or Pancake Breakfast! \n📅 Weekdays until 10:30AM | Dine-in only Limited time offer. \n*Excludes holidays and not available at Aaltos Health Sciences Centre. \n\nVisit canadinns.com/aaltos for more info!
URL:https://www.canadinns.com/event/aaltos-5-99-breakfast-special/2028-02-02/
LOCATION:Aaltos 🟢
CATEGORIES:Aaltos Buffets
ATTACH;FMTTYPE=image/png:https://www.canadinns.com/wp-content/uploads/04-02-26-Aaltos-Breakfast-Special-IG-scaled.png
END:VEVENT
BEGIN:VEVENT
DTSTART;TZID=America/Winnipeg:20280203T070000
DTEND;TZID=America/Winnipeg:20280203T103000
DTSTAMP:20260420T015256
CREATED:20260402T160402Z
LAST-MODIFIED:20260402T160402Z
UID:10051649-1833174000-1833186600@www.canadinns.com
SUMMARY:🟢 Aaltos - $5.99 Breakfast Special
DESCRIPTION:Aaltos $5.99 Breakfast Special\nKickstart your morning with Aaltos $5.99* Breakfast with a beverage purchase! Choose between a Classic Breakfast or Pancake Breakfast! \n📅 Weekdays until 10:30AM | Dine-in only Limited time offer. \n*Excludes holidays and not available at Aaltos Health Sciences Centre. \n\nVisit canadinns.com/aaltos for more info!
URL:https://www.canadinns.com/event/aaltos-5-99-breakfast-special/2028-02-03/
LOCATION:Aaltos 🟢
CATEGORIES:Aaltos Buffets
ATTACH;FMTTYPE=image/png:https://www.canadinns.com/wp-content/uploads/04-02-26-Aaltos-Breakfast-Special-IG-scaled.png
END:VEVENT
BEGIN:VEVENT
DTSTART;TZID=America/Winnipeg:20280204T070000
DTEND;TZID=America/Winnipeg:20280204T103000
DTSTAMP:20260420T015256
CREATED:20260402T160402Z
LAST-MODIFIED:20260402T160402Z
UID:10051650-1833260400-1833273000@www.canadinns.com
SUMMARY:🟢 Aaltos - $5.99 Breakfast Special
DESCRIPTION:Aaltos $5.99 Breakfast Special\nKickstart your morning with Aaltos $5.99* Breakfast with a beverage purchase! Choose between a Classic Breakfast or Pancake Breakfast! \n📅 Weekdays until 10:30AM | Dine-in only Limited time offer. \n*Excludes holidays and not available at Aaltos Health Sciences Centre. \n\nVisit canadinns.com/aaltos for more info!
URL:https://www.canadinns.com/event/aaltos-5-99-breakfast-special/2028-02-04/
LOCATION:Aaltos 🟢
CATEGORIES:Aaltos Buffets
ATTACH;FMTTYPE=image/png:https://www.canadinns.com/wp-content/uploads/04-02-26-Aaltos-Breakfast-Special-IG-scaled.png
END:VEVENT
BEGIN:VEVENT
DTSTART;TZID=America/Winnipeg:20280207T070000
DTEND;TZID=America/Winnipeg:20280207T103000
DTSTAMP:20260420T015256
CREATED:20260402T160402Z
LAST-MODIFIED:20260402T160402Z
UID:10051651-1833519600-1833532200@www.canadinns.com
SUMMARY:🟢 Aaltos - $5.99 Breakfast Special
DESCRIPTION:Aaltos $5.99 Breakfast Special\nKickstart your morning with Aaltos $5.99* Breakfast with a beverage purchase! Choose between a Classic Breakfast or Pancake Breakfast! \n📅 Weekdays until 10:30AM | Dine-in only Limited time offer. \n*Excludes holidays and not available at Aaltos Health Sciences Centre. \n\nVisit canadinns.com/aaltos for more info!
URL:https://www.canadinns.com/event/aaltos-5-99-breakfast-special/2028-02-07/
LOCATION:Aaltos 🟢
CATEGORIES:Aaltos Buffets
ATTACH;FMTTYPE=image/png:https://www.canadinns.com/wp-content/uploads/04-02-26-Aaltos-Breakfast-Special-IG-scaled.png
END:VEVENT
BEGIN:VEVENT
DTSTART;TZID=America/Winnipeg:20280208T070000
DTEND;TZID=America/Winnipeg:20280208T103000
DTSTAMP:20260420T015256
CREATED:20260402T160402Z
LAST-MODIFIED:20260402T160402Z
UID:10051652-1833606000-1833618600@www.canadinns.com
SUMMARY:🟢 Aaltos - $5.99 Breakfast Special
DESCRIPTION:Aaltos $5.99 Breakfast Special\nKickstart your morning with Aaltos $5.99* Breakfast with a beverage purchase! Choose between a Classic Breakfast or Pancake Breakfast! \n📅 Weekdays until 10:30AM | Dine-in only Limited time offer. \n*Excludes holidays and not available at Aaltos Health Sciences Centre. \n\nVisit canadinns.com/aaltos for more info!
URL:https://www.canadinns.com/event/aaltos-5-99-breakfast-special/2028-02-08/
LOCATION:Aaltos 🟢
CATEGORIES:Aaltos Buffets
ATTACH;FMTTYPE=image/png:https://www.canadinns.com/wp-content/uploads/04-02-26-Aaltos-Breakfast-Special-IG-scaled.png
END:VEVENT
BEGIN:VEVENT
DTSTART;TZID=America/Winnipeg:20280209T070000
DTEND;TZID=America/Winnipeg:20280209T103000
DTSTAMP:20260420T015256
CREATED:20260402T160402Z
LAST-MODIFIED:20260402T160402Z
UID:10051653-1833692400-1833705000@www.canadinns.com
SUMMARY:🟢 Aaltos - $5.99 Breakfast Special
DESCRIPTION:Aaltos $5.99 Breakfast Special\nKickstart your morning with Aaltos $5.99* Breakfast with a beverage purchase! Choose between a Classic Breakfast or Pancake Breakfast! \n📅 Weekdays until 10:30AM | Dine-in only Limited time offer. \n*Excludes holidays and not available at Aaltos Health Sciences Centre. \n\nVisit canadinns.com/aaltos for more info!
URL:https://www.canadinns.com/event/aaltos-5-99-breakfast-special/2028-02-09/
LOCATION:Aaltos 🟢
CATEGORIES:Aaltos Buffets
ATTACH;FMTTYPE=image/png:https://www.canadinns.com/wp-content/uploads/04-02-26-Aaltos-Breakfast-Special-IG-scaled.png
END:VEVENT
END:VCALENDAR