BEGIN:VCALENDAR
VERSION:2.0
PRODID:-//Canad Inns - ECPv6.15.17.1//NONSGML v1.0//EN
CALSCALE:GREGORIAN
METHOD:PUBLISH
X-ORIGINAL-URL:https://www.canadinns.com
X-WR-CALDESC:Events for Canad Inns
REFRESH-INTERVAL;VALUE=DURATION:PT1H
X-Robots-Tag:noindex
X-PUBLISHED-TTL:PT1H
BEGIN:VTIMEZONE
TZID:America/Winnipeg
BEGIN:DAYLIGHT
TZOFFSETFROM:-0600
TZOFFSETTO:-0500
TZNAME:CDT
DTSTART:20270314T080000
END:DAYLIGHT
BEGIN:STANDARD
TZOFFSETFROM:-0500
TZOFFSETTO:-0600
TZNAME:CST
DTSTART:20271107T070000
END:STANDARD
BEGIN:DAYLIGHT
TZOFFSETFROM:-0600
TZOFFSETTO:-0500
TZNAME:CDT
DTSTART:20280312T080000
END:DAYLIGHT
BEGIN:STANDARD
TZOFFSETFROM:-0500
TZOFFSETTO:-0600
TZNAME:CST
DTSTART:20281105T070000
END:STANDARD
BEGIN:DAYLIGHT
TZOFFSETFROM:-0600
TZOFFSETTO:-0500
TZNAME:CDT
DTSTART:20290311T080000
END:DAYLIGHT
BEGIN:STANDARD
TZOFFSETFROM:-0500
TZOFFSETTO:-0600
TZNAME:CST
DTSTART:20291104T070000
END:STANDARD
END:VTIMEZONE
BEGIN:VEVENT
DTSTART;TZID=America/Winnipeg:20280801T070000
DTEND;TZID=America/Winnipeg:20280801T103000
DTSTAMP:20260422T061503
CREATED:20260402T160402Z
LAST-MODIFIED:20260402T160402Z
UID:10051777-1848726000-1848738600@www.canadinns.com
SUMMARY:🟢 Aaltos - $5.99 Breakfast Special
DESCRIPTION:Aaltos $5.99 Breakfast Special\nKickstart your morning with Aaltos $5.99* Breakfast with a beverage purchase! Choose between a Classic Breakfast or Pancake Breakfast! \n📅 Weekdays until 10:30AM | Dine-in only Limited time offer. \n*Excludes holidays and not available at Aaltos Health Sciences Centre. \n\nVisit canadinns.com/aaltos for more info!
URL:https://www.canadinns.com/event/aaltos-5-99-breakfast-special/2028-08-01/
LOCATION:Aaltos 🟢
CATEGORIES:Aaltos Buffets
ATTACH;FMTTYPE=image/png:https://www.canadinns.com/wp-content/uploads/04-02-26-Aaltos-Breakfast-Special-IG-scaled.png
END:VEVENT
BEGIN:VEVENT
DTSTART;TZID=America/Winnipeg:20280801T100000
DTEND;TZID=America/Winnipeg:20280801T180000
DTSTAMP:20260422T061503
CREATED:20240603T165315Z
LAST-MODIFIED:20240603T165315Z
UID:10032917-1848736800-1848765600@www.canadinns.com
SUMMARY:🟠 Garbonzo’s Sports Pub – Happier Hours Until 6pm
DESCRIPTION:
URL:https://www.canadinns.com/event/garbonzos-sports-pub-happier-hours-until-6pm/2028-08-01/
LOCATION:Garbonzo’s 🟠
CATEGORIES:Garbonzo’s Daily Deals
ATTACH;FMTTYPE=image/jpeg:https://www.canadinns.com/wp-content/uploads/2023-11-15_19087-CI-Garbonzos-Anti-Inflation-Happier-Hours-1080x1080-Nov2023-FNL.jpg
END:VEVENT
BEGIN:VEVENT
DTSTART;TZID=America/Winnipeg:20280801T100000
DTEND;TZID=America/Winnipeg:20280801T235900
DTSTAMP:20260422T061503
CREATED:20230327T121139Z
LAST-MODIFIED:20240603T154252Z
UID:10030305-1848736800-1848787140@www.canadinns.com
SUMMARY:🟠 Garbonzo’s Sports Pub – Two-Topping Tuesday
DESCRIPTION:
URL:https://www.canadinns.com/event/garbonzos-sports-pub-two-topping-tuesday/2028-08-01/
LOCATION:Garbonzo’s 🟠
CATEGORIES:Garbonzo’s Daily Deals
ATTACH;FMTTYPE=image/jpeg:https://www.canadinns.com/wp-content/uploads/GSP_Meal-Deal_Tuesday.jpg
END:VEVENT
BEGIN:VEVENT
DTSTART;TZID=America/Winnipeg:20280801T110000
DTEND;TZID=America/Winnipeg:20280801T110000
DTSTAMP:20260422T061503
CREATED:20240826T195528Z
LAST-MODIFIED:20240826T195910Z
UID:10040156-1848740400-1848740400@www.canadinns.com
SUMMARY:🟢 Aaltos Soup\, Salad and Dessert Bar
DESCRIPTION:Craving a fresh\, healthy and a delicious meal? Enjoy our Soup\, Salad and Dessert bar at Aaltos that includes three daily soups\, over 60-items salad bar and delicious desserts. It’s the perfect way to satisfy your cravings all for one meal!
URL:https://www.canadinns.com/event/%f0%9f%9f%a2-aaltos-soup-salad-and-dessert-bar/2028-08-01/
LOCATION:Aaltos 🟢
ATTACH;FMTTYPE=image/jpeg:https://www.canadinns.com/wp-content/uploads/2024-08-20-CI-Aaltos-Soup-Salad-and-Dessert-Buffet11x17-Sept3-2024-FNL2-19995-scaled.jpg
END:VEVENT
END:VCALENDAR